
BEGIN:VCALENDAR
VERSION:2.0
PRODID:-//Visit Richfield - ECPv6.15.20//NONSGML v1.0//EN
CALSCALE:GREGORIAN
METHOD:PUBLISH
X-WR-CALNAME:Visit Richfield
X-ORIGINAL-URL:https://visitrichfield.com
X-WR-CALDESC:Events for Visit Richfield
REFRESH-INTERVAL;VALUE=DURATION:PT1H
X-Robots-Tag:noindex
X-PUBLISHED-TTL:PT1H
BEGIN:VTIMEZONE
TZID:America/Chicago
BEGIN:DAYLIGHT
TZOFFSETFROM:-0600
TZOFFSETTO:-0500
TZNAME:CDT
DTSTART:20230312T080000
END:DAYLIGHT
BEGIN:STANDARD
TZOFFSETFROM:-0500
TZOFFSETTO:-0600
TZNAME:CST
DTSTART:20231105T070000
END:STANDARD
BEGIN:DAYLIGHT
TZOFFSETFROM:-0600
TZOFFSETTO:-0500
TZNAME:CDT
DTSTART:20240310T080000
END:DAYLIGHT
BEGIN:STANDARD
TZOFFSETFROM:-0500
TZOFFSETTO:-0600
TZNAME:CST
DTSTART:20241103T070000
END:STANDARD
BEGIN:DAYLIGHT
TZOFFSETFROM:-0600
TZOFFSETTO:-0500
TZNAME:CDT
DTSTART:20250309T080000
END:DAYLIGHT
BEGIN:STANDARD
TZOFFSETFROM:-0500
TZOFFSETTO:-0600
TZNAME:CST
DTSTART:20251102T070000
END:STANDARD
END:VTIMEZONE
BEGIN:VEVENT
DTSTART;TZID=America/Chicago:20240807T183000
DTEND;TZID=America/Chicago:20240807T203000
DTSTAMP:20260424T173920
CREATED:20240707T233333Z
LAST-MODIFIED:20240707T233333Z
UID:10362-1723055400-1723062600@visitrichfield.com
SUMMARY:Free Bilingual Fishing Night
DESCRIPTION:Spend an evening in the great outdoors learning the basics and trying out fishing with the help of the Outdoor Recreation School and a Spanish-speaking translator from Three Rivers Park at the Taft Park Fishing Pier. All equipmet to catchfish wil be provided and registration is free. Pre-register to guarantee a spot (day-of drop-ins are allowed if space is available).
URL:https://visitrichfield.com/event/free-bilingual-fishing-night/2024-08-07/
LOCATION:Taft Park\, 6105 Bloomington Avenue South\, Richfield\, MN\, 55423\, United States
CATEGORIES:active,outdoors
ATTACH;FMTTYPE=image/jpeg:https://visitrichfield.com/wp-content/uploads/2023/07/kid-boy-hold-fish-fishing-rod-169866680.jpg
END:VEVENT
BEGIN:VEVENT
DTSTART;TZID=America/Chicago:20240712T183000
DTEND;TZID=America/Chicago:20240712T203000
DTSTAMP:20260424T173920
CREATED:20240707T233333Z
LAST-MODIFIED:20240707T233334Z
UID:10360-1720809000-1720816200@visitrichfield.com
SUMMARY:Free Bilingual Fishing Night
DESCRIPTION:Spend an evening in the great outdoors learning the basics and trying out fishing with the help of the Outdoor Recreation School and a Spanish-speaking translator from Three Rivers Park at the Taft Park Fishing Pier. All equipmet to catchfish wil be provided and registration is free. Pre-register to guarantee a spot (day-of drop-ins are allowed if space is available).
URL:https://visitrichfield.com/event/free-bilingual-fishing-night/2024-07-12/
LOCATION:Taft Park\, 6105 Bloomington Avenue South\, Richfield\, MN\, 55423\, United States
CATEGORIES:active,outdoors
ATTACH;FMTTYPE=image/jpeg:https://visitrichfield.com/wp-content/uploads/2023/07/kid-boy-hold-fish-fishing-rod-169866680.jpg
END:VEVENT
END:VCALENDAR