
BEGIN:VCALENDAR
VERSION:2.0
PRODID:-//Visit Richfield - ECPv6.15.20//NONSGML v1.0//EN
CALSCALE:GREGORIAN
METHOD:PUBLISH
X-WR-CALNAME:Visit Richfield
X-ORIGINAL-URL:https://visitrichfield.com
X-WR-CALDESC:Events for Visit Richfield
REFRESH-INTERVAL;VALUE=DURATION:PT1H
X-Robots-Tag:noindex
X-PUBLISHED-TTL:PT1H
BEGIN:VTIMEZONE
TZID:America/New_York
BEGIN:DAYLIGHT
TZOFFSETFROM:-0500
TZOFFSETTO:-0400
TZNAME:EDT
DTSTART:20170312T070000
END:DAYLIGHT
BEGIN:STANDARD
TZOFFSETFROM:-0400
TZOFFSETTO:-0500
TZNAME:EST
DTSTART:20171105T060000
END:STANDARD
BEGIN:DAYLIGHT
TZOFFSETFROM:-0500
TZOFFSETTO:-0400
TZNAME:EDT
DTSTART:20180311T070000
END:DAYLIGHT
BEGIN:STANDARD
TZOFFSETFROM:-0400
TZOFFSETTO:-0500
TZNAME:EST
DTSTART:20181104T060000
END:STANDARD
BEGIN:DAYLIGHT
TZOFFSETFROM:-0500
TZOFFSETTO:-0400
TZNAME:EDT
DTSTART:20190310T070000
END:DAYLIGHT
BEGIN:STANDARD
TZOFFSETFROM:-0400
TZOFFSETTO:-0500
TZNAME:EST
DTSTART:20191103T060000
END:STANDARD
END:VTIMEZONE
BEGIN:VEVENT
DTSTART;TZID=America/New_York:20181214T200000
DTEND;TZID=America/New_York:20181214T200000
DTSTAMP:20260423T210143
CREATED:20181129T041142Z
LAST-MODIFIED:20181129T041142Z
UID:5123-1544817600-1544817600@visitrichfield.com
SUMMARY:The Blenders: The Holiday Soul Tour
DESCRIPTION:Sit back and enjoy the sweet harmonies of the acclaimed musical group\, The Blenders. The Blenders have appeared with The Righteous Brothers\, Howie Mandel\, and have been featured on the Today Show on NBC. The Blenders have spent over twenty five touring the U.S. and are bringing back their popular Holiday Soul Tour to the Pantages Theatre here in Minneapolis! Richfield is only minutes away from the Pantages Theatre. Book your stay now.
URL:https://visitrichfield.com/event/the-blenders-the-holiday-soul-tour-2/2018-12-14/
CATEGORIES:Richfield Events
ATTACH;FMTTYPE=image/jpeg:https://visitrichfield.com/wp-content/uploads/2018/11/TheBlenders.jpg
END:VEVENT
END:VCALENDAR