
BEGIN:VCALENDAR
VERSION:2.0
PRODID:-//Visit Richfield - ECPv6.15.20//NONSGML v1.0//EN
CALSCALE:GREGORIAN
METHOD:PUBLISH
X-ORIGINAL-URL:https://visitrichfield.com
X-WR-CALDESC:Events for Visit Richfield
REFRESH-INTERVAL;VALUE=DURATION:PT1H
X-Robots-Tag:noindex
X-PUBLISHED-TTL:PT1H
BEGIN:VTIMEZONE
TZID:America/New_York
BEGIN:DAYLIGHT
TZOFFSETFROM:-0500
TZOFFSETTO:-0400
TZNAME:EDT
DTSTART:20170312T070000
END:DAYLIGHT
BEGIN:STANDARD
TZOFFSETFROM:-0400
TZOFFSETTO:-0500
TZNAME:EST
DTSTART:20171105T060000
END:STANDARD
BEGIN:DAYLIGHT
TZOFFSETFROM:-0500
TZOFFSETTO:-0400
TZNAME:EDT
DTSTART:20180311T070000
END:DAYLIGHT
BEGIN:STANDARD
TZOFFSETFROM:-0400
TZOFFSETTO:-0500
TZNAME:EST
DTSTART:20181104T060000
END:STANDARD
BEGIN:DAYLIGHT
TZOFFSETFROM:-0500
TZOFFSETTO:-0400
TZNAME:EDT
DTSTART:20190310T070000
END:DAYLIGHT
BEGIN:STANDARD
TZOFFSETFROM:-0400
TZOFFSETTO:-0500
TZNAME:EST
DTSTART:20191103T060000
END:STANDARD
END:VTIMEZONE
BEGIN:VEVENT
DTSTART;VALUE=DATE:20180907
DTEND;VALUE=DATE:20180909
DTSTAMP:20260419T171248
CREATED:20180827T191121Z
LAST-MODIFIED:20180827T191121Z
UID:1284-1536278400-1536451199@visitrichfield.com
SUMMARY:Mission of Mercy: Minnesota Dental Foundation
DESCRIPTION:The Minnesota Dental Association and the Minnesota Dental Foundation have put together Mission of Mercy\, a statewide dental access program. This event provides free dental care for those who have difficult accesses dental care. Register to volunteer at this life changing event or donate to help those in need of dental care. \nPhoto Via Minneapolis Convention Center
URL:https://visitrichfield.com/event/mission-of-mercy-minnesota-dental-foundation/
LOCATION:MN
CATEGORIES:Minneapolis Convention Center,Richfield Events
ATTACH;FMTTYPE=image/png:https://visitrichfield.com/wp-content/uploads/2018/08/mission-of-mercy.png
END:VEVENT
BEGIN:VEVENT
DTSTART;VALUE=DATE:20180907
DTEND;VALUE=DATE:20180909
DTSTAMP:20260419T171248
CREATED:20180827T191121Z
LAST-MODIFIED:20180827T191121Z
UID:5081-1536278400-1536451199@visitrichfield.com
SUMMARY:Mission of Mercy: Minnesota Dental Foundation
DESCRIPTION:The Minnesota Dental Association and the Minnesota Dental Foundation have put together Mission of Mercy\, a statewide dental access program. This event provides free dental care for those who have difficult accesses dental care. Register to volunteer at this life changing event or donate to help those in need of dental care. \nPhoto Via Minneapolis Convention Center
URL:https://visitrichfield.com/event/mission-of-mercy-minnesota-dental-foundation-2/
LOCATION:MN
CATEGORIES:Minneapolis Convention Center,Richfield Events
ATTACH;FMTTYPE=image/png:https://visitrichfield.com/wp-content/uploads/2018/08/mission-of-mercy.png
END:VEVENT
END:VCALENDAR