
BEGIN:VCALENDAR
VERSION:2.0
PRODID:-//Visit Richfield - ECPv6.15.20//NONSGML v1.0//EN
CALSCALE:GREGORIAN
METHOD:PUBLISH
X-ORIGINAL-URL:https://visitrichfield.com
X-WR-CALDESC:Events for Visit Richfield
REFRESH-INTERVAL;VALUE=DURATION:PT1H
X-Robots-Tag:noindex
X-PUBLISHED-TTL:PT1H
BEGIN:VTIMEZONE
TZID:America/New_York
BEGIN:DAYLIGHT
TZOFFSETFROM:-0500
TZOFFSETTO:-0400
TZNAME:EDT
DTSTART:20170312T070000
END:DAYLIGHT
BEGIN:STANDARD
TZOFFSETFROM:-0400
TZOFFSETTO:-0500
TZNAME:EST
DTSTART:20171105T060000
END:STANDARD
BEGIN:DAYLIGHT
TZOFFSETFROM:-0500
TZOFFSETTO:-0400
TZNAME:EDT
DTSTART:20180311T070000
END:DAYLIGHT
BEGIN:STANDARD
TZOFFSETFROM:-0400
TZOFFSETTO:-0500
TZNAME:EST
DTSTART:20181104T060000
END:STANDARD
BEGIN:DAYLIGHT
TZOFFSETFROM:-0500
TZOFFSETTO:-0400
TZNAME:EDT
DTSTART:20190310T070000
END:DAYLIGHT
BEGIN:STANDARD
TZOFFSETFROM:-0400
TZOFFSETTO:-0500
TZNAME:EST
DTSTART:20191103T060000
END:STANDARD
END:VTIMEZONE
BEGIN:VEVENT
DTSTART;TZID=America/New_York:20181021T200000
DTEND;TZID=America/New_York:20181021T230000
DTSTAMP:20260424T150557
CREATED:20180920T132226Z
LAST-MODIFIED:20180920T132226Z
UID:1322-1540152000-1540162800@visitrichfield.com
SUMMARY:Phil Collins Not Dead Yet Live!
DESCRIPTION:In 2015\, the legendary Phil Collins announced that he was officially out of retirement and since then\, he wrote his much-anticipated memoir\, “Not Dead Yet”\, and is now coming to the Target Center for his “Not Dead Yet” concert! Enjoy a night of music and celebration with one of the most successful performers of all time. Catch the show and stay in one of our affordable hotels\, located just 15 minutes away from the Target Center. Book your stay now.  
URL:https://visitrichfield.com/event/phil-collins-not-dead-yet-live/
LOCATION:MN
CATEGORIES:Richfield Events,Target Center
ATTACH;FMTTYPE=image/jpeg:https://visitrichfield.com/wp-content/uploads/2018/09/PhilCollinsLive.jpg
END:VEVENT
BEGIN:VEVENT
DTSTART;TZID=America/New_York:20181021T200000
DTEND;TZID=America/New_York:20181021T230000
DTSTAMP:20260424T150557
CREATED:20180920T132226Z
LAST-MODIFIED:20180920T132226Z
UID:5089-1540152000-1540162800@visitrichfield.com
SUMMARY:Phil Collins Not Dead Yet Live!
DESCRIPTION:In 2015\, the legendary Phil Collins announced that he was officially out of retirement and since then\, he wrote his much-anticipated memoir\, “Not Dead Yet”\, and is now coming to the Target Center for his “Not Dead Yet” concert! Enjoy a night of music and celebration with one of the most successful performers of all time. Catch the show and stay in one of our affordable hotels\, located just 15 minutes away from the Target Center. Book your stay now.  
URL:https://visitrichfield.com/event/phil-collins-not-dead-yet-live-2/
LOCATION:MN
CATEGORIES:Richfield Events,Target Center
ATTACH;FMTTYPE=image/jpeg:https://visitrichfield.com/wp-content/uploads/2018/09/PhilCollinsLive.jpg
END:VEVENT
END:VCALENDAR