
BEGIN:VCALENDAR
VERSION:2.0
PRODID:-//Visit Richfield - ECPv6.15.20//NONSGML v1.0//EN
CALSCALE:GREGORIAN
METHOD:PUBLISH
X-ORIGINAL-URL:https://visitrichfield.com
X-WR-CALDESC:Events for Visit Richfield
REFRESH-INTERVAL;VALUE=DURATION:PT1H
X-Robots-Tag:noindex
X-PUBLISHED-TTL:PT1H
BEGIN:VTIMEZONE
TZID:America/New_York
BEGIN:DAYLIGHT
TZOFFSETFROM:-0500
TZOFFSETTO:-0400
TZNAME:EDT
DTSTART:20170312T070000
END:DAYLIGHT
BEGIN:STANDARD
TZOFFSETFROM:-0400
TZOFFSETTO:-0500
TZNAME:EST
DTSTART:20171105T060000
END:STANDARD
BEGIN:DAYLIGHT
TZOFFSETFROM:-0500
TZOFFSETTO:-0400
TZNAME:EDT
DTSTART:20180311T070000
END:DAYLIGHT
BEGIN:STANDARD
TZOFFSETFROM:-0400
TZOFFSETTO:-0500
TZNAME:EST
DTSTART:20181104T060000
END:STANDARD
BEGIN:DAYLIGHT
TZOFFSETFROM:-0500
TZOFFSETTO:-0400
TZNAME:EDT
DTSTART:20190310T070000
END:DAYLIGHT
BEGIN:STANDARD
TZOFFSETFROM:-0400
TZOFFSETTO:-0500
TZNAME:EST
DTSTART:20191103T060000
END:STANDARD
END:VTIMEZONE
BEGIN:VEVENT
DTSTART;TZID=America/New_York:20181102T120000
DTEND;TZID=America/New_York:20181102T190000
DTSTAMP:20260421T061804
CREATED:20181019T191057Z
LAST-MODIFIED:20181019T191057Z
UID:1663-1541160000-1541185200@visitrichfield.com
SUMMARY:Minneapolis Gift and Art Expo
DESCRIPTION:Come to the Minneapolis Convention center for everything you may need for the upcoming Holiday season! You will discover everything from paintings to an array of holiday gifts\, homewares\, and more. Explore holiday crafting demos and various workshops for woodworking and other types of crafts. Richfield is just minutes away from the Minneapolis Convention Center. Book your stay now.
URL:https://visitrichfield.com/event/minneapolis-gift-and-art-expo/2018-11-02/
LOCATION:MN
CATEGORIES:Minneapolis Convention Center,Richfield Events
ATTACH;FMTTYPE=image/jpeg:https://visitrichfield.com/wp-content/uploads/2018/10/GiftandArtExpo.jpg
END:VEVENT
BEGIN:VEVENT
DTSTART;TZID=America/New_York:20181102T120000
DTEND;TZID=America/New_York:20181102T190000
DTSTAMP:20260421T061804
CREATED:20181019T191057Z
LAST-MODIFIED:20181019T191057Z
UID:5105-1541160000-1541185200@visitrichfield.com
SUMMARY:Minneapolis Gift and Art Expo
DESCRIPTION:Come to the Minneapolis Convention center for everything you may need for the upcoming Holiday season! You will discover everything from paintings to an array of holiday gifts\, homewares\, and more. Explore holiday crafting demos and various workshops for woodworking and other types of crafts. Richfield is just minutes away from the Minneapolis Convention Center. Book your stay now.
URL:https://visitrichfield.com/event/minneapolis-gift-and-art-expo-2/2018-11-02/
LOCATION:MN
CATEGORIES:Minneapolis Convention Center,Richfield Events
ATTACH;FMTTYPE=image/jpeg:https://visitrichfield.com/wp-content/uploads/2018/10/GiftandArtExpo.jpg
END:VEVENT
BEGIN:VEVENT
DTSTART;TZID=America/New_York:20181102T200000
DTEND;TZID=America/New_York:20181102T200000
DTSTAMP:20260421T061804
CREATED:20181019T182852Z
LAST-MODIFIED:20181019T182852Z
UID:1633-1541188800-1541188800@visitrichfield.com
SUMMARY:Josh Groban Bridges Tour
DESCRIPTION:Award winning singer and songwriter\, Josh Groban\, will be coming to Xcel Energy Center with special guest\, Idina Menzel. Josh Groban is currently working on his eight album and will be performing hit songs from both the past and the present- this is an event you won’t want to miss! Richfield is located just 20 minutes away from the Xcel Energy Center. Catch the show and stay in one of our affordable\, local hotels. Book your stay now.
URL:https://visitrichfield.com/event/josh-groban-bridges-tour/
LOCATION:MN
CATEGORIES:Richfield Events
ATTACH;FMTTYPE=image/jpeg:https://visitrichfield.com/wp-content/uploads/2018/10/JoshGroban.jpg
END:VEVENT
BEGIN:VEVENT
DTSTART;TZID=America/New_York:20181102T200000
DTEND;TZID=America/New_York:20181102T200000
DTSTAMP:20260421T061804
CREATED:20181019T182852Z
LAST-MODIFIED:20181019T182852Z
UID:5099-1541188800-1541188800@visitrichfield.com
SUMMARY:Josh Groban Bridges Tour
DESCRIPTION:Award winning singer and songwriter\, Josh Groban\, will be coming to Xcel Energy Center with special guest\, Idina Menzel. Josh Groban is currently working on his eight album and will be performing hit songs from both the past and the present- this is an event you won’t want to miss! Richfield is located just 20 minutes away from the Xcel Energy Center. Catch the show and stay in one of our affordable\, local hotels. Book your stay now.
URL:https://visitrichfield.com/event/josh-groban-bridges-tour-2/
LOCATION:MN
CATEGORIES:Richfield Events
ATTACH;FMTTYPE=image/jpeg:https://visitrichfield.com/wp-content/uploads/2018/10/JoshGroban.jpg
END:VEVENT
END:VCALENDAR