
BEGIN:VCALENDAR
VERSION:2.0
PRODID:-//Visit Richfield - ECPv6.15.20//NONSGML v1.0//EN
CALSCALE:GREGORIAN
METHOD:PUBLISH
X-ORIGINAL-URL:https://visitrichfield.com
X-WR-CALDESC:Events for Visit Richfield
REFRESH-INTERVAL;VALUE=DURATION:PT1H
X-Robots-Tag:noindex
X-PUBLISHED-TTL:PT1H
BEGIN:VTIMEZONE
TZID:America/New_York
BEGIN:DAYLIGHT
TZOFFSETFROM:-0500
TZOFFSETTO:-0400
TZNAME:EDT
DTSTART:20170312T070000
END:DAYLIGHT
BEGIN:STANDARD
TZOFFSETFROM:-0400
TZOFFSETTO:-0500
TZNAME:EST
DTSTART:20171105T060000
END:STANDARD
BEGIN:DAYLIGHT
TZOFFSETFROM:-0500
TZOFFSETTO:-0400
TZNAME:EDT
DTSTART:20180311T070000
END:DAYLIGHT
BEGIN:STANDARD
TZOFFSETFROM:-0400
TZOFFSETTO:-0500
TZNAME:EST
DTSTART:20181104T060000
END:STANDARD
BEGIN:DAYLIGHT
TZOFFSETFROM:-0500
TZOFFSETTO:-0400
TZNAME:EDT
DTSTART:20190310T070000
END:DAYLIGHT
BEGIN:STANDARD
TZOFFSETFROM:-0400
TZOFFSETTO:-0500
TZNAME:EST
DTSTART:20191103T060000
END:STANDARD
END:VTIMEZONE
BEGIN:VEVENT
DTSTART;VALUE=DATE:20181106
DTEND;VALUE=DATE:20181107
DTSTAMP:20260424T032539
CREATED:20181019T185719Z
LAST-MODIFIED:20181019T185719Z
UID:1647-1541462400-1541548799@visitrichfield.com
SUMMARY:The Book of Mormon
DESCRIPTION:The Book of Mormon has been claimed as one of the best musicals of this century and it will keep you smiling and laughing throughout the whole play! This show follows two Mormon missionaries who travel to Uganda to convert the natives to Mormonism. Richfield is just minutes away from the Orpheum Theatre. Book your stay now.
URL:https://visitrichfield.com/event/the-book-of-mormon/2018-11-06/
LOCATION:MN
CATEGORIES:Richfield Events
ATTACH;FMTTYPE=image/jpeg:https://visitrichfield.com/wp-content/uploads/2018/10/BookofMormonPlay.jpg
END:VEVENT
BEGIN:VEVENT
DTSTART;VALUE=DATE:20181106
DTEND;VALUE=DATE:20181107
DTSTAMP:20260424T032539
CREATED:20181019T185719Z
LAST-MODIFIED:20181019T185719Z
UID:5104-1541462400-1541548799@visitrichfield.com
SUMMARY:The Book of Mormon
DESCRIPTION:The Book of Mormon has been claimed as one of the best musicals of this century and it will keep you smiling and laughing throughout the whole play! This show follows two Mormon missionaries who travel to Uganda to convert the natives to Mormonism. Richfield is just minutes away from the Orpheum Theatre. Book your stay now.
URL:https://visitrichfield.com/event/the-book-of-mormon-2/2018-11-06/
LOCATION:MN
CATEGORIES:Richfield Events
ATTACH;FMTTYPE=image/jpeg:https://visitrichfield.com/wp-content/uploads/2018/10/BookofMormonPlay.jpg
END:VEVENT
END:VCALENDAR