
BEGIN:VCALENDAR
VERSION:2.0
PRODID:-//Visit Richfield - ECPv6.15.20//NONSGML v1.0//EN
CALSCALE:GREGORIAN
METHOD:PUBLISH
X-ORIGINAL-URL:https://visitrichfield.com
X-WR-CALDESC:Events for Visit Richfield
REFRESH-INTERVAL;VALUE=DURATION:PT1H
X-Robots-Tag:noindex
X-PUBLISHED-TTL:PT1H
BEGIN:VTIMEZONE
TZID:America/New_York
BEGIN:DAYLIGHT
TZOFFSETFROM:-0500
TZOFFSETTO:-0400
TZNAME:EDT
DTSTART:20170312T070000
END:DAYLIGHT
BEGIN:STANDARD
TZOFFSETFROM:-0400
TZOFFSETTO:-0500
TZNAME:EST
DTSTART:20171105T060000
END:STANDARD
BEGIN:DAYLIGHT
TZOFFSETFROM:-0500
TZOFFSETTO:-0400
TZNAME:EDT
DTSTART:20180311T070000
END:DAYLIGHT
BEGIN:STANDARD
TZOFFSETFROM:-0400
TZOFFSETTO:-0500
TZNAME:EST
DTSTART:20181104T060000
END:STANDARD
BEGIN:DAYLIGHT
TZOFFSETFROM:-0500
TZOFFSETTO:-0400
TZNAME:EDT
DTSTART:20190310T070000
END:DAYLIGHT
BEGIN:STANDARD
TZOFFSETFROM:-0400
TZOFFSETTO:-0500
TZNAME:EST
DTSTART:20191103T060000
END:STANDARD
END:VTIMEZONE
BEGIN:VEVENT
DTSTART;TZID=America/New_York:20181111T130000
DTEND;TZID=America/New_York:20181111T160000
DTSTAMP:20260423T174228
CREATED:20181019T184022Z
LAST-MODIFIED:20181019T184022Z
UID:1641-1541941200-1541952000@visitrichfield.com
SUMMARY:Nature Play
DESCRIPTION:Come on out to Wood Lake Nature Center to drop your kids off for a fun-filled afternoon! This event is for ages 6-12 and will provide crafts\, games\, fort building\, stories and snacks around the fireplace\, and more! This event is $22 a person and you must register online at www.woodlakenaturecenter.org.
URL:https://visitrichfield.com/event/nature-play/
LOCATION:MN
CATEGORIES:Richfield Events
ATTACH;FMTTYPE=image/jpeg:https://visitrichfield.com/wp-content/uploads/2018/10/NaturePlay.jpg
END:VEVENT
BEGIN:VEVENT
DTSTART;TZID=America/New_York:20181111T130000
DTEND;TZID=America/New_York:20181111T160000
DTSTAMP:20260423T174228
CREATED:20181019T184022Z
LAST-MODIFIED:20181019T184022Z
UID:5101-1541941200-1541952000@visitrichfield.com
SUMMARY:Nature Play
DESCRIPTION:Come on out to Wood Lake Nature Center to drop your kids off for a fun-filled afternoon! This event is for ages 6-12 and will provide crafts\, games\, fort building\, stories and snacks around the fireplace\, and more! This event is $22 a person and you must register online at www.woodlakenaturecenter.org.
URL:https://visitrichfield.com/event/nature-play-2/
LOCATION:MN
CATEGORIES:Richfield Events
ATTACH;FMTTYPE=image/jpeg:https://visitrichfield.com/wp-content/uploads/2018/10/NaturePlay.jpg
END:VEVENT
END:VCALENDAR