
BEGIN:VCALENDAR
VERSION:2.0
PRODID:-//Visit Richfield - ECPv6.15.20//NONSGML v1.0//EN
CALSCALE:GREGORIAN
METHOD:PUBLISH
X-ORIGINAL-URL:https://visitrichfield.com
X-WR-CALDESC:Events for Visit Richfield
REFRESH-INTERVAL;VALUE=DURATION:PT1H
X-Robots-Tag:noindex
X-PUBLISHED-TTL:PT1H
BEGIN:VTIMEZONE
TZID:America/New_York
BEGIN:DAYLIGHT
TZOFFSETFROM:-0500
TZOFFSETTO:-0400
TZNAME:EDT
DTSTART:20170312T070000
END:DAYLIGHT
BEGIN:STANDARD
TZOFFSETFROM:-0400
TZOFFSETTO:-0500
TZNAME:EST
DTSTART:20171105T060000
END:STANDARD
BEGIN:DAYLIGHT
TZOFFSETFROM:-0500
TZOFFSETTO:-0400
TZNAME:EDT
DTSTART:20180311T070000
END:DAYLIGHT
BEGIN:STANDARD
TZOFFSETFROM:-0400
TZOFFSETTO:-0500
TZNAME:EST
DTSTART:20181104T060000
END:STANDARD
BEGIN:DAYLIGHT
TZOFFSETFROM:-0500
TZOFFSETTO:-0400
TZNAME:EDT
DTSTART:20190310T070000
END:DAYLIGHT
BEGIN:STANDARD
TZOFFSETFROM:-0400
TZOFFSETTO:-0500
TZNAME:EST
DTSTART:20191103T060000
END:STANDARD
END:VTIMEZONE
BEGIN:VEVENT
DTSTART;VALUE=DATE:20181113
DTEND;VALUE=DATE:20181230
DTSTAMP:20260420T232759
CREATED:20181129T042552Z
LAST-MODIFIED:20181129T042552Z
UID:2072-1542067200-1546127999@visitrichfield.com
SUMMARY:A Christmas Carol
DESCRIPTION:Relive the memorable and classic Christmas play\, “A Christmas Carol” at the Guthrie Theater in Minneapolis. Celebrate the season with this wonderful production directed by Lauren Keating and originally written by the legendary Charles Dickens. Richfield is only minutes away from the Guthrie Theater. Book your stay now. \nSee specific dates and times here .
URL:https://visitrichfield.com/event/a-christmas-carol/
LOCATION:MN
CATEGORIES:Richfield Events
ATTACH;FMTTYPE=image/jpeg:https://visitrichfield.com/wp-content/uploads/2018/11/ChristmasCarol.jpg
END:VEVENT
BEGIN:VEVENT
DTSTART;TZID=America/New_York:20181229T150000
DTEND;TZID=America/New_York:20181229T150000
DTSTAMP:20260420T232759
CREATED:20181129T041538Z
LAST-MODIFIED:20181129T041538Z
UID:2066-1546095600-1546095600@visitrichfield.com
SUMMARY:Trans-Siberian Orchestra
DESCRIPTION:The Hallmark Channel Trans-Siberian Orchestra presents The Ghosts of Christmas Eve: The Best of TSO and More Show. 2018 marks the Trans-Siberian Orchestra’s 20th anniversary tour of this phenomenal show that features songs like\, “Good King Joy\,” “Christmas Canon\,” and “This Christmas Day.” Richfield is only minutes away from the Xcel Energy Center. Book your stay now.
URL:https://visitrichfield.com/event/trans-siberian-orchestra/2018-12-29/
LOCATION:MN
CATEGORIES:Richfield Events,Xcel Energy Center
ATTACH;FMTTYPE=image/jpeg:https://visitrichfield.com/wp-content/uploads/2018/11/TransSiberian.jpg
END:VEVENT
BEGIN:VEVENT
DTSTART;TZID=America/New_York:20181229T150000
DTEND;TZID=America/New_York:20181229T150000
DTSTAMP:20260420T232759
CREATED:20181129T041538Z
LAST-MODIFIED:20181129T041538Z
UID:5125-1546095600-1546095600@visitrichfield.com
SUMMARY:Trans-Siberian Orchestra
DESCRIPTION:The Hallmark Channel Trans-Siberian Orchestra presents The Ghosts of Christmas Eve: The Best of TSO and More Show. 2018 marks the Trans-Siberian Orchestra’s 20th anniversary tour of this phenomenal show that features songs like\, “Good King Joy\,” “Christmas Canon\,” and “This Christmas Day.” Richfield is only minutes away from the Xcel Energy Center. Book your stay now.
URL:https://visitrichfield.com/event/trans-siberian-orchestra-2/2018-12-29/
LOCATION:MN
CATEGORIES:Richfield Events,Xcel Energy Center
ATTACH;FMTTYPE=image/jpeg:https://visitrichfield.com/wp-content/uploads/2018/11/TransSiberian.jpg
END:VEVENT
END:VCALENDAR