
BEGIN:VCALENDAR
VERSION:2.0
PRODID:-//Visit Richfield - ECPv6.15.20//NONSGML v1.0//EN
CALSCALE:GREGORIAN
METHOD:PUBLISH
X-WR-CALNAME:Visit Richfield
X-ORIGINAL-URL:https://visitrichfield.com
X-WR-CALDESC:Events for Visit Richfield
REFRESH-INTERVAL;VALUE=DURATION:PT1H
X-Robots-Tag:noindex
X-PUBLISHED-TTL:PT1H
BEGIN:VTIMEZONE
TZID:America/Chicago
BEGIN:DAYLIGHT
TZOFFSETFROM:-0600
TZOFFSETTO:-0500
TZNAME:CDT
DTSTART:20220313T080000
END:DAYLIGHT
BEGIN:STANDARD
TZOFFSETFROM:-0500
TZOFFSETTO:-0600
TZNAME:CST
DTSTART:20221106T070000
END:STANDARD
BEGIN:DAYLIGHT
TZOFFSETFROM:-0600
TZOFFSETTO:-0500
TZNAME:CDT
DTSTART:20230312T080000
END:DAYLIGHT
BEGIN:STANDARD
TZOFFSETFROM:-0500
TZOFFSETTO:-0600
TZNAME:CST
DTSTART:20231105T070000
END:STANDARD
BEGIN:DAYLIGHT
TZOFFSETFROM:-0600
TZOFFSETTO:-0500
TZNAME:CDT
DTSTART:20240310T080000
END:DAYLIGHT
BEGIN:STANDARD
TZOFFSETFROM:-0500
TZOFFSETTO:-0600
TZNAME:CST
DTSTART:20241103T070000
END:STANDARD
END:VTIMEZONE
BEGIN:VEVENT
DTSTART;TZID=America/Chicago:20231111T130000
DTEND;TZID=America/Chicago:20231111T150000
DTSTAMP:20260424T134424
CREATED:20231112T195436Z
LAST-MODIFIED:20231112T195436Z
UID:9265-1699707600-1699714800@visitrichfield.com
SUMMARY:Book Launch and Signing
DESCRIPTION:“Our Richfield Stories” is a collection of memories from your neighbors in Richfield. This new book will be available for purchase\, or you can bring your copy to be signed. Meet some of the contributors during this mini-reunion of classmates and friends in Richfield. During this event\, you can get 50% off a Richfield Historical Society membership at any level with a book purchase!
URL:https://visitrichfield.com/event/book-launch-and-signing/
LOCATION:Richfield Historical Society\, 6901 Lyndale Avenue South\, Richfield\, MN\, 55423
CATEGORIES:books,history,Richfield Events
ATTACH;FMTTYPE=image/jpeg:https://visitrichfield.com/wp-content/uploads/2023/11/Richfield-Stories.jpg
END:VEVENT
BEGIN:VEVENT
DTSTART;TZID=America/Chicago:20231111T140000
DTEND;TZID=America/Chicago:20231111T143000
DTSTAMP:20260424T134424
CREATED:20231112T203455Z
LAST-MODIFIED:20231112T203455Z
UID:9289-1699711200-1699713000@visitrichfield.com
SUMMARY:Veterans Day Ceremony
DESCRIPTION:  \nThe Honoring All Veterans Memorial Board invites you to honor our United States Military Veterans with a 30-minute ceremony at the Memorial site. The names of the veterans whose names have been engraved since May will be unveiled. Parking/wheelchair access is available at the American Legion Post 435 parking lot. Event held rain or shine.
URL:https://visitrichfield.com/event/veterans-day-ceremony-2/
LOCATION:Honoring All Veterans Memorial\, 6401 Portland Avenue South\, Richfield\, MN\, 55423
CATEGORIES:outdoors
ATTACH;FMTTYPE=image/jpeg:https://visitrichfield.com/wp-content/uploads/2023/11/Veterans-Day-Poster-2023.jpg
END:VEVENT
BEGIN:VEVENT
DTSTART;TZID=America/Chicago:20231111T154500
DTEND;TZID=America/Chicago:20231111T174500
DTSTAMP:20260424T134424
CREATED:20231112T194742Z
LAST-MODIFIED:20231112T194742Z
UID:9262-1699717500-1699724700@visitrichfield.com
SUMMARY:Free Skate with Team HF
DESCRIPTION:Hendrickson Foundation is a local nonprofit with a mission that supports diversified hockey and promoting inclusivity in the game of hockey. In honor of our veterans and Give to the Max Day\, we’re bringing the community together for a little skating event and some good camaraderie. Open to ALL! \nHelmets required for all on-ice participants; please bring your own.  We will have signed waivers onsite to be signed by participants and/or guardians of minors.
URL:https://visitrichfield.com/event/free-skate-with-team-hf/
LOCATION:Richfield Ice Arena
CATEGORIES:active,kids
ATTACH;FMTTYPE=image/jpeg:https://visitrichfield.com/wp-content/uploads/2023/11/Free-Skate-Nov-11.jpg
END:VEVENT
END:VCALENDAR