
BEGIN:VCALENDAR
VERSION:2.0
PRODID:-//Visit Richfield - ECPv6.15.20//NONSGML v1.0//EN
CALSCALE:GREGORIAN
METHOD:PUBLISH
X-WR-CALNAME:Visit Richfield
X-ORIGINAL-URL:https://visitrichfield.com
X-WR-CALDESC:Events for Visit Richfield
REFRESH-INTERVAL;VALUE=DURATION:PT1H
X-Robots-Tag:noindex
X-PUBLISHED-TTL:PT1H
BEGIN:VTIMEZONE
TZID:America/Chicago
BEGIN:DAYLIGHT
TZOFFSETFROM:-0600
TZOFFSETTO:-0500
TZNAME:CDT
DTSTART:20220313T080000
END:DAYLIGHT
BEGIN:STANDARD
TZOFFSETFROM:-0500
TZOFFSETTO:-0600
TZNAME:CST
DTSTART:20221106T070000
END:STANDARD
BEGIN:DAYLIGHT
TZOFFSETFROM:-0600
TZOFFSETTO:-0500
TZNAME:CDT
DTSTART:20230312T080000
END:DAYLIGHT
BEGIN:STANDARD
TZOFFSETFROM:-0500
TZOFFSETTO:-0600
TZNAME:CST
DTSTART:20231105T070000
END:STANDARD
BEGIN:DAYLIGHT
TZOFFSETFROM:-0600
TZOFFSETTO:-0500
TZNAME:CDT
DTSTART:20240310T080000
END:DAYLIGHT
BEGIN:STANDARD
TZOFFSETFROM:-0500
TZOFFSETTO:-0600
TZNAME:CST
DTSTART:20241103T070000
END:STANDARD
END:VTIMEZONE
BEGIN:VEVENT
DTSTART;TZID=America/Chicago:20231214T183000
DTEND;TZID=America/Chicago:20231214T193000
DTSTAMP:20260424T153907
CREATED:20231130T221254Z
LAST-MODIFIED:20231130T221255Z
UID:9343-1702578600-1702582200@visitrichfield.com
SUMMARY:Holiday Lights Parade
DESCRIPTION:      \nJoin us for the 4th annual holiday lights parade! Enjoy festive music\, beautifully lit vehicles\, and seeing our very special guest stars\, Santa and Mrs. Claus. Parade begins at the City Garage (1901 East 66th Street) and ends at 67th and Lyndale Avenue.
URL:https://visitrichfield.com/event/holiday-lights-parade-3/
LOCATION:MN
CATEGORIES:Christmas,Community Events,family,outdoors
ATTACH;FMTTYPE=image/jpeg:https://visitrichfield.com/wp-content/uploads/2022/11/2021-Holiday-Lights-Parade-Map-scaled.jpg
END:VEVENT
END:VCALENDAR