
BEGIN:VCALENDAR
VERSION:2.0
PRODID:-//Visit Richfield - ECPv6.15.20//NONSGML v1.0//EN
CALSCALE:GREGORIAN
METHOD:PUBLISH
X-WR-CALNAME:Visit Richfield
X-ORIGINAL-URL:https://visitrichfield.com
X-WR-CALDESC:Events for Visit Richfield
REFRESH-INTERVAL;VALUE=DURATION:PT1H
X-Robots-Tag:noindex
X-PUBLISHED-TTL:PT1H
BEGIN:VTIMEZONE
TZID:America/Chicago
BEGIN:DAYLIGHT
TZOFFSETFROM:-0600
TZOFFSETTO:-0500
TZNAME:CDT
DTSTART:20220313T080000
END:DAYLIGHT
BEGIN:STANDARD
TZOFFSETFROM:-0500
TZOFFSETTO:-0600
TZNAME:CST
DTSTART:20221106T070000
END:STANDARD
BEGIN:DAYLIGHT
TZOFFSETFROM:-0600
TZOFFSETTO:-0500
TZNAME:CDT
DTSTART:20230312T080000
END:DAYLIGHT
BEGIN:STANDARD
TZOFFSETFROM:-0500
TZOFFSETTO:-0600
TZNAME:CST
DTSTART:20231105T070000
END:STANDARD
BEGIN:DAYLIGHT
TZOFFSETFROM:-0600
TZOFFSETTO:-0500
TZNAME:CDT
DTSTART:20240310T080000
END:DAYLIGHT
BEGIN:STANDARD
TZOFFSETFROM:-0500
TZOFFSETTO:-0600
TZNAME:CST
DTSTART:20241103T070000
END:STANDARD
END:VTIMEZONE
BEGIN:VEVENT
DTSTART;TZID=America/Chicago:20231217T123000
DTEND;TZID=America/Chicago:20231217T140000
DTSTAMP:20260424T151252
CREATED:20231130T222414Z
LAST-MODIFIED:20231130T222415Z
UID:9345-1702816200-1702821600@visitrichfield.com
SUMMARY:Dragonflies and Butterflies Art Workshop
DESCRIPTION:Learn how to use alcohol ink\, nails\, and a little magic to create beautiful dragonflies and butterflies with translucent wings during this class! You will have the opportunity to make two dragonflies and four butterflies. This is a great gift idea for the holidays! Instructor: Michelle Schick from Phenomenal Lass Designs. Ages 5 and up. Feel free to bring your own snacks and drinks to this class; registration required at www.woodlakenaturecenter.org. $35/person. \n 
URL:https://visitrichfield.com/event/dragonflies-and-butterflies-art-workshop/
LOCATION:Wood Lake Nature Center\, 6710 Lake Shore Drive\, Richfield\, MN\, 55423\, United States
CATEGORIES:crafts
ATTACH;FMTTYPE=image/jpeg:https://visitrichfield.com/wp-content/uploads/2023/11/Dragonflies-art.jpg
END:VEVENT
BEGIN:VEVENT
DTSTART;TZID=America/Chicago:20231217T150000
DTEND;TZID=America/Chicago:20231217T163000
DTSTAMP:20260424T151252
CREATED:20231130T223136Z
LAST-MODIFIED:20231130T223136Z
UID:9349-1702825200-1702830600@visitrichfield.com
SUMMARY:Bilingual Yin-Yoga
DESCRIPTION:Join us for a relaxing yin yoga class. This will be a gentle and relaxing all-level class that works deeply into the connective tissues working on the hips\, pelvis\, and lower spine. Come for the one-hour yoga practice\, stay for a fire and cocoa after class. Bring a water bottle and yoga mat or blanket. Instructor: Wendy Zuniga. Registration required at www.woodlakenaturecenter.org; walk-ins welcome as spots are available.$7/person.
URL:https://visitrichfield.com/event/bilingual-yin-yoga/
LOCATION:Wood Lake Nature Center\, 6710 Lake Shore Drive\, Richfield\, MN\, 55423\, United States
CATEGORIES:active
ATTACH;FMTTYPE=image/jpeg:https://visitrichfield.com/wp-content/uploads/2023/11/Yoga.jpg
END:VEVENT
END:VCALENDAR