
BEGIN:VCALENDAR
VERSION:2.0
PRODID:-//Visit Richfield - ECPv6.15.20//NONSGML v1.0//EN
CALSCALE:GREGORIAN
METHOD:PUBLISH
X-ORIGINAL-URL:https://visitrichfield.com
X-WR-CALDESC:Events for Visit Richfield
REFRESH-INTERVAL;VALUE=DURATION:PT1H
X-Robots-Tag:noindex
X-PUBLISHED-TTL:PT1H
BEGIN:VTIMEZONE
TZID:America/Chicago
BEGIN:DAYLIGHT
TZOFFSETFROM:-0600
TZOFFSETTO:-0500
TZNAME:CDT
DTSTART:20230312T080000
END:DAYLIGHT
BEGIN:STANDARD
TZOFFSETFROM:-0500
TZOFFSETTO:-0600
TZNAME:CST
DTSTART:20231105T070000
END:STANDARD
BEGIN:DAYLIGHT
TZOFFSETFROM:-0600
TZOFFSETTO:-0500
TZNAME:CDT
DTSTART:20240310T080000
END:DAYLIGHT
BEGIN:STANDARD
TZOFFSETFROM:-0500
TZOFFSETTO:-0600
TZNAME:CST
DTSTART:20241103T070000
END:STANDARD
BEGIN:DAYLIGHT
TZOFFSETFROM:-0600
TZOFFSETTO:-0500
TZNAME:CDT
DTSTART:20250309T080000
END:DAYLIGHT
BEGIN:STANDARD
TZOFFSETFROM:-0500
TZOFFSETTO:-0600
TZNAME:CST
DTSTART:20251102T070000
END:STANDARD
END:VTIMEZONE
BEGIN:VEVENT
DTSTART;TZID=America/Chicago:20240106T093000
DTEND;TZID=America/Chicago:20240106T110000
DTSTAMP:20260424T204834
CREATED:20231230T204929Z
LAST-MODIFIED:20231230T221451Z
UID:9454-1704533400-1704538800@visitrichfield.com
SUMMARY:Cross Country Ski Lessons
DESCRIPTION:Did you know that cross-country skiing is one of the best kinds of all-around exercise? Our friendly and non-competitive approach provides a comfortable learning environment for beginning skiers. Learn about equipment\, how to get up from a fall\, uphill techniques\, the diagonal stride\, and double poling. 10$ per person; half-off for members.  Includes ski rental.  Limit 20 people per session.
URL:https://visitrichfield.com/event/cross-country-ski-lessons-2/2024-01-06/
LOCATION:Wood Lake Nature Center\, 6710 Lake Shore Drive\, Richfield\, MN\, 55423\, United States
CATEGORIES:active,outdoors
ATTACH;FMTTYPE=image/jpeg:https://visitrichfield.com/wp-content/uploads/2023/01/XC-Ski-Lessons-1.jpg
END:VEVENT
BEGIN:VEVENT
DTSTART;TZID=America/Chicago:20240106T170000
DTEND;TZID=America/Chicago:20240106T210000
DTSTAMP:20260424T204834
CREATED:20231230T204420Z
LAST-MODIFIED:20231230T204420Z
UID:9448-1704560400-1704574800@visitrichfield.com
SUMMARY:Richfield Board Game Night
DESCRIPTION:Join a fun-filled night of board games at the Richfield Community Center! Games by James and Air Traffic will be providing newly-released games and modern classics to play. Recreation staff will be on hand to help learn the rules and help with any questions that may come up. This will be a great way to connect with other community members looking for a fun night of board games! Ages 10 and up; under 16 must be accompanied by an adult. Free; no registration required!
URL:https://visitrichfield.com/event/richfield-board-game-night-2/2024-01-06/
LOCATION:Richfield Community Center\, 7000 Nicollet Ave\, Richfield\, Richfield\, MN\, 55423\, United States
CATEGORIES:games
ATTACH;FMTTYPE=image/jpeg:https://visitrichfield.com/wp-content/uploads/2023/09/board-games.jpg
END:VEVENT
END:VCALENDAR