
BEGIN:VCALENDAR
VERSION:2.0
PRODID:-//Visit Richfield - ECPv6.15.20//NONSGML v1.0//EN
CALSCALE:GREGORIAN
METHOD:PUBLISH
X-ORIGINAL-URL:https://visitrichfield.com
X-WR-CALDESC:Events for Visit Richfield
REFRESH-INTERVAL;VALUE=DURATION:PT1H
X-Robots-Tag:noindex
X-PUBLISHED-TTL:PT1H
BEGIN:VTIMEZONE
TZID:America/Chicago
BEGIN:DAYLIGHT
TZOFFSETFROM:-0600
TZOFFSETTO:-0500
TZNAME:CDT
DTSTART:20230312T080000
END:DAYLIGHT
BEGIN:STANDARD
TZOFFSETFROM:-0500
TZOFFSETTO:-0600
TZNAME:CST
DTSTART:20231105T070000
END:STANDARD
BEGIN:DAYLIGHT
TZOFFSETFROM:-0600
TZOFFSETTO:-0500
TZNAME:CDT
DTSTART:20240310T080000
END:DAYLIGHT
BEGIN:STANDARD
TZOFFSETFROM:-0500
TZOFFSETTO:-0600
TZNAME:CST
DTSTART:20241103T070000
END:STANDARD
BEGIN:DAYLIGHT
TZOFFSETFROM:-0600
TZOFFSETTO:-0500
TZNAME:CDT
DTSTART:20250309T080000
END:DAYLIGHT
BEGIN:STANDARD
TZOFFSETFROM:-0500
TZOFFSETTO:-0600
TZNAME:CST
DTSTART:20251102T070000
END:STANDARD
END:VTIMEZONE
BEGIN:VEVENT
DTSTART;TZID=America/Chicago:20240126T093000
DTEND;TZID=America/Chicago:20240126T113000
DTSTAMP:20260424T073646
CREATED:20231230T213339Z
LAST-MODIFIED:20231230T213340Z
UID:9482-1706261400-1706268600@visitrichfield.com
SUMMARY:Family Dome Day
DESCRIPTION:Enjoy open play time at the indoor heated dome at the Academy of Holy Angels in the heart of Richfield! Open Dome time is for ALL ages. Our recreation team will bring a van full of equipment to play with\, including parachutes\, soccer balls\, hula hoops\, portable frisbee golf chains and frisbees\, and bean bags and board. The warm dome will be the perfect space to get some exercise in the middle of the winter\, with no need to bundle up! All youth under 14 years of age need to be accompanied by an adult. You will need to register individually as an individual participant\, parent\, or child online\, OR pay in person at the door. (Registrations taken at the door must pay in cash and exact change is appreciated.) Let’s have some fun!
URL:https://visitrichfield.com/event/family-dome-day-2/
LOCATION:Holy Angels Academy Star Dome\, 66th Street and Nicollet Avenue\, Richfield\, MN\, 55423\, United States
CATEGORIES:active,kids
ATTACH;FMTTYPE=image/jpeg:https://visitrichfield.com/wp-content/uploads/2023/01/Family-Dome-Day-January-2023.jpg
END:VEVENT
END:VCALENDAR