
BEGIN:VCALENDAR
VERSION:2.0
PRODID:-//Visit Richfield - ECPv6.15.20//NONSGML v1.0//EN
CALSCALE:GREGORIAN
METHOD:PUBLISH
X-ORIGINAL-URL:https://visitrichfield.com
X-WR-CALDESC:Events for Visit Richfield
REFRESH-INTERVAL;VALUE=DURATION:PT1H
X-Robots-Tag:noindex
X-PUBLISHED-TTL:PT1H
BEGIN:VTIMEZONE
TZID:America/Chicago
BEGIN:DAYLIGHT
TZOFFSETFROM:-0600
TZOFFSETTO:-0500
TZNAME:CDT
DTSTART:20230312T080000
END:DAYLIGHT
BEGIN:STANDARD
TZOFFSETFROM:-0500
TZOFFSETTO:-0600
TZNAME:CST
DTSTART:20231105T070000
END:STANDARD
BEGIN:DAYLIGHT
TZOFFSETFROM:-0600
TZOFFSETTO:-0500
TZNAME:CDT
DTSTART:20240310T080000
END:DAYLIGHT
BEGIN:STANDARD
TZOFFSETFROM:-0500
TZOFFSETTO:-0600
TZNAME:CST
DTSTART:20241103T070000
END:STANDARD
BEGIN:DAYLIGHT
TZOFFSETFROM:-0600
TZOFFSETTO:-0500
TZNAME:CDT
DTSTART:20250309T080000
END:DAYLIGHT
BEGIN:STANDARD
TZOFFSETFROM:-0500
TZOFFSETTO:-0600
TZNAME:CST
DTSTART:20251102T070000
END:STANDARD
END:VTIMEZONE
BEGIN:VEVENT
DTSTART;TZID=America/Chicago:20240504T070000
DTEND;TZID=America/Chicago:20240504T120000
DTSTAMP:20260421T050237
CREATED:20240426T210500Z
LAST-MODIFIED:20240426T211251Z
UID:10068-1714806000-1714824000@visitrichfield.com
SUMMARY:Farmers Market
DESCRIPTION:For 35 years\, the Richfield Farmers Market has offered Minnesota-grown local produce and delicious locally-made foods by chefs and cottage industry food producers. You’ll find unique handmade goods from local artisans\, kids’ activities\, live music\, community booths\, and special events–all in one convenient location!!  Yoga every week 8:45-9:30 a.m.; free and open to all ages.  Live music every week; see website for schedule.
URL:https://visitrichfield.com/event/farmers-market/2024-05-04/
LOCATION:Veterans Park\, 6335 Portland Avenue South\, Richfield\, MN\, 55423
CATEGORIES:farmers market,outdoors
ATTACH;FMTTYPE=image/png:https://visitrichfield.com/wp-content/uploads/2024/04/Farmers-Market-Collage.png
END:VEVENT
BEGIN:VEVENT
DTSTART;TZID=America/Chicago:20240504T120000
DTEND;TZID=America/Chicago:20240504T160000
DTSTAMP:20260421T050237
CREATED:20240501T174422Z
LAST-MODIFIED:20240501T174422Z
UID:10205-1714824000-1714838400@visitrichfield.com
SUMMARY:Save the Bartholomew House
DESCRIPTION:The Bartholomew House needs your help!  They’re hosting a fundraiser to continue the restoration of the longest-standing home in the city.  Stop by for food\, raffle tickets\, house tours\, lawn games\, and special guest Candice Wheeler from KQ92!! \n 
URL:https://visitrichfield.com/event/save-the-bartholomew-house/
LOCATION:Richfield Historical Society\, 6901 Lyndale Avenue South\, Richfield\, MN\, 55423
CATEGORIES:history
ATTACH;FMTTYPE=image/jpeg:https://visitrichfield.com/wp-content/uploads/2024/05/Bartholomew-House.jpg
END:VEVENT
BEGIN:VEVENT
DTSTART;TZID=America/Chicago:20240504T170000
DTEND;TZID=America/Chicago:20240504T210000
DTSTAMP:20260421T050237
CREATED:20231230T204420Z
LAST-MODIFIED:20240426T211411Z
UID:9453-1714842000-1714856400@visitrichfield.com
SUMMARY:Richfield Board Game Night
DESCRIPTION:Join a fun-filled night of board games at the Richfield Community Center! Games by James and Air Traffic will be providing newly-released games and modern classics to play. Recreation staff will be on hand to help learn the rules and help with any questions that may come up. This will be a great way to connect with other community members looking for a fun night of board games! Ages 10 and up; under 16 must be accompanied by an adult. Free; no registration required!
URL:https://visitrichfield.com/event/richfield-board-game-night-2-2024-05-04/2024-05-04/
LOCATION:Richfield Community Center\, 7000 Nicollet Ave\, Richfield\, Richfield\, MN\, 55423\, United States
CATEGORIES:games
ATTACH;FMTTYPE=image/jpeg:https://visitrichfield.com/wp-content/uploads/2023/09/board-games.jpg
END:VEVENT
END:VCALENDAR