
BEGIN:VCALENDAR
VERSION:2.0
PRODID:-//Visit Richfield - ECPv6.15.20//NONSGML v1.0//EN
CALSCALE:GREGORIAN
METHOD:PUBLISH
X-ORIGINAL-URL:https://visitrichfield.com
X-WR-CALDESC:Events for Visit Richfield
REFRESH-INTERVAL;VALUE=DURATION:PT1H
X-Robots-Tag:noindex
X-PUBLISHED-TTL:PT1H
BEGIN:VTIMEZONE
TZID:America/Chicago
BEGIN:DAYLIGHT
TZOFFSETFROM:-0600
TZOFFSETTO:-0500
TZNAME:CDT
DTSTART:20230312T080000
END:DAYLIGHT
BEGIN:STANDARD
TZOFFSETFROM:-0500
TZOFFSETTO:-0600
TZNAME:CST
DTSTART:20231105T070000
END:STANDARD
BEGIN:DAYLIGHT
TZOFFSETFROM:-0600
TZOFFSETTO:-0500
TZNAME:CDT
DTSTART:20240310T080000
END:DAYLIGHT
BEGIN:STANDARD
TZOFFSETFROM:-0500
TZOFFSETTO:-0600
TZNAME:CST
DTSTART:20241103T070000
END:STANDARD
BEGIN:DAYLIGHT
TZOFFSETFROM:-0600
TZOFFSETTO:-0500
TZNAME:CDT
DTSTART:20250309T080000
END:DAYLIGHT
BEGIN:STANDARD
TZOFFSETFROM:-0500
TZOFFSETTO:-0600
TZNAME:CST
DTSTART:20251102T070000
END:STANDARD
END:VTIMEZONE
BEGIN:VEVENT
DTSTART;TZID=America/Chicago:20240619T110000
DTEND;TZID=America/Chicago:20240619T160000
DTSTAMP:20260421T061944
CREATED:20240605T160839Z
LAST-MODIFIED:20240605T161304Z
UID:10300-1718794800-1718812800@visitrichfield.com
SUMMARY:Richfield Juneteenth
DESCRIPTION:Freedom Walk starts at the Honoring All Veterans Memorial at 6501 Portland Avenue South at 11 a.m.\, and walks to the Richfield Band Shell at 636 E. 66th Street. Community celebration at the Band Shell\, featuring Joy Mobley Music; Intimate Perspectives Choreography; Kimberly Brown & Band; Poetry & Drama by CrossRoads/ JAJA Band African Drum Performance; and New Life Church Dancers! \n 
URL:https://visitrichfield.com/event/richfield-juneteenth/
LOCATION:Richfield Band Shell\, 636 East 66th Street\, Richfield\, MN\, 55423
CATEGORIES:culture,family,music
ATTACH;FMTTYPE=image/jpeg:https://visitrichfield.com/wp-content/uploads/2024/06/Juneteenth-2024-graphic.jpg
END:VEVENT
END:VCALENDAR