
BEGIN:VCALENDAR
VERSION:2.0
PRODID:-//Visit Richfield - ECPv6.15.20//NONSGML v1.0//EN
CALSCALE:GREGORIAN
METHOD:PUBLISH
X-ORIGINAL-URL:https://visitrichfield.com
X-WR-CALDESC:Events for Visit Richfield
REFRESH-INTERVAL;VALUE=DURATION:PT1H
X-Robots-Tag:noindex
X-PUBLISHED-TTL:PT1H
BEGIN:VTIMEZONE
TZID:America/Chicago
BEGIN:DAYLIGHT
TZOFFSETFROM:-0600
TZOFFSETTO:-0500
TZNAME:CDT
DTSTART:20230312T080000
END:DAYLIGHT
BEGIN:STANDARD
TZOFFSETFROM:-0500
TZOFFSETTO:-0600
TZNAME:CST
DTSTART:20231105T070000
END:STANDARD
BEGIN:DAYLIGHT
TZOFFSETFROM:-0600
TZOFFSETTO:-0500
TZNAME:CDT
DTSTART:20240310T080000
END:DAYLIGHT
BEGIN:STANDARD
TZOFFSETFROM:-0500
TZOFFSETTO:-0600
TZNAME:CST
DTSTART:20241103T070000
END:STANDARD
BEGIN:DAYLIGHT
TZOFFSETFROM:-0600
TZOFFSETTO:-0500
TZNAME:CDT
DTSTART:20250309T080000
END:DAYLIGHT
BEGIN:STANDARD
TZOFFSETFROM:-0500
TZOFFSETTO:-0600
TZNAME:CST
DTSTART:20251102T070000
END:STANDARD
END:VTIMEZONE
BEGIN:VEVENT
DTSTART;TZID=America/Chicago:20240625T110000
DTEND;TZID=America/Chicago:20240625T120000
DTSTAMP:20260423T162926
CREATED:20240531T213100Z
LAST-MODIFIED:20240531T213100Z
UID:10286-1719313200-1719316800@visitrichfield.com
SUMMARY:Entertainment in the Park:  Professor Flutterblaster
DESCRIPTION:Professor Flutterblaster loves to share science with kids!  Come and see amazing science experiments in person!  Bring your own lawn chairs or blankets for seating; sunscreen and bug spray recommended.  Free!
URL:https://visitrichfield.com/event/entertainment-in-the-park-professor-flutterblaster/
LOCATION:Richfield Band Shell\, 636 East 66th Street\, Richfield\, MN\, 55423
CATEGORIES:outdoors
ATTACH;FMTTYPE=image/jpeg:https://visitrichfield.com/wp-content/uploads/2024/05/Professor-Flutterblaster.jpg
END:VEVENT
BEGIN:VEVENT
DTSTART;TZID=America/Chicago:20240625T170000
DTEND;TZID=America/Chicago:20240625T220000
DTSTAMP:20260423T162926
CREATED:20240606T160530Z
LAST-MODIFIED:20240606T160531Z
UID:10329-1719334800-1719352800@visitrichfield.com
SUMMARY:Reign:  Celebrating Minnesota Music Royalty
DESCRIPTION:Dive into an electrifying homage of a Minnesota Music Legend! This immersive experience honors the creativity\, passion\, and innovation that defined a musical generation and celebrates a legacy that continues to inspire and captivate audiences worldwide. This unforgettable evening will be hosted by KFAN’s Maxx Fuller and will feature lively performances by Cassandra Cole\, Jojo Green\, Nur-D\, and Chase & Ovation\, known as “the world’s premier Prince tribute band!” The iconic sound and artistry of Minneapolis speaks for itself. Nothing compares to this!  This is an all-ages\, ticketed event; purchase tickets here.
URL:https://visitrichfield.com/event/reign-celebrating-minnesota-music-royalty/
LOCATION:Mall of America
CATEGORIES:MOA,music
ATTACH;FMTTYPE=image/png:https://visitrichfield.com/wp-content/uploads/2024/06/Reign.png
END:VEVENT
BEGIN:VEVENT
DTSTART;TZID=America/Chicago:20240625T183000
DTEND;TZID=America/Chicago:20240625T193000
DTSTAMP:20260423T162926
CREATED:20240531T213740Z
LAST-MODIFIED:20240531T213741Z
UID:10290-1719340200-1719343800@visitrichfield.com
SUMMARY:Entertainment in the Park: Keep It Simple
DESCRIPTION:Nine-piece ’70s\, ’80s\, and ’90s classic rock band.  Come and dance!!   Bring your own lawn chairs or blankets for seating; sunscreen and bug spray recommended. Free!
URL:https://visitrichfield.com/event/entertainment-in-the-park-keep-it-simple/
LOCATION:Richfield Band Shell\, 636 East 66th Street\, Richfield\, MN\, 55423
CATEGORIES:music,outdoors
ATTACH;FMTTYPE=image/jpeg:https://visitrichfield.com/wp-content/uploads/2024/05/Keep-It-Simple.jpg
END:VEVENT
END:VCALENDAR