
BEGIN:VCALENDAR
VERSION:2.0
PRODID:-//Visit Richfield - ECPv6.15.20//NONSGML v1.0//EN
CALSCALE:GREGORIAN
METHOD:PUBLISH
X-WR-CALNAME:Visit Richfield
X-ORIGINAL-URL:https://visitrichfield.com
X-WR-CALDESC:Events for Visit Richfield
REFRESH-INTERVAL;VALUE=DURATION:PT1H
X-Robots-Tag:noindex
X-PUBLISHED-TTL:PT1H
BEGIN:VTIMEZONE
TZID:America/Chicago
BEGIN:DAYLIGHT
TZOFFSETFROM:-0600
TZOFFSETTO:-0500
TZNAME:CDT
DTSTART:20230312T080000
END:DAYLIGHT
BEGIN:STANDARD
TZOFFSETFROM:-0500
TZOFFSETTO:-0600
TZNAME:CST
DTSTART:20231105T070000
END:STANDARD
BEGIN:DAYLIGHT
TZOFFSETFROM:-0600
TZOFFSETTO:-0500
TZNAME:CDT
DTSTART:20240310T080000
END:DAYLIGHT
BEGIN:STANDARD
TZOFFSETFROM:-0500
TZOFFSETTO:-0600
TZNAME:CST
DTSTART:20241103T070000
END:STANDARD
BEGIN:DAYLIGHT
TZOFFSETFROM:-0600
TZOFFSETTO:-0500
TZNAME:CDT
DTSTART:20250309T080000
END:DAYLIGHT
BEGIN:STANDARD
TZOFFSETFROM:-0500
TZOFFSETTO:-0600
TZNAME:CST
DTSTART:20251102T070000
END:STANDARD
END:VTIMEZONE
BEGIN:VEVENT
DTSTART;TZID=America/Chicago:20241012T070000
DTEND;TZID=America/Chicago:20241012T120000
DTSTAMP:20260421T115232
CREATED:20240426T210500Z
LAST-MODIFIED:20240426T211315Z
UID:10093-1728716400-1728734400@visitrichfield.com
SUMMARY:Farmers Market
DESCRIPTION:For 35 years\, the Richfield Farmers Market has offered Minnesota-grown local produce and delicious locally-made foods by chefs and cottage industry food producers. You’ll find unique handmade goods from local artisans\, kids’ activities\, live music\, community booths\, and special events–all in one convenient location!!  Yoga every week 8:45-9:30 a.m.; free and open to all ages.  Live music every week; see website for schedule.
URL:https://visitrichfield.com/event/farmers-market/2024-10-12/
LOCATION:Veterans Park\, 6335 Portland Avenue South\, Richfield\, MN\, 55423
CATEGORIES:farmers market,outdoors
ATTACH;FMTTYPE=image/png:https://visitrichfield.com/wp-content/uploads/2024/04/Farmers-Market-Collage.png
END:VEVENT
BEGIN:VEVENT
DTSTART;TZID=America/Chicago:20241012T100000
DTEND;TZID=America/Chicago:20241012T120000
DTSTAMP:20260421T115232
CREATED:20240926T163030Z
LAST-MODIFIED:20240926T163031Z
UID:10645-1728727200-1728734400@visitrichfield.com
SUMMARY:Great Pumpkin Giveaway
DESCRIPTION:Join us at Fairwood Park for the 19th Annual Great Pumpkin Giveaway! Select one free pumpkin for each family\, plus there will be door prizes\, face painting\, a photo booth\, coloring contest\, and autumn refreshments. Free!
URL:https://visitrichfield.com/event/great-pumpkin-giveaway-3/
LOCATION:Fairwood Park\, 6700 Logan Avenue South\, Richfield\, MN\, 55423
CATEGORIES:family,Halloween,outdoors
ATTACH;FMTTYPE=image/png:https://visitrichfield.com/wp-content/uploads/2024/09/Pumpkin-2023.2.png
END:VEVENT
BEGIN:VEVENT
DTSTART;TZID=America/Chicago:20241012T100000
DTEND;TZID=America/Chicago:20241012T150000
DTSTAMP:20260421T115232
CREATED:20240926T160722Z
LAST-MODIFIED:20240926T160723Z
UID:10642-1728727200-1728745200@visitrichfield.com
SUMMARY:Paddles & Stones:  Curling and Pickleball for Wood Lake!
DESCRIPTION:Support Wood Lake Nature Center and join in on a fun day of your choice of sports at the Richfield Ice Arena:  Curling or pickleball!!  Beginners are welcome! The event will include food and beverages for sale from NorthStar Tavern\, a silent auction\, and prizes for the top performers in each sport and category. Bring your cheering section! Spectators pay just $5 at the door. \nCURLING TOURNAMENT:  The Richfield Curling Club will be on site to help beginners with the basics of curling. Participants play a tournament split into two divisions: beginner and intermedia. 16 teams of four people each will compete. Register as an individual and have your teammates register as well. You’ll be asked to indicate their names OR we will place you with a team. \nINDOOR PICKLEBALL TOURNAMENT:  When the ice is out for the season on Rink 1\, it’s the perfect time for some indoor pickleball! 16 pairs will compete in three categories: male\, female\, or co-ed. Sign up as individuals and indicate your partner’s name OR we will place you with a partner. Beginners welcome! \n$50 per play per sport; pre-registration required at richfieldmn.gov/register (click Activities and search “paddles”).
URL:https://visitrichfield.com/event/paddles-stones-curling-and-pickleball-for-wood-lake/
LOCATION:Richfield Ice Arena
CATEGORIES:active,Community Events
ATTACH;FMTTYPE=image/jpeg:https://visitrichfield.com/wp-content/uploads/2024/09/Paddles.jpg
END:VEVENT
BEGIN:VEVENT
DTSTART;TZID=America/Chicago:20241012T150000
DTEND;TZID=America/Chicago:20241012T180000
DTSTAMP:20260421T115232
CREATED:20240926T163447Z
LAST-MODIFIED:20240926T163447Z
UID:10648-1728745200-1728756000@visitrichfield.com
SUMMARY:Trunk or Treat
DESCRIPTION:6th Annual Free Community Trunk or Treat!  Families\, wear your costumes and bring a bag to collect candy!  Gather treats\, and bring donations for the local food shelf\, VEAP.  Help us “fill the hearse”!!!  Free.
URL:https://visitrichfield.com/event/trunk-or-treat-4/
LOCATION:Morris Nilsen Funeral Chapel\, 6527 Portland Avenue South\, Richfield\, MN\, 55423
CATEGORIES:family,Halloween
ATTACH;FMTTYPE=image/jpeg:https://visitrichfield.com/wp-content/uploads/2024/09/Trunk-or-Treat.jpg
END:VEVENT
END:VCALENDAR