
BEGIN:VCALENDAR
VERSION:2.0
PRODID:-//Visit Richfield - ECPv6.15.20//NONSGML v1.0//EN
CALSCALE:GREGORIAN
METHOD:PUBLISH
X-ORIGINAL-URL:https://visitrichfield.com
X-WR-CALDESC:Events for Visit Richfield
REFRESH-INTERVAL;VALUE=DURATION:PT1H
X-Robots-Tag:noindex
X-PUBLISHED-TTL:PT1H
BEGIN:VTIMEZONE
TZID:America/Chicago
BEGIN:DAYLIGHT
TZOFFSETFROM:-0600
TZOFFSETTO:-0500
TZNAME:CDT
DTSTART:20230312T080000
END:DAYLIGHT
BEGIN:STANDARD
TZOFFSETFROM:-0500
TZOFFSETTO:-0600
TZNAME:CST
DTSTART:20231105T070000
END:STANDARD
BEGIN:DAYLIGHT
TZOFFSETFROM:-0600
TZOFFSETTO:-0500
TZNAME:CDT
DTSTART:20240310T080000
END:DAYLIGHT
BEGIN:STANDARD
TZOFFSETFROM:-0500
TZOFFSETTO:-0600
TZNAME:CST
DTSTART:20241103T070000
END:STANDARD
BEGIN:DAYLIGHT
TZOFFSETFROM:-0600
TZOFFSETTO:-0500
TZNAME:CDT
DTSTART:20250309T080000
END:DAYLIGHT
BEGIN:STANDARD
TZOFFSETFROM:-0500
TZOFFSETTO:-0600
TZNAME:CST
DTSTART:20251102T070000
END:STANDARD
END:VTIMEZONE
BEGIN:VEVENT
DTSTART;TZID=America/Chicago:20241019T070000
DTEND;TZID=America/Chicago:20241019T120000
DTSTAMP:20260425T153010
CREATED:20240426T210500Z
LAST-MODIFIED:20240426T211316Z
UID:10094-1729321200-1729339200@visitrichfield.com
SUMMARY:Farmers Market
DESCRIPTION:For 35 years\, the Richfield Farmers Market has offered Minnesota-grown local produce and delicious locally-made foods by chefs and cottage industry food producers. You’ll find unique handmade goods from local artisans\, kids’ activities\, live music\, community booths\, and special events–all in one convenient location!!  Yoga every week 8:45-9:30 a.m.; free and open to all ages.  Live music every week; see website for schedule.
URL:https://visitrichfield.com/event/farmers-market/2024-10-19/
LOCATION:Veterans Park\, 6335 Portland Avenue South\, Richfield\, MN\, 55423
CATEGORIES:farmers market,outdoors
ATTACH;FMTTYPE=image/png:https://visitrichfield.com/wp-content/uploads/2024/04/Farmers-Market-Collage.png
END:VEVENT
BEGIN:VEVENT
DTSTART;TZID=America/Chicago:20241019T090000
DTEND;TZID=America/Chicago:20241019T120000
DTSTAMP:20260425T153010
CREATED:20240925T162628Z
LAST-MODIFIED:20240925T162628Z
UID:10611-1729328400-1729339200@visitrichfield.com
SUMMARY:Play Dates
DESCRIPTION:Kids ages 5 and under\, with adult\, are invited to a free play date on select Saturdays at the Community Center. Check out the different themes/activities for each date!  Kids and adults\, bring your friends and your coffee and come hang out!  This week:  Kids Pumpkin Yoga & Storytime; and Marilyn on Piano.  Free for all!
URL:https://visitrichfield.com/event/play-dates/2024-10-19/
LOCATION:Richfield Community Center\, 7000 Nicollet Ave\, Richfield\, Richfield\, MN\, 55423\, United States
CATEGORIES:kids
ATTACH;FMTTYPE=image/jpeg:https://visitrichfield.com/wp-content/uploads/2024/09/Play-Dates.jpg
END:VEVENT
BEGIN:VEVENT
DTSTART;TZID=America/Chicago:20241019T100000
DTEND;TZID=America/Chicago:20241019T103000
DTSTAMP:20260425T153010
CREATED:20240828T151709Z
LAST-MODIFIED:20240828T151709Z
UID:10549-1729332000-1729333800@visitrichfield.com
SUMMARY:Friday and Saturday Fun at Augsburg Adventure Park
DESCRIPTION:Spend the morning listening to stories shared through puppets\, Read-A-Story Theater\, storybook walks\, and staff-led storytime at Augsburg Adventure Park. Each week will include new adventures to share\, followed by playtime at the playground. Special dance parties are sprinkled in the mix to celebrate the summer season!  Free.
URL:https://visitrichfield.com/event/friday-and-saturday-fun-at-augsburg-adventure-park-2/2024-10-19/
LOCATION:Augsburg Adventure Park\, 7000 Nicollet Avenue South\, Richfield\, MN\, 55423
CATEGORIES:family,kids
ATTACH;FMTTYPE=image/jpeg:https://visitrichfield.com/wp-content/uploads/2024/05/Augsburg-story.jpg
END:VEVENT
BEGIN:VEVENT
DTSTART;TZID=America/Chicago:20241019T130000
DTEND;TZID=America/Chicago:20241019T170000
DTSTAMP:20260425T153010
CREATED:20240926T165511Z
LAST-MODIFIED:20240926T165526Z
UID:10663-1729342800-1729357200@visitrichfield.com
SUMMARY:Half-Haunted Halloween
DESCRIPTION:Celebrate the spirit of Halloween night without the fright! This beloved annual event is perfect for families looking for a fun-filed experience. Embark on a delightful journey along the Trick or Treat Trail\, where you’ll encounter fun activity stations and meet friendly costumed characters. Marvel at the mesmerizing tricks of a magician performing in our outdoor amphitheater\, while indulging in delicious hot cocoa and cookies. And to cap off the evening\, join us for a delightful barn dance in the scenic picnic area! \nIntended for children 10 and under. $8/person; free for FOWL members.  Pre-purchased tickets required; purchase at www.woodlakenaturecenter.org.
URL:https://visitrichfield.com/event/10663/
LOCATION:Wood Lake Nature Center\, 6710 Lake Shore Drive\, Richfield\, MN\, 55423\, United States
CATEGORIES:Halloween,outdoors
ATTACH;FMTTYPE=image/jpeg:https://visitrichfield.com/wp-content/uploads/2023/09/Half-Haunted-Halloween.jpg
END:VEVENT
END:VCALENDAR