
BEGIN:VCALENDAR
VERSION:2.0
PRODID:-//Visit Richfield - ECPv6.15.20//NONSGML v1.0//EN
CALSCALE:GREGORIAN
METHOD:PUBLISH
X-ORIGINAL-URL:https://visitrichfield.com
X-WR-CALDESC:Events for Visit Richfield
REFRESH-INTERVAL;VALUE=DURATION:PT1H
X-Robots-Tag:noindex
X-PUBLISHED-TTL:PT1H
BEGIN:VTIMEZONE
TZID:America/Chicago
BEGIN:DAYLIGHT
TZOFFSETFROM:-0600
TZOFFSETTO:-0500
TZNAME:CDT
DTSTART:20230312T080000
END:DAYLIGHT
BEGIN:STANDARD
TZOFFSETFROM:-0500
TZOFFSETTO:-0600
TZNAME:CST
DTSTART:20231105T070000
END:STANDARD
BEGIN:DAYLIGHT
TZOFFSETFROM:-0600
TZOFFSETTO:-0500
TZNAME:CDT
DTSTART:20240310T080000
END:DAYLIGHT
BEGIN:STANDARD
TZOFFSETFROM:-0500
TZOFFSETTO:-0600
TZNAME:CST
DTSTART:20241103T070000
END:STANDARD
BEGIN:DAYLIGHT
TZOFFSETFROM:-0600
TZOFFSETTO:-0500
TZNAME:CDT
DTSTART:20250309T080000
END:DAYLIGHT
BEGIN:STANDARD
TZOFFSETFROM:-0500
TZOFFSETTO:-0600
TZNAME:CST
DTSTART:20251102T070000
END:STANDARD
END:VTIMEZONE
BEGIN:VEVENT
DTSTART;TZID=America/Chicago:20241102T090000
DTEND;TZID=America/Chicago:20241102T120000
DTSTAMP:20260419T153310
CREATED:20240925T162628Z
LAST-MODIFIED:20240925T162628Z
UID:10613-1730538000-1730548800@visitrichfield.com
SUMMARY:Play Dates
DESCRIPTION:Kids ages 5 and under\, with adult\, are invited to a free play date on select Saturdays at the Community Center. Check out the different themes/activities for each date!  Kids and adults\, bring your friends and your coffee and come hang out!  This week:  Kids Pumpkin Yoga & Storytime; and Marilyn on Piano.  Free for all!
URL:https://visitrichfield.com/event/play-dates/2024-11-02/
LOCATION:Richfield Community Center\, 7000 Nicollet Ave\, Richfield\, Richfield\, MN\, 55423\, United States
CATEGORIES:kids
ATTACH;FMTTYPE=image/jpeg:https://visitrichfield.com/wp-content/uploads/2024/09/Play-Dates.jpg
END:VEVENT
BEGIN:VEVENT
DTSTART;TZID=America/Chicago:20241102T100000
DTEND;TZID=America/Chicago:20241102T120000
DTSTAMP:20260419T153310
CREATED:20241022T164915Z
LAST-MODIFIED:20241022T164948Z
UID:10704-1730541600-1730548800@visitrichfield.com
SUMMARY:Richfield Pumpkin Smash
DESCRIPTION:Richfield’s First Ever Pumpkin Smash! Help us kick off a new tradition as we turn your old pumpkins into compost instead of sending them to the landfill. Bring your tired\, past-their-prime pumpkins to Veterans park on Saturday\, November 2 from 10 a.m. to noon\, and let’s see whose pumpkin can smash the best! Participants are encouraged to wear Halloween costumes one last time! Family-friendly; free and open to all ages.  Stay for cider and treats! \nNOTE:  Please bring only natural pumpkins with no paint\, glitter\, candle wax\, or stickers. Be sure to remove glow sticks\, lights\, or candles before the event.
URL:https://visitrichfield.com/event/richfield-pumpkin-smash/
LOCATION:Veterans Park\, 6335 Portland Avenue South\, Richfield\, MN\, 55423
CATEGORIES:outdoors
ATTACH;FMTTYPE=image/jpeg:https://visitrichfield.com/wp-content/uploads/2024/10/Pumpkin-smash.jpg
END:VEVENT
BEGIN:VEVENT
DTSTART;TZID=America/Chicago:20241102T110000
DTEND;TZID=America/Chicago:20241102T180000
DTSTAMP:20260419T153310
CREATED:20241028T180413Z
LAST-MODIFIED:20241028T180413Z
UID:10746-1730545200-1730570400@visitrichfield.com
SUMMARY:Latin Luminos: A Calavera Celebration
DESCRIPTION:Join us for a vibrant celebration of culture and creativity hosted by the Minnesota Latino Museum in the MOA Atrium. Experience the rich traditions of the Day of the Dead through a stunning altar installation by Minnesota artisan Margarita Sandoval\, hands-on workshops\, and engaging activities. Enjoy a weekend filled with community\, art\, and celebration; perfect for all ages!  Free.
URL:https://visitrichfield.com/event/latin-luminos-a-calavera-celebration-2/
LOCATION:Mall of America
CATEGORIES:culture,family,MOA
ATTACH;FMTTYPE=image/jpeg:https://visitrichfield.com/wp-content/uploads/2024/10/Latin-Luminos.jpg
END:VEVENT
BEGIN:VEVENT
DTSTART;TZID=America/Chicago:20241102T170000
DTEND;TZID=America/Chicago:20241102T210000
DTSTAMP:20260419T153310
CREATED:20240827T172436Z
LAST-MODIFIED:20240827T172436Z
UID:10532-1730566800-1730581200@visitrichfield.com
SUMMARY:Boardgame Game Night with Games by James
DESCRIPTION:Join a fun-filled night of board games at the community center!  Games by James and Air Traffic will be providing newly-released games and modern classics to play. Recreation staff will be on hand to help learn the rules and help with any questions that may come up. This is a great way to connect with other community members!  Ages 10 and up (under 16 require an adult). Free!
URL:https://visitrichfield.com/event/boardgame-game-night-with-games-by-james/2024-11-02/
LOCATION:Richfield Community Center\, 7000 Nicollet Ave\, Richfield\, Richfield\, MN\, 55423\, United States
CATEGORIES:games
ATTACH;FMTTYPE=image/jpeg:https://visitrichfield.com/wp-content/uploads/2023/09/board-games.jpg
END:VEVENT
BEGIN:VEVENT
DTSTART;TZID=America/Chicago:20241102T190000
DTEND;TZID=America/Chicago:20241102T230000
DTSTAMP:20260419T153310
CREATED:20241104T181817Z
LAST-MODIFIED:20251108T181420Z
UID:10796-1730574000-1730588400@visitrichfield.com
SUMMARY:Live Music:  Austin Healy
DESCRIPTION:Southern Rock done right!!  Come see them live and bring your dancing shoes!
URL:https://visitrichfield.com/event/live-music-austin-healy-2/2024-11-02/
LOCATION:Fred Babcock VFW Post 5555\, 6715 Lake Shore Drive South\, Richfield\, MN\, 55423
CATEGORIES:music
ATTACH;FMTTYPE=image/jpeg:https://visitrichfield.com/wp-content/uploads/2023/11/Austin-Healy.jpg
END:VEVENT
END:VCALENDAR