
BEGIN:VCALENDAR
VERSION:2.0
PRODID:-//Visit Richfield - ECPv6.15.20//NONSGML v1.0//EN
CALSCALE:GREGORIAN
METHOD:PUBLISH
X-WR-CALNAME:Visit Richfield
X-ORIGINAL-URL:https://visitrichfield.com
X-WR-CALDESC:Events for Visit Richfield
REFRESH-INTERVAL;VALUE=DURATION:PT1H
X-Robots-Tag:noindex
X-PUBLISHED-TTL:PT1H
BEGIN:VTIMEZONE
TZID:America/Chicago
BEGIN:DAYLIGHT
TZOFFSETFROM:-0600
TZOFFSETTO:-0500
TZNAME:CDT
DTSTART:20240310T080000
END:DAYLIGHT
BEGIN:STANDARD
TZOFFSETFROM:-0500
TZOFFSETTO:-0600
TZNAME:CST
DTSTART:20241103T070000
END:STANDARD
BEGIN:DAYLIGHT
TZOFFSETFROM:-0600
TZOFFSETTO:-0500
TZNAME:CDT
DTSTART:20250309T080000
END:DAYLIGHT
BEGIN:STANDARD
TZOFFSETFROM:-0500
TZOFFSETTO:-0600
TZNAME:CST
DTSTART:20251102T070000
END:STANDARD
BEGIN:DAYLIGHT
TZOFFSETFROM:-0600
TZOFFSETTO:-0500
TZNAME:CDT
DTSTART:20260308T080000
END:DAYLIGHT
BEGIN:STANDARD
TZOFFSETFROM:-0500
TZOFFSETTO:-0600
TZNAME:CST
DTSTART:20261101T070000
END:STANDARD
END:VTIMEZONE
BEGIN:VEVENT
DTSTART;TZID=America/Chicago:20250510T070000
DTEND;TZID=America/Chicago:20250510T120000
DTSTAMP:20260424T112236
CREATED:20250427T215359Z
LAST-MODIFIED:20250525T202920Z
UID:11074-1746860400-1746878400@visitrichfield.com
SUMMARY:Richfield Farmers Market
DESCRIPTION:On Saturday\, May 3\, the Richfield Farmers Market will start its summer season and celebrate 36 years in Richfield!  Click here to see the list of vendors\, updated every week.  Enjoy free outdoor yoga every week\, 8:45-9:30 a.m.\, and live music weekly!
URL:https://visitrichfield.com/event/richfield-farmers-market-7/2025-05-10/
LOCATION:Veterans Park\, 6335 Portland Avenue South\, Richfield\, MN\, 55423
CATEGORIES:farmers market
ATTACH;FMTTYPE=image/jpeg:https://visitrichfield.com/wp-content/uploads/2021/09/farmers-market.jpg
END:VEVENT
BEGIN:VEVENT
DTSTART;TZID=America/Chicago:20250510T130000
DTEND;TZID=America/Chicago:20250510T150000
DTSTAMP:20260424T112236
CREATED:20250428T162606Z
LAST-MODIFIED:20250428T172936Z
UID:11090-1746882000-1746889200@visitrichfield.com
SUMMARY:Kids Bingo Day!
DESCRIPTION:We’re excited to bring back our Kids Bingo event for Mother’s Day weekend!  Join us at Fred Babcock VFW Post 5555 in Richfield\, right across the street from Wood Lake Nature Center.  Free event; kids’ meals available for $5.00. Adult beverage specials; free rose for moms. Everyone gets a prize!
URL:https://visitrichfield.com/event/kids-bingo-day/
LOCATION:Fred Babcock VFW Post 5555\, 6715 Lake Shore Drive South\, Richfield\, MN\, 55423
CATEGORIES:games,kids
ATTACH;FMTTYPE=image/jpeg:https://visitrichfield.com/wp-content/uploads/2025/04/kids-bingo.jpg
END:VEVENT
BEGIN:VEVENT
DTSTART;TZID=America/Chicago:20250510T183000
DTEND;TZID=America/Chicago:20250510T214500
DTSTAMP:20260424T112236
CREATED:20240306T172020Z
LAST-MODIFIED:20240306T172020Z
UID:11115-1746901800-1746913500@visitrichfield.com
SUMMARY:Live Music: Rockin' Hollywoods
DESCRIPTION:Great Balls of Fire. Surfin’ USA. Born to be Wild. Jessie’s Girl. If it was a hit in the 50s\, 60s\, 70s\, or 80s\, chances are you might hear it at the Richfield VFW on March 2 when the Rockin’ Hollywoods visit the Urban Hometown!
URL:https://visitrichfield.com/event/live-music-rockin-hollywoods/2025-05-10/
LOCATION:Fred Babcock VFW Post 5555\, 6715 Lake Shore Drive South\, Richfield\, MN\, 55423
CATEGORIES:music
ATTACH;FMTTYPE=image/jpeg:https://visitrichfield.com/wp-content/uploads/2023/04/Rockin-Hollywoods.jpg
END:VEVENT
BEGIN:VEVENT
DTSTART;TZID=America/Chicago:20250510T190000
DTEND;TZID=America/Chicago:20250510T210000
DTSTAMP:20260424T112236
CREATED:20250427T224530Z
LAST-MODIFIED:20250427T224530Z
UID:11087-1746903600-1746910800@visitrichfield.com
SUMMARY:Glow in the Dark Mini-Golf
DESCRIPTION:Get ready for an unforgettable night of fun and excitement!  Experience vibrant neon colors and the magic of blacklight as you play a round of Glow in the Dark Mini-Golf!  Plus\, enjoy an inflatable slide\, music\, and concessions for the whole family. Pre-registration encouraged\, but walk-up registration with cash will be allowed as space permits.
URL:https://visitrichfield.com/event/glow-in-the-dark-mini-golf/2025-05-10/
LOCATION:Veterans Park\, 6335 Portland Avenue South\, Richfield\, MN\, 55423
CATEGORIES:active,mini-golf
ATTACH;FMTTYPE=image/jpeg:https://visitrichfield.com/wp-content/uploads/2025/04/Glow-in-the-Dark-Mini-Golf.jpg
END:VEVENT
END:VCALENDAR