
BEGIN:VCALENDAR
VERSION:2.0
PRODID:-//Visit Richfield - ECPv6.15.20//NONSGML v1.0//EN
CALSCALE:GREGORIAN
METHOD:PUBLISH
X-ORIGINAL-URL:https://visitrichfield.com
X-WR-CALDESC:Events for Visit Richfield
REFRESH-INTERVAL;VALUE=DURATION:PT1H
X-Robots-Tag:noindex
X-PUBLISHED-TTL:PT1H
BEGIN:VTIMEZONE
TZID:America/Chicago
BEGIN:DAYLIGHT
TZOFFSETFROM:-0600
TZOFFSETTO:-0500
TZNAME:CDT
DTSTART:20240310T080000
END:DAYLIGHT
BEGIN:STANDARD
TZOFFSETFROM:-0500
TZOFFSETTO:-0600
TZNAME:CST
DTSTART:20241103T070000
END:STANDARD
BEGIN:DAYLIGHT
TZOFFSETFROM:-0600
TZOFFSETTO:-0500
TZNAME:CDT
DTSTART:20250309T080000
END:DAYLIGHT
BEGIN:STANDARD
TZOFFSETFROM:-0500
TZOFFSETTO:-0600
TZNAME:CST
DTSTART:20251102T070000
END:STANDARD
BEGIN:DAYLIGHT
TZOFFSETFROM:-0600
TZOFFSETTO:-0500
TZNAME:CDT
DTSTART:20260308T080000
END:DAYLIGHT
BEGIN:STANDARD
TZOFFSETFROM:-0500
TZOFFSETTO:-0600
TZNAME:CST
DTSTART:20261101T070000
END:STANDARD
END:VTIMEZONE
BEGIN:VEVENT
DTSTART;TZID=America/Chicago:20250530T120000
DTEND;TZID=America/Chicago:20250530T170000
DTSTAMP:20260424T205107
CREATED:20250525T203141Z
LAST-MODIFIED:20250525T203142Z
UID:11161-1748606400-1748624400@visitrichfield.com
SUMMARY:SMURFS Meet & Greet
DESCRIPTION:Join us for a smurftastic day in the Huntington Bank Rotunda at Mall of America to meet Papa Smurf\, Smurfette\, and Noname Smurf. Celebrate the upcoming SMURFS movie and enjoy a day filled with fun and memorable photo opportunities. Don’t miss this chance to connect with your favorite blue friends and share the joy! SMURFS hits theatres July 18th\, brought to you by Paramount Pictures. Free.
URL:https://visitrichfield.com/event/smurfs-meet-greet/
LOCATION:Mall of America
CATEGORIES:MOA
ATTACH;FMTTYPE=image/jpeg:https://visitrichfield.com/wp-content/uploads/2025/05/Smurfs.jpg
END:VEVENT
END:VCALENDAR