
BEGIN:VCALENDAR
VERSION:2.0
PRODID:-//Visit Richfield - ECPv6.15.20//NONSGML v1.0//EN
CALSCALE:GREGORIAN
METHOD:PUBLISH
X-ORIGINAL-URL:https://visitrichfield.com
X-WR-CALDESC:Events for Visit Richfield
REFRESH-INTERVAL;VALUE=DURATION:PT1H
X-Robots-Tag:noindex
X-PUBLISHED-TTL:PT1H
BEGIN:VTIMEZONE
TZID:America/Chicago
BEGIN:DAYLIGHT
TZOFFSETFROM:-0600
TZOFFSETTO:-0500
TZNAME:CDT
DTSTART:20240310T080000
END:DAYLIGHT
BEGIN:STANDARD
TZOFFSETFROM:-0500
TZOFFSETTO:-0600
TZNAME:CST
DTSTART:20241103T070000
END:STANDARD
BEGIN:DAYLIGHT
TZOFFSETFROM:-0600
TZOFFSETTO:-0500
TZNAME:CDT
DTSTART:20250309T080000
END:DAYLIGHT
BEGIN:STANDARD
TZOFFSETFROM:-0500
TZOFFSETTO:-0600
TZNAME:CST
DTSTART:20251102T070000
END:STANDARD
BEGIN:DAYLIGHT
TZOFFSETFROM:-0600
TZOFFSETTO:-0500
TZNAME:CDT
DTSTART:20260308T080000
END:DAYLIGHT
BEGIN:STANDARD
TZOFFSETFROM:-0500
TZOFFSETTO:-0600
TZNAME:CST
DTSTART:20261101T070000
END:STANDARD
END:VTIMEZONE
BEGIN:VEVENT
DTSTART;TZID=America/Chicago:20250531T070000
DTEND;TZID=America/Chicago:20250531T120000
DTSTAMP:20260419T142359
CREATED:20250427T215359Z
LAST-MODIFIED:20250427T215359Z
UID:11077-1748674800-1748692800@visitrichfield.com
SUMMARY:Richfield Farmers Market
DESCRIPTION:On Saturday\, May 3\, the Richfield Farmers Market will start its summer season and celebrate 36 years in Richfield!  Click here to see the list of vendors\, updated every week.  Enjoy free outdoor yoga every week\, 8:45-9:30 a.m.\, and live music weekly.
URL:https://visitrichfield.com/event/richfield-farmers-market-7/2025-05-31/
LOCATION:Veterans Park\, 6335 Portland Avenue South\, Richfield\, MN\, 55423
CATEGORIES:farmers market
ATTACH;FMTTYPE=image/jpeg:https://visitrichfield.com/wp-content/uploads/2021/09/farmers-market.jpg
END:VEVENT
END:VCALENDAR