
BEGIN:VCALENDAR
VERSION:2.0
PRODID:-//Visit Richfield - ECPv6.15.20//NONSGML v1.0//EN
CALSCALE:GREGORIAN
METHOD:PUBLISH
X-ORIGINAL-URL:https://visitrichfield.com
X-WR-CALDESC:Events for Visit Richfield
REFRESH-INTERVAL;VALUE=DURATION:PT1H
X-Robots-Tag:noindex
X-PUBLISHED-TTL:PT1H
BEGIN:VTIMEZONE
TZID:America/Chicago
BEGIN:DAYLIGHT
TZOFFSETFROM:-0600
TZOFFSETTO:-0500
TZNAME:CDT
DTSTART:20240310T080000
END:DAYLIGHT
BEGIN:STANDARD
TZOFFSETFROM:-0500
TZOFFSETTO:-0600
TZNAME:CST
DTSTART:20241103T070000
END:STANDARD
BEGIN:DAYLIGHT
TZOFFSETFROM:-0600
TZOFFSETTO:-0500
TZNAME:CDT
DTSTART:20250309T080000
END:DAYLIGHT
BEGIN:STANDARD
TZOFFSETFROM:-0500
TZOFFSETTO:-0600
TZNAME:CST
DTSTART:20251102T070000
END:STANDARD
BEGIN:DAYLIGHT
TZOFFSETFROM:-0600
TZOFFSETTO:-0500
TZNAME:CDT
DTSTART:20260308T080000
END:DAYLIGHT
BEGIN:STANDARD
TZOFFSETFROM:-0500
TZOFFSETTO:-0600
TZNAME:CST
DTSTART:20261101T070000
END:STANDARD
END:VTIMEZONE
BEGIN:VEVENT
DTSTART;TZID=America/Chicago:20250729T110000
DTEND;TZID=America/Chicago:20250729T120000
DTSTAMP:20260421T230109
CREATED:20240531T211231Z
LAST-MODIFIED:20250705T204835Z
UID:10280-1753786800-1753790400@visitrichfield.com
SUMMARY:Entertainment in the Park:  Will Hale & the Tadpole Parade
DESCRIPTION:Will Hale offers fun entertainment for kids and families for live concerts\, music performances\, festivals\, community events\, pre schools\, daycares\, elementary schools\, scouts\, parks and recreation\, concert series\, churches\, private parties and pretty much everywhere there are kids! \nKids are the rock stars! When they clap\, dance and sing with Will Hale\, the king of rocking air guitar. The kid tested\, parent approved and teacher recommended concerts of Will Hale and the Tadpole Parade create a fun atmosphere filled with plenty of audience participation\, excitement\, and dynamic learning.  FREE.
URL:https://visitrichfield.com/event/entertainment-in-the-park-will-hale-the-tadpole-parade-2/
LOCATION:Richfield Band Shell\, 636 East 66th Street\, Richfield\, MN\, 55423
CATEGORIES:kids,music,outdoors
ATTACH;FMTTYPE=image/jpeg:https://visitrichfield.com/wp-content/uploads/2023/07/Will-Hald.jpg
END:VEVENT
BEGIN:VEVENT
DTSTART;TZID=America/Chicago:20250729T183000
DTEND;TZID=America/Chicago:20250729T193000
DTSTAMP:20260421T230109
CREATED:20250705T205307Z
LAST-MODIFIED:20250705T205308Z
UID:11214-1753813800-1753817400@visitrichfield.com
SUMMARY:Entertainment in the Park:  The Prizefighters
DESCRIPTION:The Prizefighters are purveyors of the heaviest-hitting ska\, rocksteady\, and reggae in town. With a critical eye on the future and grooves that echo the Kingston dancehalls of the 1960s\, The Prizefighters are top contenders in the worldwide reggae game.
URL:https://visitrichfield.com/event/entertainment-in-the-park-the-prizefighters/
LOCATION:Richfield Band Shell\, 636 East 66th Street\, Richfield\, MN\, 55423
CATEGORIES:music
ATTACH;FMTTYPE=image/jpeg:https://visitrichfield.com/wp-content/uploads/2025/07/Prizefighters.jpg
END:VEVENT
END:VCALENDAR