
BEGIN:VCALENDAR
VERSION:2.0
PRODID:-//Visit Richfield - ECPv6.15.20//NONSGML v1.0//EN
CALSCALE:GREGORIAN
METHOD:PUBLISH
X-WR-CALNAME:Visit Richfield
X-ORIGINAL-URL:https://visitrichfield.com
X-WR-CALDESC:Events for Visit Richfield
REFRESH-INTERVAL;VALUE=DURATION:PT1H
X-Robots-Tag:noindex
X-PUBLISHED-TTL:PT1H
BEGIN:VTIMEZONE
TZID:America/Chicago
BEGIN:DAYLIGHT
TZOFFSETFROM:-0600
TZOFFSETTO:-0500
TZNAME:CDT
DTSTART:20240310T080000
END:DAYLIGHT
BEGIN:STANDARD
TZOFFSETFROM:-0500
TZOFFSETTO:-0600
TZNAME:CST
DTSTART:20241103T070000
END:STANDARD
BEGIN:DAYLIGHT
TZOFFSETFROM:-0600
TZOFFSETTO:-0500
TZNAME:CDT
DTSTART:20250309T080000
END:DAYLIGHT
BEGIN:STANDARD
TZOFFSETFROM:-0500
TZOFFSETTO:-0600
TZNAME:CST
DTSTART:20251102T070000
END:STANDARD
BEGIN:DAYLIGHT
TZOFFSETFROM:-0600
TZOFFSETTO:-0500
TZNAME:CDT
DTSTART:20260308T080000
END:DAYLIGHT
BEGIN:STANDARD
TZOFFSETFROM:-0500
TZOFFSETTO:-0600
TZNAME:CST
DTSTART:20261101T070000
END:STANDARD
END:VTIMEZONE
BEGIN:VEVENT
DTSTART;TZID=America/Chicago:20250811T130000
DTEND;TZID=America/Chicago:20250811T150000
DTSTAMP:20260424T151227
CREATED:20250730T213126Z
LAST-MODIFIED:20250730T213127Z
UID:11273-1754917200-1754924400@visitrichfield.com
SUMMARY:MOA's 33rd birthday!
DESCRIPTION:Join us a Mall of America for an unforgettable birthday celebration filled with treats\, fun\, exciting giveaways\, and so much more! Get ready for a day packed with sweet surprises\, lively entertainment\, and memories that will last all year long. Sing your heart out on stage with our live karaoke band\, Hurricane Karaoke–open sign-ups available throughout the event! Stop by the Miqu Studio photobooth to get a custom mini drawing of yourself to commemorate the day\, and don’t forget to grab a delicious Carlo’s Bakery cupcake and a ice-cold Bubbl’r as part of the celebration. With festive decor\, a vibrant birthday photo op\, and activities for all ages\, you won’t want to miss this party–there’s something for everyone!
URL:https://visitrichfield.com/event/moas-33rd-birthday/
LOCATION:Mall of America
CATEGORIES:MOA
ATTACH;FMTTYPE=image/jpeg:https://visitrichfield.com/wp-content/uploads/2025/07/MOA-birthday.jpg
END:VEVENT
END:VCALENDAR