
BEGIN:VCALENDAR
VERSION:2.0
PRODID:-//Visit Richfield - ECPv6.15.20//NONSGML v1.0//EN
CALSCALE:GREGORIAN
METHOD:PUBLISH
X-WR-CALNAME:Visit Richfield
X-ORIGINAL-URL:https://visitrichfield.com
X-WR-CALDESC:Events for Visit Richfield
REFRESH-INTERVAL;VALUE=DURATION:PT1H
X-Robots-Tag:noindex
X-PUBLISHED-TTL:PT1H
BEGIN:VTIMEZONE
TZID:America/Chicago
BEGIN:DAYLIGHT
TZOFFSETFROM:-0600
TZOFFSETTO:-0500
TZNAME:CDT
DTSTART:20250309T080000
END:DAYLIGHT
BEGIN:STANDARD
TZOFFSETFROM:-0500
TZOFFSETTO:-0600
TZNAME:CST
DTSTART:20251102T070000
END:STANDARD
BEGIN:DAYLIGHT
TZOFFSETFROM:-0600
TZOFFSETTO:-0500
TZNAME:CDT
DTSTART:20260308T080000
END:DAYLIGHT
BEGIN:STANDARD
TZOFFSETFROM:-0500
TZOFFSETTO:-0600
TZNAME:CST
DTSTART:20261101T070000
END:STANDARD
BEGIN:DAYLIGHT
TZOFFSETFROM:-0600
TZOFFSETTO:-0500
TZNAME:CDT
DTSTART:20270314T080000
END:DAYLIGHT
BEGIN:STANDARD
TZOFFSETFROM:-0500
TZOFFSETTO:-0600
TZNAME:CST
DTSTART:20271107T070000
END:STANDARD
END:VTIMEZONE
BEGIN:VEVENT
DTSTART;TZID=America/Chicago:20260419T100000
DTEND;TZID=America/Chicago:20260419T180000
DTSTAMP:20260421T175808
CREATED:20260318T230220Z
LAST-MODIFIED:20260318T230220Z
UID:11920-1776592800-1776621600@visitrichfield.com
SUMMARY:
DESCRIPTION:Totally Rad Vintage Fest is back at Mall of America for a third year! Score sustainable vintage gems from a collection of rad vendors bringing a mix of unique clothing\, accessories\, and retro treasures. Don’t miss out on this one-of-a-kind vintage shopping event!
URL:https://visitrichfield.com/event/11918/2026-04-19/
LOCATION:Mall of America
CATEGORIES:shopping
ATTACH;FMTTYPE=image/jpeg:https://visitrichfield.com/wp-content/uploads/2026/03/637839767_1235998238675474_7281814553782052934_n.jpg
END:VEVENT
BEGIN:VEVENT
DTSTART;TZID=America/Chicago:20260419T123000
DTEND;TZID=America/Chicago:20260419T153000
DTSTAMP:20260421T175808
CREATED:20260318T223710Z
LAST-MODIFIED:20260318T223710Z
UID:11914-1776601800-1776612600@visitrichfield.com
SUMMARY:Printing in Spring: Intro to Block Printing
DESCRIPTION:Learn the basics of block printing by creating your own block with a personalized design\, inspired by nature!  Get a hands-on lesson in the process of designing\, carving\, and printing your very own block that can be used for years to come. Ages 13 and up; minors must be accompanied by an adult.  $10 per person; half-off for Wood Lake members (plus a $30 material fee).   Click here to sign up.
URL:https://visitrichfield.com/event/printing-in-spring-intro-to-block-printing/2026-04-19/
LOCATION:Richfield Community Center\, 7000 Nicollet Ave\, Richfield\, Richfield\, MN\, 55423\, United States
CATEGORIES:crafts
ATTACH;FMTTYPE=image/jpeg:https://visitrichfield.com/wp-content/uploads/2026/03/v1022-29-scaled.jpg
END:VEVENT
BEGIN:VEVENT
DTSTART;TZID=America/Chicago:20260419T130000
DTEND;TZID=America/Chicago:20260419T170000
DTSTAMP:20260421T175808
CREATED:20260406T174355Z
LAST-MODIFIED:20260406T174356Z
UID:11942-1776603600-1776618000@visitrichfield.com
SUMMARY:Sculpting with Flowers: An Art in Bloom Experience in partnership with Mia & Bachmans
DESCRIPTION:Watch art come alive—petal by petal—at Art in Bloom’s floral demonstrations on Sunday\, April 19. Throughout this immersive activation\, Professional Floral Artists will create live arrangements inspired by different works of art\, sharing their process on stage as a moderator guides the conversation and invites audience questions for a rare\, behind-the-scenes look at floral artistry in action. \nDon’t miss Art in Bloom at the Minneapolis Institute of Art April 23–26\, 2026. Free and open to everyone\, Art in Bloom showcases imaginative floral interpretations of selected works of art from Mia’s permanent collection\, created by more than 100 individual and commercial florists. Learn more at artsmia.org/art-in-bloom \nPlus\, join Mia for a high-style preview of Art in Bloom\, where galleries come alive with florals\, fashion\, and after-hours energy. Featuring culinary experiences by Bûcheron\, fashion moments curated by MartinPatrick3\, and more. Find tickets at tickets.artsmia.org/events
URL:https://visitrichfield.com/event/sculpting-with-flowers-an-art-in-bloom-experience-in-partnership-with-mia-bachmans/
LOCATION:Mall of America
ATTACH;FMTTYPE=image/jpeg:https://visitrichfield.com/wp-content/uploads/2026/04/Art-in-Bloom.jpg
END:VEVENT
END:VCALENDAR