
BEGIN:VCALENDAR
VERSION:2.0
PRODID:-//Visit Richfield - ECPv6.15.20//NONSGML v1.0//EN
CALSCALE:GREGORIAN
METHOD:PUBLISH
X-ORIGINAL-URL:https://visitrichfield.com
X-WR-CALDESC:Events for Visit Richfield
REFRESH-INTERVAL;VALUE=DURATION:PT1H
X-Robots-Tag:noindex
X-PUBLISHED-TTL:PT1H
BEGIN:VTIMEZONE
TZID:America/Chicago
BEGIN:DAYLIGHT
TZOFFSETFROM:-0600
TZOFFSETTO:-0500
TZNAME:CDT
DTSTART:20240310T080000
END:DAYLIGHT
BEGIN:STANDARD
TZOFFSETFROM:-0500
TZOFFSETTO:-0600
TZNAME:CST
DTSTART:20241103T070000
END:STANDARD
BEGIN:DAYLIGHT
TZOFFSETFROM:-0600
TZOFFSETTO:-0500
TZNAME:CDT
DTSTART:20250309T080000
END:DAYLIGHT
BEGIN:STANDARD
TZOFFSETFROM:-0500
TZOFFSETTO:-0600
TZNAME:CST
DTSTART:20251102T070000
END:STANDARD
BEGIN:DAYLIGHT
TZOFFSETFROM:-0600
TZOFFSETTO:-0500
TZNAME:CDT
DTSTART:20260308T080000
END:DAYLIGHT
BEGIN:STANDARD
TZOFFSETFROM:-0500
TZOFFSETTO:-0600
TZNAME:CST
DTSTART:20261101T070000
END:STANDARD
END:VTIMEZONE
BEGIN:VEVENT
DTSTART;TZID=America/Chicago:20250504T130000
DTEND;TZID=America/Chicago:20250504T143000
DTSTAMP:20260423T204444
CREATED:20250427T222743Z
LAST-MODIFIED:20250427T222744Z
UID:11079-1746363600-1746369000@visitrichfield.com
SUMMARY:Women's Spring Hike
DESCRIPTION:Walk with a naturalist to take in the spring awakenings and see what seasonal changes are taking place. Build community with others as we explore the trails. Ages 15 and up; all children must be accompanied by an adult. All people attending must register. Limit 15.
URL:https://visitrichfield.com/event/womens-spring-hike/
LOCATION:Wood Lake Nature Center\, 6710 Lake Shore Drive\, Richfield\, MN\, 55423\, United States
CATEGORIES:active
ATTACH;FMTTYPE=image/jpeg:https://visitrichfield.com/wp-content/uploads/2024/09/women-hike.jpg
END:VEVENT
BEGIN:VEVENT
DTSTART;TZID=America/Chicago:20250508T163000
DTEND;TZID=America/Chicago:20250508T183000
DTSTAMP:20260423T204444
CREATED:20250427T223029Z
LAST-MODIFIED:20250427T223155Z
UID:11080-1746721800-1746729000@visitrichfield.com
SUMMARY:Taft Bike Park Season Kickoff
DESCRIPTION:Join us at Taft Park for this season’s kick-off event celebrating all that is biking! Enjoy Richfield’s bike park track\, connect with a collection of onsite vendors\, learn about Richfield recreation offerings\, and grab dinner at the food truck.
URL:https://visitrichfield.com/event/taft-bike-park-season-kickoff/
LOCATION:Taft Park\, 6105 Bloomington Avenue South\, Richfield\, MN\, 55423\, United States
CATEGORIES:active,biking
ATTACH;FMTTYPE=image/jpeg:https://visitrichfield.com/wp-content/uploads/2023/10/bike-ride.jpg
END:VEVENT
BEGIN:VEVENT
DTSTART;TZID=America/Chicago:20250508T180000
DTEND;TZID=America/Chicago:20250508T193000
DTSTAMP:20260423T204444
CREATED:20250427T223731Z
LAST-MODIFIED:20250427T223733Z
UID:11081-1746727200-1746732600@visitrichfield.com
SUMMARY:Spring Bird Hike
DESCRIPTION:Enjoy a spring hike though Wood Lake as we look for both migrating and resident birds. Discover how to identify species from sight and sound. Binoculars and field guides will be available for loan. Ages 10 and up; all children must be accompanied by an adult.  All people attending must register; limit 15.
URL:https://visitrichfield.com/event/spring-bird-hike-6/2025-05-08/
LOCATION:Wood Lake Nature Center\, 6710 Lake Shore Drive\, Richfield\, MN\, 55423\, United States
CATEGORIES:active,birds,nature
ATTACH;FMTTYPE=image/jpeg:https://visitrichfield.com/wp-content/uploads/2023/04/Bird-Club.jpg
END:VEVENT
BEGIN:VEVENT
DTSTART;TZID=America/Chicago:20250509T190000
DTEND;TZID=America/Chicago:20250509T210000
DTSTAMP:20260423T204444
CREATED:20250427T224530Z
LAST-MODIFIED:20250427T224643Z
UID:11085-1746817200-1746824400@visitrichfield.com
SUMMARY:Glow in the Dark Mini-Golf
DESCRIPTION:Get ready for an unforgettable night of fun and excitement!  Experience vibrant neon colors and the magic of blacklight as you play a round of Glow in the Dark Mini-Golf!  Plus\, enjoy an inflatable slide\, music\, and concessions for the whole family. Pre-registration encouraged\, but walk-up registration with cash will be allowed as space permits.
URL:https://visitrichfield.com/event/glow-in-the-dark-mini-golf/2025-05-09/
LOCATION:Veterans Park\, 6335 Portland Avenue South\, Richfield\, MN\, 55423
CATEGORIES:active,mini-golf
ATTACH;FMTTYPE=image/jpeg:https://visitrichfield.com/wp-content/uploads/2025/04/Glow-in-the-Dark-Mini-Golf.jpg
END:VEVENT
BEGIN:VEVENT
DTSTART;TZID=America/Chicago:20250510T190000
DTEND;TZID=America/Chicago:20250510T210000
DTSTAMP:20260423T204444
CREATED:20250427T224530Z
LAST-MODIFIED:20250427T224530Z
UID:11087-1746903600-1746910800@visitrichfield.com
SUMMARY:Glow in the Dark Mini-Golf
DESCRIPTION:Get ready for an unforgettable night of fun and excitement!  Experience vibrant neon colors and the magic of blacklight as you play a round of Glow in the Dark Mini-Golf!  Plus\, enjoy an inflatable slide\, music\, and concessions for the whole family. Pre-registration encouraged\, but walk-up registration with cash will be allowed as space permits.
URL:https://visitrichfield.com/event/glow-in-the-dark-mini-golf/2025-05-10/
LOCATION:Veterans Park\, 6335 Portland Avenue South\, Richfield\, MN\, 55423
CATEGORIES:active,mini-golf
ATTACH;FMTTYPE=image/jpeg:https://visitrichfield.com/wp-content/uploads/2025/04/Glow-in-the-Dark-Mini-Golf.jpg
END:VEVENT
BEGIN:VEVENT
DTSTART;TZID=America/Chicago:20250514T080000
DTEND;TZID=America/Chicago:20250514T100000
DTSTAMP:20260423T204444
CREATED:20250427T223906Z
LAST-MODIFIED:20250427T223907Z
UID:11084-1747209600-1747216800@visitrichfield.com
SUMMARY:Spring Bird Hike
DESCRIPTION:Enjoy a spring hike though Veterans Park as we look for both migrating and resident birds. Discover how to identify species from sight and sound. Binoculars and field guides will be available for loan. Ages 10 and up; all children must be accompanied by an adult.  All people attending must register; limit 15.
URL:https://visitrichfield.com/event/spring-bird-hike-7/
LOCATION:Veterans Park\, 6335 Portland Avenue South\, Richfield\, MN\, 55423
CATEGORIES:active,birds,nature
ATTACH;FMTTYPE=image/jpeg:https://visitrichfield.com/wp-content/uploads/2023/04/Bird-Club.jpg
END:VEVENT
BEGIN:VEVENT
DTSTART;TZID=America/Chicago:20250516T190000
DTEND;TZID=America/Chicago:20250516T210000
DTSTAMP:20260423T204444
CREATED:20250427T224530Z
LAST-MODIFIED:20250427T224530Z
UID:11088-1747422000-1747429200@visitrichfield.com
SUMMARY:Glow in the Dark Mini-Golf
DESCRIPTION:Get ready for an unforgettable night of fun and excitement!  Experience vibrant neon colors and the magic of blacklight as you play a round of Glow in the Dark Mini-Golf!  Plus\, enjoy an inflatable slide\, music\, and concessions for the whole family. Pre-registration encouraged\, but walk-up registration with cash will be allowed as space permits.
URL:https://visitrichfield.com/event/glow-in-the-dark-mini-golf/2025-05-16/
LOCATION:Veterans Park\, 6335 Portland Avenue South\, Richfield\, MN\, 55423
CATEGORIES:active,mini-golf
ATTACH;FMTTYPE=image/jpeg:https://visitrichfield.com/wp-content/uploads/2025/04/Glow-in-the-Dark-Mini-Golf.jpg
END:VEVENT
BEGIN:VEVENT
DTSTART;TZID=America/Chicago:20250517T190000
DTEND;TZID=America/Chicago:20250517T210000
DTSTAMP:20260423T204444
CREATED:20250427T224530Z
LAST-MODIFIED:20250427T224530Z
UID:11089-1747508400-1747515600@visitrichfield.com
SUMMARY:Glow in the Dark Mini-Golf
DESCRIPTION:Get ready for an unforgettable night of fun and excitement!  Experience vibrant neon colors and the magic of blacklight as you play a round of Glow in the Dark Mini-Golf!  Plus\, enjoy an inflatable slide\, music\, and concessions for the whole family. Pre-registration encouraged\, but walk-up registration with cash will be allowed as space permits.
URL:https://visitrichfield.com/event/glow-in-the-dark-mini-golf/2025-05-17/
LOCATION:Veterans Park\, 6335 Portland Avenue South\, Richfield\, MN\, 55423
CATEGORIES:active,mini-golf
ATTACH;FMTTYPE=image/jpeg:https://visitrichfield.com/wp-content/uploads/2025/04/Glow-in-the-Dark-Mini-Golf.jpg
END:VEVENT
BEGIN:VEVENT
DTSTART;TZID=America/Chicago:20250522T180000
DTEND;TZID=America/Chicago:20250522T193000
DTSTAMP:20260423T204444
CREATED:20250427T223731Z
LAST-MODIFIED:20250427T223731Z
UID:11083-1747936800-1747942200@visitrichfield.com
SUMMARY:Spring Bird Hike
DESCRIPTION:Enjoy a spring hike though Wood Lake as we look for both migrating and resident birds. Discover how to identify species from sight and sound. Binoculars and field guides will be available for loan. Ages 10 and up; all children must be accompanied by an adult.  All people attending must register; limit 15.
URL:https://visitrichfield.com/event/spring-bird-hike-6/2025-05-22/
LOCATION:Wood Lake Nature Center\, 6710 Lake Shore Drive\, Richfield\, MN\, 55423\, United States
CATEGORIES:active,birds,nature
ATTACH;FMTTYPE=image/jpeg:https://visitrichfield.com/wp-content/uploads/2023/04/Bird-Club.jpg
END:VEVENT
BEGIN:VEVENT
DTSTART;TZID=America/Chicago:20250522T180000
DTEND;TZID=America/Chicago:20250522T193000
DTSTAMP:20260423T204444
CREATED:20250428T164729Z
LAST-MODIFIED:20250428T164730Z
UID:11098-1747936800-1747942200@visitrichfield.com
SUMMARY:Run Richfield!
DESCRIPTION:Race through beautiful Augsburg Park in this second-annual cross-country style event specifically for students K-8th grade\, and supported by the cheers of Richfield High School’s cross-country runners and coaches. Family members are welcome to attend. Participants will run in heats with their age group. $5 registration; does not include T-shirt. Register here.
URL:https://visitrichfield.com/event/run-richfield/
LOCATION:Augsburg Park\, 7100 Nicollet Avenue\, Richfield\, MN\, 55423
CATEGORIES:active
ATTACH;FMTTYPE=image/avif:https://visitrichfield.com/wp-content/uploads/2025/04/kids-run.avif
END:VEVENT
BEGIN:VEVENT
DTSTART;TZID=America/Chicago:20250523T090000
DTEND;TZID=America/Chicago:20250523T200000
DTSTAMP:20260423T204444
CREATED:20250428T170313Z
LAST-MODIFIED:20250428T170314Z
UID:11100-1747990800-1748030400@visitrichfield.com
SUMMARY:Kayak/Paddleboard rental begins!
DESCRIPTION:Kayak and paddleboard rental begins today!  (Reservations open May 6.)  Make reservations and pay online to rent kayaks (single and two-person) and paddleboards for 4-hour blocks (located at the north end of Taft Park at 62nd and Bloomington Avenue).
URL:https://visitrichfield.com/event/kayak-paddleboard-rental-begins/
LOCATION:Taft Park\, 6105 Bloomington Avenue South\, Richfield\, MN\, 55423\, United States
CATEGORIES:active
ATTACH;FMTTYPE=image/jpeg:https://visitrichfield.com/wp-content/uploads/2025/04/Paddleboard-image.jpg
END:VEVENT
END:VCALENDAR