
BEGIN:VCALENDAR
VERSION:2.0
PRODID:-//Visit Richfield - ECPv6.15.20//NONSGML v1.0//EN
CALSCALE:GREGORIAN
METHOD:PUBLISH
X-WR-CALNAME:Visit Richfield
X-ORIGINAL-URL:https://visitrichfield.com
X-WR-CALDESC:Events for Visit Richfield
REFRESH-INTERVAL;VALUE=DURATION:PT1H
X-Robots-Tag:noindex
X-PUBLISHED-TTL:PT1H
BEGIN:VTIMEZONE
TZID:America/Chicago
BEGIN:DAYLIGHT
TZOFFSETFROM:-0600
TZOFFSETTO:-0500
TZNAME:CDT
DTSTART:20240310T080000
END:DAYLIGHT
BEGIN:STANDARD
TZOFFSETFROM:-0500
TZOFFSETTO:-0600
TZNAME:CST
DTSTART:20241103T070000
END:STANDARD
BEGIN:DAYLIGHT
TZOFFSETFROM:-0600
TZOFFSETTO:-0500
TZNAME:CDT
DTSTART:20250309T080000
END:DAYLIGHT
BEGIN:STANDARD
TZOFFSETFROM:-0500
TZOFFSETTO:-0600
TZNAME:CST
DTSTART:20251102T070000
END:STANDARD
BEGIN:DAYLIGHT
TZOFFSETFROM:-0600
TZOFFSETTO:-0500
TZNAME:CDT
DTSTART:20260308T080000
END:DAYLIGHT
BEGIN:STANDARD
TZOFFSETFROM:-0500
TZOFFSETTO:-0600
TZNAME:CST
DTSTART:20261101T070000
END:STANDARD
END:VTIMEZONE
BEGIN:VEVENT
DTSTART;TZID=America/Chicago:20250607T140000
DTEND;TZID=America/Chicago:20250607T153000
DTSTAMP:20260424T183103
CREATED:20250525T132939Z
LAST-MODIFIED:20250525T132942Z
UID:11129-1749304800-1749310200@visitrichfield.com
SUMMARY:Family Pickleball Day
DESCRIPTION:Celebrate family pickleball day at Richfield’s Heredia Park! Rec staff and instructor Rachel Kroog will guide play\, with participants getting a chance to try this growing sport. Bring a paddle or borrow equipment from the city. Completely free and perfect for all ages and abilities!
URL:https://visitrichfield.com/event/family-pickleball-day/
LOCATION:Heredia Park\, 6710 Portland Avenue\, Richfield\, MN\, 55423
CATEGORIES:active
ATTACH;FMTTYPE=image/jpeg:https://visitrichfield.com/wp-content/uploads/2025/05/Pickleball-paddles-spring-2021.jpg
END:VEVENT
END:VCALENDAR