
BEGIN:VCALENDAR
VERSION:2.0
PRODID:-//Visit Richfield - ECPv6.15.20//NONSGML v1.0//EN
CALSCALE:GREGORIAN
METHOD:PUBLISH
X-WR-CALNAME:Visit Richfield
X-ORIGINAL-URL:https://visitrichfield.com
X-WR-CALDESC:Events for Visit Richfield
REFRESH-INTERVAL;VALUE=DURATION:PT1H
X-Robots-Tag:noindex
X-PUBLISHED-TTL:PT1H
BEGIN:VTIMEZONE
TZID:America/Chicago
BEGIN:DAYLIGHT
TZOFFSETFROM:-0600
TZOFFSETTO:-0500
TZNAME:CDT
DTSTART:20240310T080000
END:DAYLIGHT
BEGIN:STANDARD
TZOFFSETFROM:-0500
TZOFFSETTO:-0600
TZNAME:CST
DTSTART:20241103T070000
END:STANDARD
BEGIN:DAYLIGHT
TZOFFSETFROM:-0600
TZOFFSETTO:-0500
TZNAME:CDT
DTSTART:20250309T080000
END:DAYLIGHT
BEGIN:STANDARD
TZOFFSETFROM:-0500
TZOFFSETTO:-0600
TZNAME:CST
DTSTART:20251102T070000
END:STANDARD
BEGIN:DAYLIGHT
TZOFFSETFROM:-0600
TZOFFSETTO:-0500
TZNAME:CDT
DTSTART:20260308T080000
END:DAYLIGHT
BEGIN:STANDARD
TZOFFSETFROM:-0500
TZOFFSETTO:-0600
TZNAME:CST
DTSTART:20261101T070000
END:STANDARD
END:VTIMEZONE
BEGIN:VEVENT
DTSTART;TZID=America/Chicago:20250620T173000
DTEND;TZID=America/Chicago:20250620T200000
DTSTAMP:20260421T192814
CREATED:20250525T202149Z
LAST-MODIFIED:20250525T202158Z
UID:11155-1750440600-1750449600@visitrichfield.com
SUMMARY:3rd Lair Skateboard Contest Summer Series
DESCRIPTION:The Summer Series skateboard contest is hitting Richfield’s Augsburg Park Skatepark on Friday\, June 20! Starting at 5:30 p.m. with registration and check-in\, this free event features divisions for all skill levels and prizes for the top three in each. Whether you’re competing or cheering on the skaters\, come celebrate our city’s skatepark–this event is free to participate in and free to attend!
URL:https://visitrichfield.com/event/3rd-lair-skateboard-contest-summer-series/
LOCATION:Augsburg Skate Park\, 7000 Nicollet Avenue\, Richfield\, MN\, 55423
CATEGORIES:active
ATTACH;FMTTYPE=image/jpeg:https://visitrichfield.com/wp-content/uploads/2025/05/3rd-Lair.jpg
END:VEVENT
END:VCALENDAR