
BEGIN:VCALENDAR
VERSION:2.0
PRODID:-//Visit Richfield - ECPv6.15.20//NONSGML v1.0//EN
CALSCALE:GREGORIAN
METHOD:PUBLISH
X-ORIGINAL-URL:https://visitrichfield.com
X-WR-CALDESC:Events for Visit Richfield
REFRESH-INTERVAL;VALUE=DURATION:PT1H
X-Robots-Tag:noindex
X-PUBLISHED-TTL:PT1H
BEGIN:VTIMEZONE
TZID:America/Chicago
BEGIN:DAYLIGHT
TZOFFSETFROM:-0600
TZOFFSETTO:-0500
TZNAME:CDT
DTSTART:20240310T080000
END:DAYLIGHT
BEGIN:STANDARD
TZOFFSETFROM:-0500
TZOFFSETTO:-0600
TZNAME:CST
DTSTART:20241103T070000
END:STANDARD
BEGIN:DAYLIGHT
TZOFFSETFROM:-0600
TZOFFSETTO:-0500
TZNAME:CDT
DTSTART:20250309T080000
END:DAYLIGHT
BEGIN:STANDARD
TZOFFSETFROM:-0500
TZOFFSETTO:-0600
TZNAME:CST
DTSTART:20251102T070000
END:STANDARD
BEGIN:DAYLIGHT
TZOFFSETFROM:-0600
TZOFFSETTO:-0500
TZNAME:CDT
DTSTART:20260308T080000
END:DAYLIGHT
BEGIN:STANDARD
TZOFFSETFROM:-0500
TZOFFSETTO:-0600
TZNAME:CST
DTSTART:20261101T070000
END:STANDARD
BEGIN:DAYLIGHT
TZOFFSETFROM:-0600
TZOFFSETTO:-0500
TZNAME:CDT
DTSTART:20270314T080000
END:DAYLIGHT
BEGIN:STANDARD
TZOFFSETFROM:-0500
TZOFFSETTO:-0600
TZNAME:CST
DTSTART:20271107T070000
END:STANDARD
END:VTIMEZONE
BEGIN:VEVENT
DTSTART;TZID=America/Chicago:20250610T103000
DTEND;TZID=America/Chicago:20250610T120000
DTSTAMP:20260425T100434
CREATED:20250525T140220Z
LAST-MODIFIED:20250525T140221Z
UID:11136-1749551400-1749556800@visitrichfield.com
SUMMARY:GrandFUN Day!
DESCRIPTION:Grandparents\, bring your grandchildren to Veterans Park for a morning of GrandFUN! Play a round of mini-golf\, enjoy a slice of pizza\, and play on the playground. They’re only little once\, so spend some quality time with those you love. \nThis programs is best for youth ages 3-12. $10/person; register here.
URL:https://visitrichfield.com/event/grandfun-day/
LOCATION:Veterans Park\, 6335 Portland Avenue South\, Richfield\, MN\, 55423
CATEGORIES:active
END:VEVENT
BEGIN:VEVENT
DTSTART;TZID=America/Chicago:20250620T173000
DTEND;TZID=America/Chicago:20250620T200000
DTSTAMP:20260425T100434
CREATED:20250525T202149Z
LAST-MODIFIED:20250525T202158Z
UID:11155-1750440600-1750449600@visitrichfield.com
SUMMARY:3rd Lair Skateboard Contest Summer Series
DESCRIPTION:The Summer Series skateboard contest is hitting Richfield’s Augsburg Park Skatepark on Friday\, June 20! Starting at 5:30 p.m. with registration and check-in\, this free event features divisions for all skill levels and prizes for the top three in each. Whether you’re competing or cheering on the skaters\, come celebrate our city’s skatepark–this event is free to participate in and free to attend!
URL:https://visitrichfield.com/event/3rd-lair-skateboard-contest-summer-series/
LOCATION:Augsburg Skate Park\, 7000 Nicollet Avenue\, Richfield\, MN\, 55423
CATEGORIES:active
ATTACH;FMTTYPE=image/jpeg:https://visitrichfield.com/wp-content/uploads/2025/05/3rd-Lair.jpg
END:VEVENT
BEGIN:VEVENT
DTSTART;TZID=America/Chicago:20250712T140000
DTEND;TZID=America/Chicago:20250712T160000
DTSTAMP:20260425T100434
CREATED:20250705T193441Z
LAST-MODIFIED:20250705T193441Z
UID:11194-1752328800-1752336000@visitrichfield.com
SUMMARY:Family Tennis Day Pop-Up
DESCRIPTION:Do you love tennis and want to share that love with your family\, or have you always wanted to learn but did not know how to start? Roound up your family and friends for this special pop-up\, and come play with us! USTA Northern Tennis Instructors will be out to support families and participants alike on the fundamentals of tennis.  Equipment\, refreshments\, and swag will be provided for your enjoyment\, as well as Spanish interpreters to assist with any instructional language barriers for families. Sign up with your family today and let’s explore tennis together!  Free.
URL:https://visitrichfield.com/event/family-tennis-day-pop-up-2/
LOCATION:Augsburg Park Tennis Courts\, 7200 Blaisdell Avenue South\, Richfield\, MN\, 55423
CATEGORIES:active
ATTACH;FMTTYPE=image/jpeg:https://visitrichfield.com/wp-content/uploads/2024/07/Tennis.jpg
END:VEVENT
BEGIN:VEVENT
DTSTART;TZID=America/Chicago:20250719T120000
DTEND;TZID=America/Chicago:20250719T160000
DTSTAMP:20260425T100434
CREATED:20250705T200412Z
LAST-MODIFIED:20250705T211156Z
UID:11201-1752926400-1752940800@visitrichfield.com
SUMMARY:Poolapalooza
DESCRIPTION:Build your boat (using cardboard and duct tape only!)\, then race across the pool for a chance to win cool prizes–including a 2026 season pass!  Free to participate\, but space is limited and registration is required. \n 
URL:https://visitrichfield.com/event/poolapalooza-2/
LOCATION:Richfield Outdoor Pool\, 630 East 66th Street\, Richfield\, MN\, 55423
CATEGORIES:active
ATTACH;FMTTYPE=image/jpeg:https://visitrichfield.com/wp-content/uploads/2025/07/357541637_638081128351273_7428413999626254712_n.jpg
END:VEVENT
BEGIN:VEVENT
DTSTART;TZID=America/Chicago:20250723T183000
DTEND;TZID=America/Chicago:20250723T203000
DTSTAMP:20260425T100434
CREATED:20250705T203449Z
LAST-MODIFIED:20250705T203450Z
UID:11208-1753295400-1753302600@visitrichfield.com
SUMMARY:Intergenerational Fishing Night
DESCRIPTION:Enjoy an evening outdoors as you learn the basics of fishing\, with guidance from the Outdoor Recreation School at Three Rivers Park District.  Held at the Taft Park fishing pier. All fishing gear will be provided\, and though the event is free\, pre-registration is required.
URL:https://visitrichfield.com/event/intergenerational-fishing-night/2025-07-23/
LOCATION:Taft Park\, 6105 Bloomington Avenue South\, Richfield\, MN\, 55423\, United States
CATEGORIES:active
ATTACH;FMTTYPE=image/jpeg:https://visitrichfield.com/wp-content/uploads/2023/07/kid-boy-hold-fish-fishing-rod-169866680.jpg
END:VEVENT
BEGIN:VEVENT
DTSTART;TZID=America/Chicago:20250726T070000
DTEND;TZID=America/Chicago:20250726T110000
DTSTAMP:20260425T100434
CREATED:20250705T204706Z
LAST-MODIFIED:20250705T204707Z
UID:11212-1753513200-1753527600@visitrichfield.com
SUMMARY:23rd Annual Urban Wildland Half-Marathon & 5K
DESCRIPTION:Registration is now open for the 23rd annual Wood Lake fundraising event on Saturday\, July 26! 100% of the proceeds benefit Wood Lake Nature Center and environmental education for Richfield students\, a relationship that has lasted over 50 years! The Half Marathon features a beautiful flat\, circular course that runs through Richfield’s urban neighborhoods and many city parks\, featuring Wood Lake with its woodsy trails around the water’s edge. The Half Marathon course is certified and is a great midsummer training option for a fall marathon. \nTo register\, volunteer\, or donate\, please visit www.urbanwildland.com.
URL:https://visitrichfield.com/event/23rd-annual-urban-wildland-half-marathon-5k/
LOCATION:Richfield Ice Arena
CATEGORIES:active
ATTACH;FMTTYPE=image/jpeg:https://visitrichfield.com/wp-content/uploads/2025/07/195163-Copy.jpg
END:VEVENT
BEGIN:VEVENT
DTSTART;TZID=America/Chicago:20250820T183000
DTEND;TZID=America/Chicago:20250820T203000
DTSTAMP:20260425T100434
CREATED:20250705T203449Z
LAST-MODIFIED:20250705T203449Z
UID:11209-1755714600-1755721800@visitrichfield.com
SUMMARY:Intergenerational Fishing Night
DESCRIPTION:Enjoy an evening outdoors as you learn the basics of fishing\, with guidance from the Outdoor Recreation School at Three Rivers Park District.  Held at the Taft Park fishing pier. All fishing gear will be provided\, and though the event is free\, pre-registration is required.
URL:https://visitrichfield.com/event/intergenerational-fishing-night/2025-08-20/
LOCATION:Taft Park\, 6105 Bloomington Avenue South\, Richfield\, MN\, 55423\, United States
CATEGORIES:active
ATTACH;FMTTYPE=image/jpeg:https://visitrichfield.com/wp-content/uploads/2023/07/kid-boy-hold-fish-fishing-rod-169866680.jpg
END:VEVENT
BEGIN:VEVENT
DTSTART;TZID=America/Chicago:20250826T120000
DTEND;TZID=America/Chicago:20250826T131500
DTSTAMP:20260425T100434
CREATED:20221231T213356Z
LAST-MODIFIED:20250826T171131Z
UID:6102-1756209600-1756214100@visitrichfield.com
SUMMARY:Open Skating
DESCRIPTION:Open skating kicks off at Richfield Ice Arena!!  Wednesdays 6:3-8 p.m.; Sundays 5-6:15 p.m.; and most weekdays 12-1:15 p.m. Skating $7 per person; skate rental $4. Buy 10 sessions for only $56!
URL:https://visitrichfield.com/event/open-skating-6/
LOCATION:Richfield Ice Arena
CATEGORIES:active,family
ATTACH;FMTTYPE=image/jpeg:https://visitrichfield.com/wp-content/uploads/2022/12/Open-skate.jpg
END:VEVENT
BEGIN:VEVENT
DTSTART;TZID=America/Chicago:20250902T120000
DTEND;TZID=America/Chicago:20250902T131500
DTSTAMP:20260425T100434
CREATED:20250826T171724Z
LAST-MODIFIED:20250826T171725Z
UID:11362-1756814400-1756818900@visitrichfield.com
SUMMARY:Open skating
DESCRIPTION:Open skating kicks off at the Richfield Ice Arena!  Wednesday nights 6:30-8 p.m.; Sundays 5-6:15 p.m.; and weekdays Monday through Thursday 12-1:15 p.m.  $7/session\, $/skate rental.  Have fun skating!
URL:https://visitrichfield.com/event/open-skating-3/
LOCATION:Richfield Ice Arena
CATEGORIES:active
ATTACH;FMTTYPE=image/jpeg:https://visitrichfield.com/wp-content/uploads/2022/12/Open-skate.jpg
END:VEVENT
BEGIN:VEVENT
DTSTART;TZID=America/Chicago:20250919T100000
DTEND;TZID=America/Chicago:20250919T103000
DTSTAMP:20260425T100434
CREATED:20250901T203235Z
LAST-MODIFIED:20250901T203236Z
UID:11388-1758276000-1758277800@visitrichfield.com
SUMMARY:Park & Play: Family Yoga & Story Time
DESCRIPTION:This fall\, kids can explore and learn in our Richfield parks. Enjoy story times that inspire imagination\, hands-on experiences with Wood Lake naturalists\, and Storybook Hikes that bring favorite tales to life along scenic trails.  Today:  Family Yoga & Story Time!
URL:https://visitrichfield.com/event/park-play-family-yoga-story-time/2025-09-19/
LOCATION:Augsburg Adventure Park\, 7000 Nicollet Avenue South\, Richfield\, MN\, 55423
CATEGORIES:active
ATTACH;FMTTYPE=image/jpeg:https://visitrichfield.com/wp-content/uploads/2025/09/Storytime-FAll-2024.jpg
END:VEVENT
BEGIN:VEVENT
DTSTART;TZID=America/Chicago:20250920T100000
DTEND;TZID=America/Chicago:20250920T103000
DTSTAMP:20260425T100434
CREATED:20250901T203235Z
LAST-MODIFIED:20250901T203235Z
UID:11390-1758362400-1758364200@visitrichfield.com
SUMMARY:Park & Play: Family Yoga & Story Time
DESCRIPTION:This fall\, kids can explore and learn in our Richfield parks. Enjoy story times that inspire imagination\, hands-on experiences with Wood Lake naturalists\, and Storybook Hikes that bring favorite tales to life along scenic trails.  Today:  Family Yoga & Story Time!
URL:https://visitrichfield.com/event/park-play-family-yoga-story-time/2025-09-20/
LOCATION:Augsburg Adventure Park\, 7000 Nicollet Avenue South\, Richfield\, MN\, 55423
CATEGORIES:active
ATTACH;FMTTYPE=image/jpeg:https://visitrichfield.com/wp-content/uploads/2025/09/Storytime-FAll-2024.jpg
END:VEVENT
BEGIN:VEVENT
DTSTART;TZID=America/Chicago:20251026T170000
DTEND;TZID=America/Chicago:20251026T181500
DTSTAMP:20260425T100434
CREATED:20240926T172100Z
LAST-MODIFIED:20260120T165624Z
UID:11610-1761498000-1761502500@visitrichfield.com
SUMMARY:Cosmic Ice Skating
DESCRIPTION:Music! Lights!  Concessions!  Ice skating\, but with an extra twist.  $6 per person; rental skates $4.
URL:https://visitrichfield.com/event/cosmic-ice-skating/2025-10-26/
LOCATION:Richfield Ice Arena
CATEGORIES:active
ATTACH;FMTTYPE=image/jpeg:https://visitrichfield.com/wp-content/uploads/2023/11/Cosmic-ice-skating.jpg
END:VEVENT
BEGIN:VEVENT
DTSTART;TZID=America/Chicago:20251116T170000
DTEND;TZID=America/Chicago:20251116T181500
DTSTAMP:20260425T100434
CREATED:20240926T172100Z
LAST-MODIFIED:20240926T172100Z
UID:11611-1763312400-1763316900@visitrichfield.com
SUMMARY:Cosmic Ice Skating
DESCRIPTION:Music! Lights!  Concessions!  Ice skating\, but with an extra twist.  $6 per person; rental skates $4.
URL:https://visitrichfield.com/event/cosmic-ice-skating/2025-11-16/
LOCATION:Richfield Ice Arena
CATEGORIES:active
ATTACH;FMTTYPE=image/jpeg:https://visitrichfield.com/wp-content/uploads/2023/11/Cosmic-ice-skating.jpg
END:VEVENT
BEGIN:VEVENT
DTSTART;TZID=America/Chicago:20251214T163000
DTEND;TZID=America/Chicago:20251214T190000
DTSTAMP:20260425T100434
CREATED:20241126T174439Z
LAST-MODIFIED:20241126T174439Z
UID:11739-1765729800-1765738800@visitrichfield.com
SUMMARY:Skate with Santa
DESCRIPTION:Hey families\, lace up your skates and take to the ice with the man in the big red suit! Enjoy an afternoon of fun\, photo ops\, treats\, and refreshments at the Richfield Ice Arena! $6 per person; skate rental $4.
URL:https://visitrichfield.com/event/skate-with-santa-3/2025-12-14/
LOCATION:Richfield Ice Arena
CATEGORIES:active,Christmas
ATTACH;FMTTYPE=image/jpeg:https://visitrichfield.com/wp-content/uploads/2024/11/Skate-Santa.jpg
END:VEVENT
BEGIN:VEVENT
DTSTART;TZID=America/Chicago:20251221T170000
DTEND;TZID=America/Chicago:20251221T200000
DTSTAMP:20260425T100434
CREATED:20251201T181858Z
LAST-MODIFIED:20251201T181859Z
UID:11747-1766336400-1766347200@visitrichfield.com
SUMMARY:Solstice Luminary Walk
DESCRIPTION:Enjoy a quiet walk through the forest and marsh of Wood Lake on the winter solstice. Warm up by the fire with a cup of cocoa and roast a marshmallow. This event will be a calm addition to the festive season\, and a great way to celebrate the fact that the days will start getting lighter! $8/person; free for FOWL members. Register here. \nParking onsite will be limited; look for more information on where to park here.
URL:https://visitrichfield.com/event/solstice-luminary-walk/
LOCATION:Wood Lake Nature Center\, 6710 Lake Shore Drive\, Richfield\, MN\, 55423\, United States
CATEGORIES:active
ATTACH;FMTTYPE=image/png:https://visitrichfield.com/wp-content/uploads/2019/11/candlelight.png
END:VEVENT
BEGIN:VEVENT
DTSTART;TZID=America/Chicago:20251222T093000
DTEND;TZID=America/Chicago:20251222T113000
DTSTAMP:20260425T100434
CREATED:20250225T174133Z
LAST-MODIFIED:20250225T174133Z
UID:11751-1766395800-1766403000@visitrichfield.com
SUMMARY:Family Dome Day
DESCRIPTION:Enjoy open play time at the indoor\, heated Stardome at the Academy of Holy Angels in the heart of Richfield! Recreation equipment and supplies will be on site for families to use\, but you can also bring your own sports-related items. \nOpen dome time is for all ages. Registration is for each participant and available for preregistration online or walk-ups with cash. $5/person; register here.
URL:https://visitrichfield.com/event/family-dome-day-4/2025-12-22/
LOCATION:Academy of Holy Angels\, 6600 Nicollet Avenue South\, Richfield\, MN\, 55423
CATEGORIES:active,family
ATTACH;FMTTYPE=image/jpeg:https://visitrichfield.com/wp-content/uploads/2023/01/Family-Dome-Day-January-2023.jpg
END:VEVENT
BEGIN:VEVENT
DTSTART;TZID=America/Chicago:20260102T093000
DTEND;TZID=America/Chicago:20260102T113000
DTSTAMP:20260425T100434
CREATED:20250225T174133Z
LAST-MODIFIED:20250225T174133Z
UID:11752-1767346200-1767353400@visitrichfield.com
SUMMARY:Family Dome Day
DESCRIPTION:Enjoy open play time at the indoor\, heated Stardome at the Academy of Holy Angels in the heart of Richfield! Recreation equipment and supplies will be on site for families to use\, but you can also bring your own sports-related items. \nOpen dome time is for all ages. Registration is for each participant and available for preregistration online or walk-ups with cash. $5/person; register here.
URL:https://visitrichfield.com/event/family-dome-day-4/2026-01-02/
LOCATION:Academy of Holy Angels\, 6600 Nicollet Avenue South\, Richfield\, MN\, 55423
CATEGORIES:active,family
ATTACH;FMTTYPE=image/jpeg:https://visitrichfield.com/wp-content/uploads/2023/01/Family-Dome-Day-January-2023.jpg
END:VEVENT
BEGIN:VEVENT
DTSTART;TZID=America/Chicago:20260105T120000
DTEND;TZID=America/Chicago:20260105T133000
DTSTAMP:20260425T100434
CREATED:20241218T170228Z
LAST-MODIFIED:20260104T185400Z
UID:10890-1767614400-1767619800@visitrichfield.com
SUMMARY:Indoor Walking Begins
DESCRIPTION:Indoor walking option begins today!  Walk around the upper concourse of the Richfield Ice Arena\, Rink 1. Walkers must be able to use the stairs to access the concourse. 7.5 laps around the rink equals one mile. Available every Monday-Thursday through the winter months\, 12-1:30 p.m. Free!
URL:https://visitrichfield.com/event/indoor-walking-begins/
LOCATION:Richfield Ice Arena
CATEGORIES:active
ATTACH;FMTTYPE=image/webp:https://visitrichfield.com/wp-content/uploads/2023/09/Indoor-walking.webp
END:VEVENT
BEGIN:VEVENT
DTSTART;TZID=America/Chicago:20260106T103000
DTEND;TZID=America/Chicago:20260106T110000
DTSTAMP:20260425T100434
CREATED:20251230T194111Z
LAST-MODIFIED:20251230T194112Z
UID:11768-1767695400-1767697200@visitrichfield.com
SUMMARY:Mall of America:  Bigs & Littles Yoga at Toys "R" Us !
DESCRIPTION:You’re invited to ‘Bigs & Littles Yoga’ – a fun and playful time for you and your little one to explore yoga shapes while using mindfulness and imagination to play and learn. Our time together will include an interactive story time\, playful yoga movement and partner poses\, and meaningful breathing exercises\, followed by a small snack. This playdate is hosted in partnership with Yoga Sanctuary\, a nonprofit studio out of South Minneapolis dedicated to making holistic yoga accessible to all ages and bodies. Join us for this unique shared experience that fosters wellness and playful engagement for you and your child. Space is limited\, so please register for this free event to save your spot.
URL:https://visitrichfield.com/event/mall-of-america-bigs-littles-yoga-at-toys-r-us/
LOCATION:Mall of America
CATEGORIES:active
ATTACH;FMTTYPE=image/jpeg:https://visitrichfield.com/wp-content/uploads/2025/12/602987583_1190157576592874_3589271998635518157_n.jpg
END:VEVENT
BEGIN:VEVENT
DTSTART;TZID=America/Chicago:20260110T140000
DTEND;TZID=America/Chicago:20260110T160000
DTSTAMP:20260425T100434
CREATED:20251230T195327Z
LAST-MODIFIED:20251230T195328Z
UID:11770-1768053600-1768060800@visitrichfield.com
SUMMARY:Family Curling Day
DESCRIPTION:Throw a stone and sweep!  Celebrate the frozen sport of Curling on the ice along with the Richfield Recreation Department.  Outdoor curling equipment provided\, along with hot chocolate in the warm Donaldson Park building. A great chance to try out this unique sport and to learn more about adult outdoor league opportunities! Free; preregistration recommended but walk-ups welcome. \nPhoto by Matthew Fassnacht on Unsplash
URL:https://visitrichfield.com/event/family-curling-day/
LOCATION:Donaldson Park\, 7434 Humboldt Avenue South\, Richfield\, MN\, 55423
CATEGORIES:active
ATTACH;FMTTYPE=image/jpeg:https://visitrichfield.com/wp-content/uploads/2025/12/matthew-fassnacht-Nmm0_qAi8bo-unsplash-scaled.jpg
END:VEVENT
BEGIN:VEVENT
DTSTART;TZID=America/Chicago:20260125T143000
DTEND;TZID=America/Chicago:20260125T160000
DTSTAMP:20260425T100434
CREATED:20251230T203210Z
LAST-MODIFIED:20251230T203211Z
UID:11784-1769351400-1769356800@visitrichfield.com
SUMMARY:Winter Hike with a Naturalist
DESCRIPTION:Hike with a naturalist to see the winter happenings at Wood Lake. Explore the trails and if conditions allow\, explore the frozen marsh. Be a nature detective and look for signs of animal activity.  $5/person; half off for members.  Register here.
URL:https://visitrichfield.com/event/winter-hike-with-a-naturalist/
LOCATION:Wood Lake Nature Center\, 6710 Lake Shore Drive\, Richfield\, MN\, 55423\, United States
CATEGORIES:active
ATTACH;FMTTYPE=image/jpeg:https://visitrichfield.com/wp-content/uploads/2025/01/Womens-snowshoe-hike-3.jpg
END:VEVENT
BEGIN:VEVENT
DTSTART;TZID=America/Chicago:20260201T123000
DTEND;TZID=America/Chicago:20260201T140000
DTSTAMP:20260425T100434
CREATED:20260120T170017Z
LAST-MODIFIED:20260120T170018Z
UID:11811-1769949000-1769954400@visitrichfield.com
SUMMARY:Snowshoe Hike
DESCRIPTION:Enjoy the beauty of winter at Wood Lake while snowshoeing! Learn about the history of this sport\, along with techniques and helpful tips. Snowshoes are provided and warm winter boots are a must! No snow? We’ll go for a winter hike!  $5 per person; half-off for Wood Lake members.  Register here.
URL:https://visitrichfield.com/event/snowshoe-hike-4/2026-02-01/
LOCATION:Wood Lake Nature Center\, 6710 Lake Shore Drive\, Richfield\, MN\, 55423\, United States
CATEGORIES:active
ATTACH;FMTTYPE=image/jpeg:https://visitrichfield.com/wp-content/uploads/2023/01/Snowshoe-Hikes.jpg
END:VEVENT
BEGIN:VEVENT
DTSTART;TZID=America/Chicago:20260201T170000
DTEND;TZID=America/Chicago:20260201T181500
DTSTAMP:20260425T100434
CREATED:20240926T172100Z
LAST-MODIFIED:20240926T172100Z
UID:11810-1769965200-1769969700@visitrichfield.com
SUMMARY:Cosmic Ice Skating
DESCRIPTION:Music! Lights!  Concessions!  Ice skating\, but with an extra twist.  $6 per person; rental skates $4.
URL:https://visitrichfield.com/event/cosmic-ice-skating/2026-02-01/
LOCATION:Richfield Ice Arena
CATEGORIES:active
ATTACH;FMTTYPE=image/jpeg:https://visitrichfield.com/wp-content/uploads/2023/11/Cosmic-ice-skating.jpg
END:VEVENT
BEGIN:VEVENT
DTSTART;TZID=America/Chicago:20260208T123000
DTEND;TZID=America/Chicago:20260208T140000
DTSTAMP:20260425T100434
CREATED:20260120T170017Z
LAST-MODIFIED:20260120T170017Z
UID:11812-1770553800-1770559200@visitrichfield.com
SUMMARY:Snowshoe Hike
DESCRIPTION:Enjoy the beauty of winter at Wood Lake while snowshoeing! Learn about the history of this sport\, along with techniques and helpful tips. Snowshoes are provided and warm winter boots are a must! No snow? We’ll go for a winter hike!  $5 per person; half-off for Wood Lake members.  Register here.
URL:https://visitrichfield.com/event/snowshoe-hike-4/2026-02-08/
LOCATION:Wood Lake Nature Center\, 6710 Lake Shore Drive\, Richfield\, MN\, 55423\, United States
CATEGORIES:active
ATTACH;FMTTYPE=image/jpeg:https://visitrichfield.com/wp-content/uploads/2023/01/Snowshoe-Hikes.jpg
END:VEVENT
BEGIN:VEVENT
DTSTART;TZID=America/Chicago:20260315T123000
DTEND;TZID=America/Chicago:20260315T140000
DTSTAMP:20260425T100434
CREATED:20260120T170017Z
LAST-MODIFIED:20260120T170017Z
UID:11813-1773577800-1773583200@visitrichfield.com
SUMMARY:Snowshoe Hike
DESCRIPTION:Enjoy the beauty of winter at Wood Lake while snowshoeing! Learn about the history of this sport\, along with techniques and helpful tips. Snowshoes are provided and warm winter boots are a must! No snow? We’ll go for a winter hike!  $5 per person; half-off for Wood Lake members.  Register here.
URL:https://visitrichfield.com/event/snowshoe-hike-4/2026-03-15/
LOCATION:Wood Lake Nature Center\, 6710 Lake Shore Drive\, Richfield\, MN\, 55423\, United States
CATEGORIES:active
ATTACH;FMTTYPE=image/jpeg:https://visitrichfield.com/wp-content/uploads/2023/01/Snowshoe-Hikes.jpg
END:VEVENT
BEGIN:VEVENT
DTSTART;TZID=America/Chicago:20260408T190000
DTEND;TZID=America/Chicago:20260408T203000
DTSTAMP:20260425T100434
CREATED:20260318T215243Z
LAST-MODIFIED:20260318T215244Z
UID:11900-1775674800-1775680200@visitrichfield.com
SUMMARY:Night Hike
DESCRIPTION:Enjoy a quiet stroll along the trails of Wood Lake. Please wear weather-appropriate clothing. Ages 10 and up. $10 each; half-off for members.  Sign up here and meet at the Lyndale Avenue Gate.
URL:https://visitrichfield.com/event/night-hike-9/
LOCATION:Wood Lake Nature Center\, 6710 Lake Shore Drive\, Richfield\, MN\, 55423\, United States
CATEGORIES:active
ATTACH;FMTTYPE=image/jpeg:https://visitrichfield.com/wp-content/uploads/2022/09/generic-night-hike.jpg
END:VEVENT
BEGIN:VEVENT
DTSTART;TZID=America/Chicago:20260425T070000
DTEND;TZID=America/Chicago:20260425T120000
DTSTAMP:20260425T100434
CREATED:20260318T230823Z
LAST-MODIFIED:20260318T230824Z
UID:11923-1777100400-1777118400@visitrichfield.com
SUMMARY:Walk to Cure Juvenile Arthritis
DESCRIPTION:The Arthritis Foundation’s Walk to Cure Juvenile Arthritis returns to Mall of America on April 25. This family-friendly event brings together walkers of all ages to raise funds for the 300\,000 children in the U.S. living with juvenile arthritis. Start the morning with a Warm Up\, refuel with anti-inflammatory bites at Joint Friendly Fare\, and let the kids explore the Family Fun Zone. Every dollar raised funds research\, advocacy\, and programs like JA Camps that help kids build confidence and community year-round. Registration is free and open now. \nRegister today at walktocureja.org
URL:https://visitrichfield.com/event/walk-to-cure-juvenile-arthritis/
LOCATION:Mall of America
CATEGORIES:active
ATTACH;FMTTYPE=image/jpeg:https://visitrichfield.com/wp-content/uploads/2026/03/646376662_1247342984207666_2294127278379987987_n.jpg
END:VEVENT
END:VCALENDAR