
BEGIN:VCALENDAR
VERSION:2.0
PRODID:-//Visit Richfield - ECPv6.15.20//NONSGML v1.0//EN
CALSCALE:GREGORIAN
METHOD:PUBLISH
X-ORIGINAL-URL:https://visitrichfield.com
X-WR-CALDESC:Events for Visit Richfield
REFRESH-INTERVAL;VALUE=DURATION:PT1H
X-Robots-Tag:noindex
X-PUBLISHED-TTL:PT1H
BEGIN:VTIMEZONE
TZID:America/Chicago
BEGIN:DAYLIGHT
TZOFFSETFROM:-0600
TZOFFSETTO:-0500
TZNAME:CDT
DTSTART:20230312T080000
END:DAYLIGHT
BEGIN:STANDARD
TZOFFSETFROM:-0500
TZOFFSETTO:-0600
TZNAME:CST
DTSTART:20231105T070000
END:STANDARD
BEGIN:DAYLIGHT
TZOFFSETFROM:-0600
TZOFFSETTO:-0500
TZNAME:CDT
DTSTART:20240310T080000
END:DAYLIGHT
BEGIN:STANDARD
TZOFFSETFROM:-0500
TZOFFSETTO:-0600
TZNAME:CST
DTSTART:20241103T070000
END:STANDARD
BEGIN:DAYLIGHT
TZOFFSETFROM:-0600
TZOFFSETTO:-0500
TZNAME:CDT
DTSTART:20250309T080000
END:DAYLIGHT
BEGIN:STANDARD
TZOFFSETFROM:-0500
TZOFFSETTO:-0600
TZNAME:CST
DTSTART:20251102T070000
END:STANDARD
BEGIN:DAYLIGHT
TZOFFSETFROM:-0600
TZOFFSETTO:-0500
TZNAME:CDT
DTSTART:20260308T080000
END:DAYLIGHT
BEGIN:STANDARD
TZOFFSETFROM:-0500
TZOFFSETTO:-0600
TZNAME:CST
DTSTART:20261101T070000
END:STANDARD
BEGIN:DAYLIGHT
TZOFFSETFROM:-0600
TZOFFSETTO:-0500
TZNAME:CDT
DTSTART:20270314T080000
END:DAYLIGHT
BEGIN:STANDARD
TZOFFSETFROM:-0500
TZOFFSETTO:-0600
TZNAME:CST
DTSTART:20271107T070000
END:STANDARD
END:VTIMEZONE
BEGIN:VEVENT
DTSTART;TZID=America/Chicago:20260412T150000
DTEND;TZID=America/Chicago:20260412T163000
DTSTAMP:20260420T123828
CREATED:20260318T220841Z
LAST-MODIFIED:20260318T220842Z
UID:11904-1776006000-1776011400@visitrichfield.com
SUMMARY:Minnesota Squirrels
DESCRIPTION:Take a closer look at these familiar woodland animals as they prepare for the changing season. Find out how they successfully survive the dramatic climate in Minnesota and consistently win the battle against humans in the bird feeder feud! It’s almost guaranteed that we will see a squirrel!  $5/person; half-off for members. Sign up here.
URL:https://visitrichfield.com/event/minnesota-squirrels/
LOCATION:Wood Lake Nature Center\, 6710 Lake Shore Drive\, Richfield\, MN\, 55423\, United States
CATEGORIES:animals
ATTACH;FMTTYPE=image/jpeg:https://visitrichfield.com/wp-content/uploads/2026/03/pexels-pixabay-47359-scaled.jpg
END:VEVENT
BEGIN:VEVENT
DTSTART;TZID=America/Chicago:20260412T130000
DTEND;TZID=America/Chicago:20260412T143000
DTSTAMP:20260420T123828
CREATED:20260318T221103Z
LAST-MODIFIED:20260318T221104Z
UID:11906-1775998800-1776004200@visitrichfield.com
SUMMARY:Urban Coyote Research
DESCRIPTION:Find out about urban coyote research that is going on right here at Wood Lake. Coyotes are remarkably adapted to living in urban areas\, but little is known abut why they are so successful. University of Minnesota Postdoctoral Associate Geoff Miller will share some of his research methods and findings.  Free; drop-in.
URL:https://visitrichfield.com/event/urban-coyote-research-3/
LOCATION:Wood Lake Nature Center\, 6710 Lake Shore Drive\, Richfield\, MN\, 55423\, United States
CATEGORIES:animals
ATTACH;FMTTYPE=image/jpeg:https://visitrichfield.com/wp-content/uploads/2022/10/urban-coyote.jpg
END:VEVENT
BEGIN:VEVENT
DTSTART;TZID=America/Chicago:20260321T120000
DTEND;TZID=America/Chicago:20260321T150000
DTSTAMP:20260420T123828
CREATED:20260225T174214Z
LAST-MODIFIED:20260225T174216Z
UID:11854-1774094400-1774105200@visitrichfield.com
SUMMARY:Animals Helping Humans
DESCRIPTION:Do a little good; relieve a little stress; find a furry friend! Animals Helping Humans is a unique event where people can connect with the animal world to support our Richfield community. Animals have a unique way of reducing stress\, restoring joy\, and bringing people together; come and share in this free community healing event for all ages!  Donations at the door go directly to Richfield families via the Richfield Community Safety Network.
URL:https://visitrichfield.com/event/animals-helping-humans/
LOCATION:House of Prayer Lutheran Church\, 7625 Chicago Avenue South\, Richfield\, MN\, 55423\, United States
CATEGORIES:animals
ATTACH;FMTTYPE=image/jpeg:https://visitrichfield.com/wp-content/uploads/2026/02/640922451_122293531322231005_4051388695229120761_n.jpg
END:VEVENT
BEGIN:VEVENT
DTSTART;TZID=America/Chicago:20260125T123000
DTEND;TZID=America/Chicago:20260125T140000
DTSTAMP:20260420T123828
CREATED:20251230T202934Z
LAST-MODIFIED:20251230T202935Z
UID:11783-1769344200-1769349600@visitrichfield.com
SUMMARY:Marvelous Muskrats of the Marsh
DESCRIPTION:Head out on Wood Lake’s frozen marsh to discover the curious lives of muskrats. Learn about the numerous ways these creatures adapt to survive under the ice in Minnesota. $5/person; free for members. Register here.
URL:https://visitrichfield.com/event/marvelous-muskrats-of-the-marsh-2/
LOCATION:Wood Lake Nature Center\, 6710 Lake Shore Drive\, Richfield\, MN\, 55423\, United States
CATEGORIES:animals
ATTACH;FMTTYPE=image/jpeg:https://visitrichfield.com/wp-content/uploads/2023/01/Mysterious-Muskrats-of-the-Marsh.jpg
END:VEVENT
BEGIN:VEVENT
DTSTART;TZID=America/Chicago:20251206T143000
DTEND;TZID=America/Chicago:20251206T163000
DTSTAMP:20260420T123828
CREATED:20251201T171840Z
LAST-MODIFIED:20251201T171842Z
UID:11728-1765031400-1765038600@visitrichfield.com
SUMMARY:Reindeer Meet & Greet at Radisson Blu
DESCRIPTION:Get into the holiday spirit and join us for a magical afternoon at Radisson Blu Mall of America! Santa’s reindeer are making a special stop at our hotel–and you’re invited to meet them up close. Bring the family to pet and take photos with these incredible animals\, learn fun facts about reindeer\, and sip on complimentary hot cocoa and warm apple cider while you take in the holiday cheer. Bundle up\, bring your camera\, and make unforgettable winter memories!
URL:https://visitrichfield.com/event/reindeer-meet-greet-at-radisson-blu/
LOCATION:Radisson Blu Mall of America\, 2100 Killebrew Drive\, Bloomington\, MN
CATEGORIES:animals
ATTACH;FMTTYPE=image/jpeg:https://visitrichfield.com/wp-content/uploads/2025/12/585084704_1166086132333352_6175163485225652658_n.jpg
END:VEVENT
BEGIN:VEVENT
DTSTART;TZID=America/Chicago:20251206T100000
DTEND;TZID=America/Chicago:20251206T110000
DTSTAMP:20260420T123828
CREATED:20250901T211908Z
LAST-MODIFIED:20250901T211908Z
UID:11566-1765015200-1765018800@visitrichfield.com
SUMMARY:Live Animal Hour
DESCRIPTION:Meet Wood Lake Nature Center’s animal ambassadors up close! Come learn about the reptiles and amphibians native to Minnesota. See them up close\, touch their shell\, and watch them eat! Make an animal craft to take home. $5 per person; half-off for members.
URL:https://visitrichfield.com/event/live-animal-hour-11/2025-12-06/
LOCATION:Richfield Community Center\, 7000 Nicollet Ave\, Richfield\, Richfield\, MN\, 55423\, United States
CATEGORIES:animals
ATTACH;FMTTYPE=image/jpeg:https://visitrichfield.com/wp-content/uploads/2024/08/live-animal-hour.jpg
END:VEVENT
BEGIN:VEVENT
DTSTART;TZID=America/Chicago:20251108T100000
DTEND;TZID=America/Chicago:20251108T110000
DTSTAMP:20260420T123828
CREATED:20250901T211908Z
LAST-MODIFIED:20250901T211908Z
UID:11565-1762596000-1762599600@visitrichfield.com
SUMMARY:Live Animal Hour
DESCRIPTION:Meet Wood Lake Nature Center’s animal ambassadors up close! Come learn about the reptiles and amphibians native to Minnesota. See them up close\, touch their shell\, and watch them eat! Make an animal craft to take home. $5 per person; half-off for members.
URL:https://visitrichfield.com/event/live-animal-hour-11/2025-11-08/
LOCATION:Richfield Community Center\, 7000 Nicollet Ave\, Richfield\, Richfield\, MN\, 55423\, United States
CATEGORIES:animals
ATTACH;FMTTYPE=image/jpeg:https://visitrichfield.com/wp-content/uploads/2024/08/live-animal-hour.jpg
END:VEVENT
BEGIN:VEVENT
DTSTART;TZID=America/Chicago:20251018T100000
DTEND;TZID=America/Chicago:20251018T110000
DTSTAMP:20260420T123828
CREATED:20250901T211908Z
LAST-MODIFIED:20250901T211908Z
UID:11564-1760781600-1760785200@visitrichfield.com
SUMMARY:Live Animal Hour
DESCRIPTION:Meet Wood Lake Nature Center’s animal ambassadors up close! Come learn about the reptiles and amphibians native to Minnesota. See them up close\, touch their shell\, and watch them eat! Make an animal craft to take home. $5 per person; half-off for members.
URL:https://visitrichfield.com/event/live-animal-hour-11/2025-10-18/
LOCATION:Richfield Community Center\, 7000 Nicollet Ave\, Richfield\, Richfield\, MN\, 55423\, United States
CATEGORIES:animals
ATTACH;FMTTYPE=image/jpeg:https://visitrichfield.com/wp-content/uploads/2024/08/live-animal-hour.jpg
END:VEVENT
BEGIN:VEVENT
DTSTART;TZID=America/Chicago:20250927T100000
DTEND;TZID=America/Chicago:20250927T110000
DTSTAMP:20260420T123828
CREATED:20250901T211908Z
LAST-MODIFIED:20250901T211909Z
UID:11563-1758967200-1758970800@visitrichfield.com
SUMMARY:Live Animal Hour
DESCRIPTION:Meet Wood Lake Nature Center’s animal ambassadors up close! Come learn about the reptiles and amphibians native to Minnesota. See them up close\, touch their shell\, and watch them eat! Make an animal craft to take home. $5 per person; half-off for members.
URL:https://visitrichfield.com/event/live-animal-hour-11/2025-09-27/
LOCATION:Richfield Community Center\, 7000 Nicollet Ave\, Richfield\, Richfield\, MN\, 55423\, United States
CATEGORIES:animals
ATTACH;FMTTYPE=image/jpeg:https://visitrichfield.com/wp-content/uploads/2024/08/live-animal-hour.jpg
END:VEVENT
BEGIN:VEVENT
DTSTART;TZID=America/Chicago:20250912T100000
DTEND;TZID=America/Chicago:20250912T103000
DTSTAMP:20260420T123828
CREATED:20250901T201836Z
LAST-MODIFIED:20250901T201903Z
UID:11386-1757671200-1757673000@visitrichfield.com
SUMMARY:Park & Play:  Wood Lake Animals & Story Time
DESCRIPTION:This fall\, kids can explore and learn in our Richfield parks. Enjoy story times that inspire imagination\, hands-on experiences with Wood Lake naturalists\, and Storybook Hikes that bring favorite tales to life along scenic trails.  Today:  Wood Lake Animals & Storytime!
URL:https://visitrichfield.com/event/park-play/
LOCATION:Augsburg Adventure Park\, 7000 Nicollet Avenue South\, Richfield\, MN\, 55423
CATEGORIES:animals
END:VEVENT
BEGIN:VEVENT
DTSTART;TZID=America/Chicago:20250722T200000
DTEND;TZID=America/Chicago:20250722T220000
DTSTAMP:20260420T123828
CREATED:20250428T171613Z
LAST-MODIFIED:20250428T171613Z
UID:11103-1753214400-1753221600@visitrichfield.com
SUMMARY:Wonderful World of Mothing: Moths and Other Nocturnal Gems
DESCRIPTION:Learn about our beautiful nocturnal pollinator friends: moths! Discover their importance to the natural world\, their biology\, how to set up a moth sheet\, and more!  Bring a headlamp or flashlight and hiking footwear. To participate in some evening citizen scientist fun\, download the iNaturalist app ahead of time and help document the many nocturnal species of insects that call Wood Lake home. iNaturalist project name: Wood Lake Nature Center. \nAges 10 and up; all children must be accompanied by an adult.  Register here.
URL:https://visitrichfield.com/event/wonderful-world-of-mothing-moths-and-other-nocturnal-gems-3/2025-07-22/
LOCATION:Wood Lake Nature Center\, 6710 Lake Shore Drive\, Richfield\, MN\, 55423\, United States
CATEGORIES:animals,nature
ATTACH;FMTTYPE=image/jpeg:https://visitrichfield.com/wp-content/uploads/2024/07/moth-scaled.jpg
END:VEVENT
BEGIN:VEVENT
DTSTART;TZID=America/Chicago:20250608T120000
DTEND;TZID=America/Chicago:20250608T130000
DTSTAMP:20260420T123828
CREATED:20250525T203527Z
LAST-MODIFIED:20250525T203528Z
UID:11163-1749384000-1749387600@visitrichfield.com
SUMMARY:Twiggy the Waterskiing Squirrel
DESCRIPTION:What began as a whimsical rescue mission in 1978 by Chuck and Lou Ann Best in Sanford\, Florida\, transformed into a global sensation that captured the hearts of millions. Twiggy has been featured in countless books\, magazines & television shows\, and has become synonymous with joy and entertainment. Stop by to see Twiggy the Waterskiing Squirrel in action with shows Friday\, June 6 through Sunday\, June 8 at noon\, 2 p.m.\, and 4 p.m.   Free.
URL:https://visitrichfield.com/event/twiggy-the-waterskiing-squirrel/
LOCATION:Mall of America
CATEGORIES:animals,MOA
ATTACH;FMTTYPE=image/jpeg:https://visitrichfield.com/wp-content/uploads/2025/05/Twiggy.jpg
END:VEVENT
BEGIN:VEVENT
DTSTART;TZID=America/Chicago:20250527T200000
DTEND;TZID=America/Chicago:20250527T220000
DTSTAMP:20260420T123828
CREATED:20250428T171613Z
LAST-MODIFIED:20250428T171614Z
UID:11102-1748376000-1748383200@visitrichfield.com
SUMMARY:Wonderful World of Mothing: Moths and Other Nocturnal Gems
DESCRIPTION:Learn about our beautiful nocturnal pollinator friends: moths! Discover their importance to the natural world\, their biology\, how to set up a moth sheet\, and more!  Bring a headlamp or flashlight and hiking footwear. To participate in some evening citizen scientist fun\, download the iNaturalist app ahead of time and help document the many nocturnal species of insects that call Wood Lake home. iNaturalist project name: Wood Lake Nature Center. \nAges 10 and up; all children must be accompanied by an adult.  Register here.
URL:https://visitrichfield.com/event/wonderful-world-of-mothing-moths-and-other-nocturnal-gems-3/2025-05-27/
LOCATION:Wood Lake Nature Center\, 6710 Lake Shore Drive\, Richfield\, MN\, 55423\, United States
CATEGORIES:animals,nature
ATTACH;FMTTYPE=image/jpeg:https://visitrichfield.com/wp-content/uploads/2024/07/moth-scaled.jpg
END:VEVENT
BEGIN:VEVENT
DTSTART;TZID=America/Chicago:20250518T150000
DTEND;TZID=America/Chicago:20250518T163000
DTSTAMP:20260420T123828
CREATED:20250428T164052Z
LAST-MODIFIED:20250428T164053Z
UID:11097-1747580400-1747585800@visitrichfield.com
SUMMARY:Looking for Turtles
DESCRIPTION:Join us for an engageing hike around Wood Lake with a naturalist while looking for turtles in their natural habitat. This family-friendly program combines exploration\, education\, and fun as we learn all about these fascinating reptiles! Ages 3 and up; all children must be accompanied by an adult. Register here. 
URL:https://visitrichfield.com/event/looking-for-turtles/
LOCATION:Wood Lake Nature Center\, 6710 Lake Shore Drive\, Richfield\, MN\, 55423\, United States
CATEGORIES:animals,nature
ATTACH;FMTTYPE=image/jpeg:https://visitrichfield.com/wp-content/uploads/2022/10/Painted-Turtle-2-650x425-1.jpg
END:VEVENT
BEGIN:VEVENT
DTSTART;TZID=America/Chicago:20250201T090000
DTEND;TZID=America/Chicago:20250201T100000
DTSTAMP:20260420T123828
CREATED:20241218T174210Z
LAST-MODIFIED:20241218T174210Z
UID:10900-1738400400-1738404000@visitrichfield.com
SUMMARY:Live Animal Hour
DESCRIPTION:Meet Wood Lake Nature Center’s animal ambassadors up close! Come learn about some of the reptiles and amphibians native to Minnesota\, and make an animal craft to take home. $5/person; half-off for members.  Register here.
URL:https://visitrichfield.com/event/live-animal-hour-10/2025-02-01/
LOCATION:Wood Lake Nature Center\, 6710 Lake Shore Drive\, Richfield\, MN\, 55423\, United States
CATEGORIES:animals,nature
ATTACH;FMTTYPE=image/jpeg:https://visitrichfield.com/wp-content/uploads/2024/08/live-animal-hour.jpg
END:VEVENT
BEGIN:VEVENT
DTSTART;TZID=America/Chicago:20250112T123000
DTEND;TZID=America/Chicago:20250112T140000
DTSTAMP:20260420T123828
CREATED:20241218T175930Z
LAST-MODIFIED:20241218T175930Z
UID:10903-1736685000-1736690400@visitrichfield.com
SUMMARY:Marvelous Muskrats of the North
DESCRIPTION:Head out on Wood Lake’s frozen marsh to discover the curious lives of muskrats! Learn about the numerous ways these creatures adapt to survive under the ice in Minnesota. $5/person; half-off for members. Register here.
URL:https://visitrichfield.com/event/marvelous-muskrats-of-the-north/
LOCATION:Wood Lake Nature Center\, 6710 Lake Shore Drive\, Richfield\, MN\, 55423\, United States
CATEGORIES:animals,nature
ATTACH;FMTTYPE=image/jpeg:https://visitrichfield.com/wp-content/uploads/2023/01/Mysterious-Muskrats-of-the-Marsh.jpg
END:VEVENT
BEGIN:VEVENT
DTSTART;TZID=America/Chicago:20250104T090000
DTEND;TZID=America/Chicago:20250104T100000
DTSTAMP:20260420T123828
CREATED:20241218T174210Z
LAST-MODIFIED:20241218T174238Z
UID:10899-1735981200-1735984800@visitrichfield.com
SUMMARY:Live Animal Hour
DESCRIPTION:Meet Wood Lake Nature Center’s animal ambassadors up close! Come learn about some of the reptiles and amphibians native to Minnesota\, and make an animal craft to take home. $5/person; half-off for members.  Register here.
URL:https://visitrichfield.com/event/live-animal-hour-10/2025-01-04/
LOCATION:Wood Lake Nature Center\, 6710 Lake Shore Drive\, Richfield\, MN\, 55423\, United States
CATEGORIES:animals,nature
ATTACH;FMTTYPE=image/jpeg:https://visitrichfield.com/wp-content/uploads/2024/08/live-animal-hour.jpg
END:VEVENT
BEGIN:VEVENT
DTSTART;TZID=America/Chicago:20241221T100000
DTEND;TZID=America/Chicago:20241221T110000
DTSTAMP:20260420T123828
CREATED:20240828T154135Z
LAST-MODIFIED:20240828T154135Z
UID:10567-1734775200-1734778800@visitrichfield.com
SUMMARY:Live Animal Hour
DESCRIPTION:Meet Wood Lake Nature Center’s animal ambassadors up close! Come learn about the reptiles and amphibians native to Minnesota that call Wood Lake their home. See them up close\, touch their shells\, and watch them eat! Make an animal craft to take home. $5/person; half-off for members.
URL:https://visitrichfield.com/event/live-animal-hour-9/2024-12-21/
LOCATION:Wood Lake Nature Center\, 6710 Lake Shore Drive\, Richfield\, MN\, 55423\, United States
CATEGORIES:animals
ATTACH;FMTTYPE=image/jpeg:https://visitrichfield.com/wp-content/uploads/2024/08/live-animal-hour.jpg
END:VEVENT
BEGIN:VEVENT
DTSTART;TZID=America/Chicago:20241026T100000
DTEND;TZID=America/Chicago:20241026T110000
DTSTAMP:20260420T123828
CREATED:20240828T154135Z
LAST-MODIFIED:20240828T154135Z
UID:10566-1729936800-1729940400@visitrichfield.com
SUMMARY:Live Animal Hour
DESCRIPTION:Meet Wood Lake Nature Center’s animal ambassadors up close! Come learn about the reptiles and amphibians native to Minnesota that call Wood Lake their home. See them up close\, touch their shells\, and watch them eat! Make an animal craft to take home. $5/person; half-off for members.
URL:https://visitrichfield.com/event/live-animal-hour-9/2024-10-26/
LOCATION:Wood Lake Nature Center\, 6710 Lake Shore Drive\, Richfield\, MN\, 55423\, United States
CATEGORIES:animals
ATTACH;FMTTYPE=image/jpeg:https://visitrichfield.com/wp-content/uploads/2024/08/live-animal-hour.jpg
END:VEVENT
BEGIN:VEVENT
DTSTART;TZID=America/Chicago:20240928T100000
DTEND;TZID=America/Chicago:20240928T110000
DTSTAMP:20260420T123828
CREATED:20240828T154135Z
LAST-MODIFIED:20240828T154136Z
UID:10563-1727517600-1727521200@visitrichfield.com
SUMMARY:Live Animal Hour
DESCRIPTION:Meet Wood Lake Nature Center’s animal ambassadors up close! Come learn about the reptiles and amphibians native to Minnesota that call Wood Lake their home. See them up close\, touch their shells\, and watch them eat! Make an animal craft to take home. $5/person; half-off for members.
URL:https://visitrichfield.com/event/live-animal-hour-9/2024-09-28/
LOCATION:Wood Lake Nature Center\, 6710 Lake Shore Drive\, Richfield\, MN\, 55423\, United States
CATEGORIES:animals
ATTACH;FMTTYPE=image/jpeg:https://visitrichfield.com/wp-content/uploads/2024/08/live-animal-hour.jpg
END:VEVENT
BEGIN:VEVENT
DTSTART;TZID=America/Chicago:20240623T133000
DTEND;TZID=America/Chicago:20240623T160000
DTSTAMP:20260420T123828
CREATED:20240605T164208Z
LAST-MODIFIED:20240605T164209Z
UID:10311-1719149400-1719158400@visitrichfield.com
SUMMARY:Llamas at the Library
DESCRIPTION:Learn about and lounge with the curious\, sociable creatures when Carlson’s Lloveable Llamas visit the library! Stories and other activities will also be provided. Free.
URL:https://visitrichfield.com/event/llamas-at-the-library/
LOCATION:Augsburg Park Library\, 7100 Nicollet Avenue\, Richfield\, MN\, 55423
CATEGORIES:animals,family
ATTACH;FMTTYPE=image/jpeg:https://visitrichfield.com/wp-content/uploads/2024/06/Llamas.jpg
END:VEVENT
BEGIN:VEVENT
DTSTART;TZID=America/Chicago:20240507T193000
DTEND;TZID=America/Chicago:20240507T213000
DTSTAMP:20260420T123828
CREATED:20240426T212603Z
LAST-MODIFIED:20240426T212603Z
UID:10154-1715110200-1715117400@visitrichfield.com
SUMMARY:The Wonderful World of Mothing: Moths and Other Nocturnal Gems
DESCRIPTION:Come learn about our beautiful nocturnal pollinator friends: moths! discover their importance to the natural world\, their biology\, how to set up a moth sheet\, and more! Bring a headlamp or flashlight\, hiking footwear\, and dress for the weather. If you would like to participate in some evening citizen scientist fun\, download the iNaturalist app ahead of time and help document the many nocturnal species of insects that call Wood Lake home. iNaturalist project name: Wood Lake Nature Center. Ages 10 and up; $5/person and half off for FOWL members.
URL:https://visitrichfield.com/event/the-wonderful-world-of-mothing-moths-and-other-nocturnal-gems/
LOCATION:Wood Lake Nature Center\, 6710 Lake Shore Drive\, Richfield\, MN\, 55423\, United States
CATEGORIES:animals,nature,outdoors
ATTACH;FMTTYPE=image/jpeg:https://visitrichfield.com/wp-content/uploads/2024/04/Wonderful-World-of-Mothing.jpg
END:VEVENT
BEGIN:VEVENT
DTSTART;TZID=America/Chicago:20240502T183000
DTEND;TZID=America/Chicago:20240502T200000
DTSTAMP:20260420T123828
CREATED:20240426T205344Z
LAST-MODIFIED:20240426T205412Z
UID:10061-1714674600-1714680000@visitrichfield.com
SUMMARY:Voyageurs Wolf Project
DESCRIPTION:Visit the Wood Lake Nature Center to learn about Minnesota wolves! Dani Freund and Maeve Rogers from the Voyageurs Wolf Project will be talking about wolf fishing behavior\, how wolves hunt beavers\, and the cutting-edge technology they’re using to monitor wolves. See videos of what wolves are doing from the wolf’s perspective through camera collar footage\, and ask any questions you have about this elusive predator. FREE! No Registration Required.
URL:https://visitrichfield.com/event/voyageurs-wolf-project/
LOCATION:Wood Lake Nature Center\, 6710 Lake Shore Drive\, Richfield\, MN\, 55423\, United States
CATEGORIES:animals,nature
ATTACH;FMTTYPE=image/jpeg:https://visitrichfield.com/wp-content/uploads/2024/04/Voyageurs-Wolf-Project.jpg
END:VEVENT
BEGIN:VEVENT
DTSTART;TZID=America/Chicago:20240428T150000
DTEND;TZID=America/Chicago:20240428T160000
DTSTAMP:20260420T123828
CREATED:20240402T205805Z
LAST-MODIFIED:20240402T205805Z
UID:10036-1714316400-1714320000@visitrichfield.com
SUMMARY:Live Animal Hour
DESCRIPTION:Meet the live animal ambassadors that are on exhibit in the nature center building. Learn about their habits and how we care for these amazing amphibians and reptiles. Learn the proper way to handle toads\, turtles\, and snakes. $5 per person; half-off for members.
URL:https://visitrichfield.com/event/live-animal-hour-8/
LOCATION:Wood Lake Nature Center\, 6710 Lake Shore Drive\, Richfield\, MN\, 55423\, United States
CATEGORIES:animals,nature
ATTACH;FMTTYPE=image/jpeg:https://visitrichfield.com/wp-content/uploads/2023/12/Live-Animal-Hour.jpg
END:VEVENT
BEGIN:VEVENT
DTSTART;TZID=America/Chicago:20240420T120000
DTEND;TZID=America/Chicago:20240420T133000
DTSTAMP:20260420T123828
CREATED:20240329T215305Z
LAST-MODIFIED:20240329T215327Z
UID:10006-1713614400-1713619800@visitrichfield.com
SUMMARY:Urban Coyote Research
DESCRIPTION:Find out about urban coyote research that is going on right here at Wood Lake. Coyotes are remarkably adapted to living in urban areas\, but little is known about why they are so successful. U of M Ph.D. candidate Geoff Miller will share some of his research methods and findings. We will head outside on a short hike if the weather allows. Free.
URL:https://visitrichfield.com/event/urban-coyote-research-2/
LOCATION:Wood Lake Nature Center\, 6710 Lake Shore Drive\, Richfield\, MN\, 55423\, United States
CATEGORIES:animals,nature
ATTACH;FMTTYPE=image/jpeg:https://visitrichfield.com/wp-content/uploads/2022/10/urban-coyote.jpg
END:VEVENT
BEGIN:VEVENT
DTSTART;TZID=America/Chicago:20240414T130000
DTEND;TZID=America/Chicago:20240414T150000
DTSTAMP:20260420T123828
CREATED:20240402T205017Z
LAST-MODIFIED:20240402T205017Z
UID:10031-1713099600-1713106800@visitrichfield.com
SUMMARY:eBird and Bird Hike
DESCRIPTION:Come explore Cornell Lab of Ornithology’s eBird application – a way to keep track of the birds you see and share sightings with others. We will learn how to use the app and then hit the trail looking for birds to add to your list!  $5 per person; half-off for members.
URL:https://visitrichfield.com/event/ebird-and-bird-hike/
LOCATION:Wood Lake Nature Center\, 6710 Lake Shore Drive\, Richfield\, MN\, 55423\, United States
CATEGORIES:animals,nature,outdoors
ATTACH;FMTTYPE=image/jpeg:https://visitrichfield.com/wp-content/uploads/2023/04/Bird-Club.jpg
END:VEVENT
BEGIN:VEVENT
DTSTART;TZID=America/Chicago:20240413T140000
DTEND;TZID=America/Chicago:20240413T150000
DTSTAMP:20260420T123828
CREATED:20240404T212025Z
LAST-MODIFIED:20240404T212056Z
UID:10039-1713016800-1713020400@visitrichfield.com
SUMMARY:Nature in Your Neighborhood:  Animal Eggs
DESCRIPTION:  \nFor ages K-G5 and an adult. Eggs come in all shapes and sizes. Come learn about our animal neighbors that are laying eggs this spring!  Please come dressed for the weather! Free.
URL:https://visitrichfield.com/event/nature-in-your-neighborhood-animal-eggs/
LOCATION:Augsburg Park Library\, 7100 Nicollet Avenue\, Richfield\, MN\, 55423
CATEGORIES:animals,nature
ATTACH;FMTTYPE=image/jpeg:https://visitrichfield.com/wp-content/uploads/2024/04/animal-eggs.jpg
END:VEVENT
BEGIN:VEVENT
DTSTART;TZID=America/Chicago:20240316T100000
DTEND;TZID=America/Chicago:20240316T110000
DTSTAMP:20260420T123828
CREATED:20240224T221339Z
LAST-MODIFIED:20240224T221340Z
UID:9963-1710583200-1710586800@visitrichfield.com
SUMMARY:Live Animal Hour
DESCRIPTION:Meet Wood Lake Nature Center’s animal ambassadors up close! Come learn about some of the reptiles and amphibians native to Minnesota and make an animal craft to take home. $5/person; 50% off for members; register here.
URL:https://visitrichfield.com/event/live-animal-hour-7/
LOCATION:Wood Lake Nature Center\, 6710 Lake Shore Drive\, Richfield\, MN\, 55423\, United States
CATEGORIES:animals,nature
ATTACH;FMTTYPE=image/jpeg:https://visitrichfield.com/wp-content/uploads/2023/12/Live-Animal-Hour.jpg
END:VEVENT
BEGIN:VEVENT
DTSTART;TZID=America/Chicago:20240225T150000
DTEND;TZID=America/Chicago:20240225T163000
DTSTAMP:20260420T123828
CREATED:20240128T194042Z
LAST-MODIFIED:20240128T194043Z
UID:9682-1708873200-1708878600@visitrichfield.com
SUMMARY:Marvelous Muskrats of the Marsh
DESCRIPTION:Head out on Wood Lake’s frozen marsh to discover the mysterious lives of muskrats. Learn about the marvelous ways these creatures adapt to survive under the ice in Minnesota. $5/person; 50% off for FOWL members.
URL:https://visitrichfield.com/event/marvelous-muskrats-of-the-marsh/
LOCATION:Wood Lake Nature Center\, 6710 Lake Shore Drive\, Richfield\, MN\, 55423\, United States
CATEGORIES:active,animals,nature
ATTACH;FMTTYPE=image/jpeg:https://visitrichfield.com/wp-content/uploads/2023/01/Mysterious-Muskrats-of-the-Marsh.jpg
END:VEVENT
BEGIN:VEVENT
DTSTART;TZID=America/Chicago:20240130T173000
DTEND;TZID=America/Chicago:20240130T190000
DTSTAMP:20260420T123828
CREATED:20231230T214346Z
LAST-MODIFIED:20231230T214405Z
UID:9489-1706635800-1706641200@visitrichfield.com
SUMMARY:Look Out for Owls!
DESCRIPTION:Owls live everywhere. These amazing animals have adapted to nearly every kind of habitage: rainforest\, tundra\, desert\, prairie–even cities! But there’s more to the story: habitat loss threatens Minnesota’s owls. We will learn about the unique lives of owl\,s what we can do to help them\, then take a hike through the snowy woods…on the lookout for owls! Ages 8 and up; dress for a cold winter hike. All participants must register online at www.woodlakenaturecenter.org; walk-in registrations are allowed as space permits. $5 per person; half-off for members.
URL:https://visitrichfield.com/event/look-out-for-owls/2024-01-30/
LOCATION:Wood Lake Nature Center\, 6710 Lake Shore Drive\, Richfield\, MN\, 55423\, United States
CATEGORIES:active,animals,nature,outdoors
ATTACH;FMTTYPE=image/jpeg:https://visitrichfield.com/wp-content/uploads/2023/12/owl.jpg
END:VEVENT
END:VCALENDAR