
BEGIN:VCALENDAR
VERSION:2.0
PRODID:-//Visit Richfield - ECPv6.15.20//NONSGML v1.0//EN
CALSCALE:GREGORIAN
METHOD:PUBLISH
X-WR-CALNAME:Visit Richfield
X-ORIGINAL-URL:https://visitrichfield.com
X-WR-CALDESC:Events for Visit Richfield
REFRESH-INTERVAL;VALUE=DURATION:PT1H
X-Robots-Tag:noindex
X-PUBLISHED-TTL:PT1H
BEGIN:VTIMEZONE
TZID:America/Chicago
BEGIN:DAYLIGHT
TZOFFSETFROM:-0600
TZOFFSETTO:-0500
TZNAME:CDT
DTSTART:20230312T080000
END:DAYLIGHT
BEGIN:STANDARD
TZOFFSETFROM:-0500
TZOFFSETTO:-0600
TZNAME:CST
DTSTART:20231105T070000
END:STANDARD
BEGIN:DAYLIGHT
TZOFFSETFROM:-0600
TZOFFSETTO:-0500
TZNAME:CDT
DTSTART:20240310T080000
END:DAYLIGHT
BEGIN:STANDARD
TZOFFSETFROM:-0500
TZOFFSETTO:-0600
TZNAME:CST
DTSTART:20241103T070000
END:STANDARD
BEGIN:DAYLIGHT
TZOFFSETFROM:-0600
TZOFFSETTO:-0500
TZNAME:CDT
DTSTART:20250309T080000
END:DAYLIGHT
BEGIN:STANDARD
TZOFFSETFROM:-0500
TZOFFSETTO:-0600
TZNAME:CST
DTSTART:20251102T070000
END:STANDARD
BEGIN:DAYLIGHT
TZOFFSETFROM:-0600
TZOFFSETTO:-0500
TZNAME:CDT
DTSTART:20260308T080000
END:DAYLIGHT
BEGIN:STANDARD
TZOFFSETFROM:-0500
TZOFFSETTO:-0600
TZNAME:CST
DTSTART:20261101T070000
END:STANDARD
END:VTIMEZONE
BEGIN:VEVENT
DTSTART;TZID=America/Chicago:20250328T093000
DTEND;TZID=America/Chicago:20250328T113000
DTSTAMP:20260422T023431
CREATED:20250225T174133Z
LAST-MODIFIED:20251214T180413Z
UID:10994-1743154200-1743161400@visitrichfield.com
SUMMARY:Family Dome Day
DESCRIPTION:Enjoy open play time at the indoor\, heated Stardome at the Academy of Holy Angels in the heart of Richfield! Recreation equipment and supplies will be on site for families to use\, but you can also bring your own sports-related items. \nOpen dome time is for all ages. Registration is for each participant and available for preregistration online or walk-ups with cash. $5/person; register here.
URL:https://visitrichfield.com/event/family-dome-day-4/2025-03-28/
LOCATION:Academy of Holy Angels\, 6600 Nicollet Avenue South\, Richfield\, MN\, 55423
CATEGORIES:active,family
ATTACH;FMTTYPE=image/jpeg:https://visitrichfield.com/wp-content/uploads/2023/01/Family-Dome-Day-January-2023.jpg
END:VEVENT
BEGIN:VEVENT
DTSTART;TZID=America/Chicago:20250327T180000
DTEND;TZID=America/Chicago:20250327T200000
DTSTAMP:20260422T023431
CREATED:20250225T172802Z
LAST-MODIFIED:20250225T172805Z
UID:10992-1743098400-1743105600@visitrichfield.com
SUMMARY:Adult/Child Dance Under the Stars
DESCRIPTION:Join us for an “Under-the-Stars” themed adult and child dance event! This low-key gathering is perfect for children ages 3-10 and their caregivers. \nEnjoy an evening of music\, movement\, and play as you dance freely together in a joyful atmosphere. Bring your little ones and create lasting memories on the dance floor! Register per person; children must be accompanied by an adult. $5/person; register here. \n 
URL:https://visitrichfield.com/event/adult-child-dance-under-the-stars/
LOCATION:Richfield Community Center\, 7000 Nicollet Ave\, Richfield\, Richfield\, MN\, 55423\, United States
CATEGORIES:dance,family
ATTACH;FMTTYPE=image/jpeg:https://visitrichfield.com/wp-content/uploads/2025/02/Dance.jpg
END:VEVENT
BEGIN:VEVENT
DTSTART;TZID=America/Chicago:20250205T180000
DTEND;TZID=America/Chicago:20250205T190000
DTSTAMP:20260422T023431
CREATED:20241218T170654Z
LAST-MODIFIED:20241218T170654Z
UID:10892-1738778400-1738782000@visitrichfield.com
SUMMARY:Family Bingo
DESCRIPTION:Bring your loved ones and enjoy an exciting night of Family Bingo!  Chances to win fantastic prizes for both kids and adults. It’s a perfect opportunity for quality family time and friendly competition. Don’t miss out on the laughter and excitement; mark your calendars now! Space is limited and registration is required at www.richfieldmn.gov/register. Free.
URL:https://visitrichfield.com/event/family-bingo-2/2025-02-05/
LOCATION:Richfield Community Center\, 7000 Nicollet Ave\, Richfield\, Richfield\, MN\, 55423\, United States
CATEGORIES:family
ATTACH;FMTTYPE=image/jpeg:https://visitrichfield.com/wp-content/uploads/2024/09/Bingo.jpg
END:VEVENT
BEGIN:VEVENT
DTSTART;TZID=America/Chicago:20250102T180000
DTEND;TZID=America/Chicago:20250102T190000
DTSTAMP:20260422T023431
CREATED:20241218T170654Z
LAST-MODIFIED:20241218T170721Z
UID:10891-1735840800-1735844400@visitrichfield.com
SUMMARY:Family Bingo
DESCRIPTION:Bring your loved ones and enjoy an exciting night of Family Bingo!  Chances to win fantastic prizes for both kids and adults. It’s a perfect opportunity for quality family time and friendly competition. Don’t miss out on the laughter and excitement; mark your calendars now! Space is limited and registration is required at www.richfieldmn.gov/register. Free.
URL:https://visitrichfield.com/event/family-bingo-2/2025-01-02/
LOCATION:Richfield Community Center\, 7000 Nicollet Ave\, Richfield\, Richfield\, MN\, 55423\, United States
CATEGORIES:family
ATTACH;FMTTYPE=image/jpeg:https://visitrichfield.com/wp-content/uploads/2024/09/Bingo.jpg
END:VEVENT
BEGIN:VEVENT
DTSTART;TZID=America/Chicago:20241103T110000
DTEND;TZID=America/Chicago:20241103T180000
DTSTAMP:20260422T023431
CREATED:20241028T180543Z
LAST-MODIFIED:20241028T180544Z
UID:10748-1730631600-1730656800@visitrichfield.com
SUMMARY:Latin Luminos: A Calavera Celebration
DESCRIPTION:Join us for a vibrant celebration of culture and creativity hosted by the Minnesota Latino Museum in the MOA Atrium. Experience the rich traditions of the Day of the Dead through a stunning altar installation by Minnesota artisan Margarita Sandoval\, hands-on workshops\, and engaging activities. Enjoy a weekend filled with community\, art\, and celebration; perfect for all ages!  Free.
URL:https://visitrichfield.com/event/latin-luminos-a-calavera-celebration-3/
LOCATION:Mall of America
CATEGORIES:culture,family,MOA
ATTACH;FMTTYPE=image/jpeg:https://visitrichfield.com/wp-content/uploads/2024/10/Latin-Luminos.jpg
END:VEVENT
BEGIN:VEVENT
DTSTART;TZID=America/Chicago:20241102T110000
DTEND;TZID=America/Chicago:20241102T180000
DTSTAMP:20260422T023431
CREATED:20241028T180413Z
LAST-MODIFIED:20241028T180413Z
UID:10746-1730545200-1730570400@visitrichfield.com
SUMMARY:Latin Luminos: A Calavera Celebration
DESCRIPTION:Join us for a vibrant celebration of culture and creativity hosted by the Minnesota Latino Museum in the MOA Atrium. Experience the rich traditions of the Day of the Dead through a stunning altar installation by Minnesota artisan Margarita Sandoval\, hands-on workshops\, and engaging activities. Enjoy a weekend filled with community\, art\, and celebration; perfect for all ages!  Free.
URL:https://visitrichfield.com/event/latin-luminos-a-calavera-celebration-2/
LOCATION:Mall of America
CATEGORIES:culture,family,MOA
ATTACH;FMTTYPE=image/jpeg:https://visitrichfield.com/wp-content/uploads/2024/10/Latin-Luminos.jpg
END:VEVENT
BEGIN:VEVENT
DTSTART;TZID=America/Chicago:20241101T110000
DTEND;TZID=America/Chicago:20241101T180000
DTSTAMP:20260422T023431
CREATED:20241028T175948Z
LAST-MODIFIED:20241028T180237Z
UID:10743-1730458800-1730484000@visitrichfield.com
SUMMARY:Latin Luminos: A Calavera Celebration
DESCRIPTION:Join us for a vibrant celebration of culture and creativity hosted by the Minnesota Latino Museum in the MOA Atrium. Experience the rich traditions of the Day of the Dead through a stunning altar installation by Minnesota artisan Margarita Sandoval\, hands-on workshops\, and engaging activities. Enjoy a weekend filled with community\, art\, and celebration; perfect for all ages!  Free.
URL:https://visitrichfield.com/event/latin-luminos-a-calavera-celebration/
LOCATION:Mall of America
CATEGORIES:culture,family,MOA
ATTACH;FMTTYPE=image/jpeg:https://visitrichfield.com/wp-content/uploads/2024/10/Latin-Luminos.jpg
END:VEVENT
BEGIN:VEVENT
DTSTART;TZID=America/Chicago:20241019T100000
DTEND;TZID=America/Chicago:20241019T103000
DTSTAMP:20260422T023431
CREATED:20240828T151709Z
LAST-MODIFIED:20240828T151709Z
UID:10549-1729332000-1729333800@visitrichfield.com
SUMMARY:Friday and Saturday Fun at Augsburg Adventure Park
DESCRIPTION:Spend the morning listening to stories shared through puppets\, Read-A-Story Theater\, storybook walks\, and staff-led storytime at Augsburg Adventure Park. Each week will include new adventures to share\, followed by playtime at the playground. Special dance parties are sprinkled in the mix to celebrate the summer season!  Free.
URL:https://visitrichfield.com/event/friday-and-saturday-fun-at-augsburg-adventure-park-2/2024-10-19/
LOCATION:Augsburg Adventure Park\, 7000 Nicollet Avenue South\, Richfield\, MN\, 55423
CATEGORIES:family,kids
ATTACH;FMTTYPE=image/jpeg:https://visitrichfield.com/wp-content/uploads/2024/05/Augsburg-story.jpg
END:VEVENT
BEGIN:VEVENT
DTSTART;TZID=America/Chicago:20241018T100000
DTEND;TZID=America/Chicago:20241018T103000
DTSTAMP:20260422T023431
CREATED:20240828T151709Z
LAST-MODIFIED:20240828T151709Z
UID:10548-1729245600-1729247400@visitrichfield.com
SUMMARY:Friday and Saturday Fun at Augsburg Adventure Park
DESCRIPTION:Spend the morning listening to stories shared through puppets\, Read-A-Story Theater\, storybook walks\, and staff-led storytime at Augsburg Adventure Park. Each week will include new adventures to share\, followed by playtime at the playground. Special dance parties are sprinkled in the mix to celebrate the summer season!  Free.
URL:https://visitrichfield.com/event/friday-and-saturday-fun-at-augsburg-adventure-park-2/2024-10-18/
LOCATION:Augsburg Adventure Park\, 7000 Nicollet Avenue South\, Richfield\, MN\, 55423
CATEGORIES:family,kids
ATTACH;FMTTYPE=image/jpeg:https://visitrichfield.com/wp-content/uploads/2024/05/Augsburg-story.jpg
END:VEVENT
BEGIN:VEVENT
DTSTART;TZID=America/Chicago:20241012T150000
DTEND;TZID=America/Chicago:20241012T180000
DTSTAMP:20260422T023431
CREATED:20240926T163447Z
LAST-MODIFIED:20240926T163447Z
UID:10648-1728745200-1728756000@visitrichfield.com
SUMMARY:Trunk or Treat
DESCRIPTION:6th Annual Free Community Trunk or Treat!  Families\, wear your costumes and bring a bag to collect candy!  Gather treats\, and bring donations for the local food shelf\, VEAP.  Help us “fill the hearse”!!!  Free.
URL:https://visitrichfield.com/event/trunk-or-treat-4/
LOCATION:Morris Nilsen Funeral Chapel\, 6527 Portland Avenue South\, Richfield\, MN\, 55423
CATEGORIES:family,Halloween
ATTACH;FMTTYPE=image/jpeg:https://visitrichfield.com/wp-content/uploads/2024/09/Trunk-or-Treat.jpg
END:VEVENT
BEGIN:VEVENT
DTSTART;TZID=America/Chicago:20241012T100000
DTEND;TZID=America/Chicago:20241012T120000
DTSTAMP:20260422T023431
CREATED:20240926T163030Z
LAST-MODIFIED:20240926T163031Z
UID:10645-1728727200-1728734400@visitrichfield.com
SUMMARY:Great Pumpkin Giveaway
DESCRIPTION:Join us at Fairwood Park for the 19th Annual Great Pumpkin Giveaway! Select one free pumpkin for each family\, plus there will be door prizes\, face painting\, a photo booth\, coloring contest\, and autumn refreshments. Free!
URL:https://visitrichfield.com/event/great-pumpkin-giveaway-3/
LOCATION:Fairwood Park\, 6700 Logan Avenue South\, Richfield\, MN\, 55423
CATEGORIES:family,Halloween,outdoors
ATTACH;FMTTYPE=image/png:https://visitrichfield.com/wp-content/uploads/2024/09/Pumpkin-2023.2.png
END:VEVENT
BEGIN:VEVENT
DTSTART;TZID=America/Chicago:20241006T130000
DTEND;TZID=America/Chicago:20241006T143000
DTSTAMP:20260422T023431
CREATED:20240926T155334Z
LAST-MODIFIED:20240926T155343Z
UID:10637-1728219600-1728225000@visitrichfield.com
SUMMARY:Family Beginner Archery
DESCRIPTION:Learn one of the oldest arts still practiced today!  Practice archery basics and safety\, shoot at stationary targets\, and play games. Equipment provided. Every person attending must register. Dress for the weather. Ages 8 and up. $15 per person; half-off for members. Registration required at www.woodlakenaturecenter.org.
URL:https://visitrichfield.com/event/family-beginner-archery-3/
LOCATION:Wood Lake Nature Center\, 6710 Lake Shore Drive\, Richfield\, MN\, 55423\, United States
CATEGORIES:active,family,outdoors
ATTACH;FMTTYPE=image/jpeg:https://visitrichfield.com/wp-content/uploads/2023/04/family-archery.jpg
END:VEVENT
BEGIN:VEVENT
DTSTART;TZID=America/Chicago:20241004T100000
DTEND;TZID=America/Chicago:20241004T103000
DTSTAMP:20260422T023431
CREATED:20240828T151709Z
LAST-MODIFIED:20240828T151709Z
UID:10547-1728036000-1728037800@visitrichfield.com
SUMMARY:Friday and Saturday Fun at Augsburg Adventure Park
DESCRIPTION:Spend the morning listening to stories shared through puppets\, Read-A-Story Theater\, storybook walks\, and staff-led storytime at Augsburg Adventure Park. Each week will include new adventures to share\, followed by playtime at the playground. Special dance parties are sprinkled in the mix to celebrate the summer season!  Free.
URL:https://visitrichfield.com/event/friday-and-saturday-fun-at-augsburg-adventure-park-2/2024-10-04/
LOCATION:Augsburg Adventure Park\, 7000 Nicollet Avenue South\, Richfield\, MN\, 55423
CATEGORIES:family,kids
ATTACH;FMTTYPE=image/jpeg:https://visitrichfield.com/wp-content/uploads/2024/05/Augsburg-story.jpg
END:VEVENT
BEGIN:VEVENT
DTSTART;TZID=America/Chicago:20240921T100000
DTEND;TZID=America/Chicago:20240921T103000
DTSTAMP:20260422T023431
CREATED:20240828T151709Z
LAST-MODIFIED:20240828T151709Z
UID:10546-1726912800-1726914600@visitrichfield.com
SUMMARY:Friday and Saturday Fun at Augsburg Adventure Park
DESCRIPTION:Spend the morning listening to stories shared through puppets\, Read-A-Story Theater\, storybook walks\, and staff-led storytime at Augsburg Adventure Park. Each week will include new adventures to share\, followed by playtime at the playground. Special dance parties are sprinkled in the mix to celebrate the summer season!  Free.
URL:https://visitrichfield.com/event/friday-and-saturday-fun-at-augsburg-adventure-park-2/2024-09-21/
LOCATION:Augsburg Adventure Park\, 7000 Nicollet Avenue South\, Richfield\, MN\, 55423
CATEGORIES:family,kids
ATTACH;FMTTYPE=image/jpeg:https://visitrichfield.com/wp-content/uploads/2024/05/Augsburg-story.jpg
END:VEVENT
BEGIN:VEVENT
DTSTART;TZID=America/Chicago:20240920T100000
DTEND;TZID=America/Chicago:20240920T103000
DTSTAMP:20260422T023431
CREATED:20240828T151709Z
LAST-MODIFIED:20240828T151709Z
UID:10545-1726826400-1726828200@visitrichfield.com
SUMMARY:Friday and Saturday Fun at Augsburg Adventure Park
DESCRIPTION:Spend the morning listening to stories shared through puppets\, Read-A-Story Theater\, storybook walks\, and staff-led storytime at Augsburg Adventure Park. Each week will include new adventures to share\, followed by playtime at the playground. Special dance parties are sprinkled in the mix to celebrate the summer season!  Free.
URL:https://visitrichfield.com/event/friday-and-saturday-fun-at-augsburg-adventure-park-2/2024-09-20/
LOCATION:Augsburg Adventure Park\, 7000 Nicollet Avenue South\, Richfield\, MN\, 55423
CATEGORIES:family,kids
ATTACH;FMTTYPE=image/jpeg:https://visitrichfield.com/wp-content/uploads/2024/05/Augsburg-story.jpg
END:VEVENT
BEGIN:VEVENT
DTSTART;TZID=America/Chicago:20240913T100000
DTEND;TZID=America/Chicago:20240913T103000
DTSTAMP:20260422T023431
CREATED:20240828T151709Z
LAST-MODIFIED:20240828T151709Z
UID:10543-1726221600-1726223400@visitrichfield.com
SUMMARY:Friday and Saturday Fun at Augsburg Adventure Park
DESCRIPTION:Spend the morning listening to stories shared through puppets\, Read-A-Story Theater\, storybook walks\, and staff-led storytime at Augsburg Adventure Park. Each week will include new adventures to share\, followed by playtime at the playground. Special dance parties are sprinkled in the mix to celebrate the summer season!  Free.
URL:https://visitrichfield.com/event/friday-and-saturday-fun-at-augsburg-adventure-park-2/2024-09-13/
LOCATION:Augsburg Adventure Park\, 7000 Nicollet Avenue South\, Richfield\, MN\, 55423
CATEGORIES:family,kids
ATTACH;FMTTYPE=image/jpeg:https://visitrichfield.com/wp-content/uploads/2024/05/Augsburg-story.jpg
END:VEVENT
BEGIN:VEVENT
DTSTART;TZID=America/Chicago:20240823T100000
DTEND;TZID=America/Chicago:20240823T103000
DTSTAMP:20260422T023431
CREATED:20240501T171836Z
LAST-MODIFIED:20240501T171932Z
UID:10190-1724407200-1724409000@visitrichfield.com
SUMMARY:Friday (and some Saturdays!) Fun at Augsburg Adventure Park
DESCRIPTION:Spend the morning listening to stories shared through puppets\, Read-A-Story Theater\, storybook walks\, and staff-led storytime at Augsburg Adventure Park. Each week will include new adventures to share\, followed by playtime at the playground. Special dance parties are sprinkled in the mix to celebrate the summer season!
URL:https://visitrichfield.com/event/story/2024-08-23/
LOCATION:Augsburg Adventure Park\, 7000 Nicollet Avenue South\, Richfield\, MN\, 55423
CATEGORIES:family,kids
ATTACH;FMTTYPE=image/jpeg:https://visitrichfield.com/wp-content/uploads/2023/04/IMG-2198-scaled.jpg
END:VEVENT
BEGIN:VEVENT
DTSTART;TZID=America/Chicago:20240809T100000
DTEND;TZID=America/Chicago:20240809T103000
DTSTAMP:20260422T023431
CREATED:20240501T171836Z
LAST-MODIFIED:20240501T171931Z
UID:10189-1723197600-1723199400@visitrichfield.com
SUMMARY:Friday (and some Saturdays!) Fun at Augsburg Adventure Park
DESCRIPTION:Spend the morning listening to stories shared through puppets\, Read-A-Story Theater\, storybook walks\, and staff-led storytime at Augsburg Adventure Park. Each week will include new adventures to share\, followed by playtime at the playground. Special dance parties are sprinkled in the mix to celebrate the summer season!
URL:https://visitrichfield.com/event/story/2024-08-09/
LOCATION:Augsburg Adventure Park\, 7000 Nicollet Avenue South\, Richfield\, MN\, 55423
CATEGORIES:family,kids
ATTACH;FMTTYPE=image/jpeg:https://visitrichfield.com/wp-content/uploads/2023/04/IMG-2198-scaled.jpg
END:VEVENT
BEGIN:VEVENT
DTSTART;TZID=America/Chicago:20240803T140000
DTEND;TZID=America/Chicago:20240803T170000
DTSTAMP:20260422T023431
CREATED:20240730T164443Z
LAST-MODIFIED:20240730T164448Z
UID:10446-1722693600-1722704400@visitrichfield.com
SUMMARY:Ice Cream Social
DESCRIPTION:It’s the Richfield Historical Society’s annual ice cream social!  With so much extra!  Dilly bars\, snacks\, and beverages will be available for purchase\, plus the Richfield police and fire fighters will be visiting from 2 to 3!  Music by Cowboy Bill from 3 to 5\, and llamas and an inflatable slide all day.  Come support the Historical Society\, and help us raise money to preserve the building!
URL:https://visitrichfield.com/event/ice-cream-social-2/
LOCATION:Richfield Historical Society\, 6901 Lyndale Avenue South\, Richfield\, MN\, 55423
CATEGORIES:family,heritage,history
ATTACH;FMTTYPE=image/jpeg:https://visitrichfield.com/wp-content/uploads/2024/07/Ice-cream-social.jpg
END:VEVENT
BEGIN:VEVENT
DTSTART;TZID=America/Chicago:20240726T100000
DTEND;TZID=America/Chicago:20240726T103000
DTSTAMP:20260422T023431
CREATED:20240501T171836Z
LAST-MODIFIED:20240501T171931Z
UID:10188-1721988000-1721989800@visitrichfield.com
SUMMARY:Friday (and some Saturdays!) Fun at Augsburg Adventure Park
DESCRIPTION:Spend the morning listening to stories shared through puppets\, Read-A-Story Theater\, storybook walks\, and staff-led storytime at Augsburg Adventure Park. Each week will include new adventures to share\, followed by playtime at the playground. Special dance parties are sprinkled in the mix to celebrate the summer season!
URL:https://visitrichfield.com/event/story/2024-07-26/
LOCATION:Augsburg Adventure Park\, 7000 Nicollet Avenue South\, Richfield\, MN\, 55423
CATEGORIES:family,kids
ATTACH;FMTTYPE=image/jpeg:https://visitrichfield.com/wp-content/uploads/2023/04/IMG-2198-scaled.jpg
END:VEVENT
BEGIN:VEVENT
DTSTART;TZID=America/Chicago:20240713T140000
DTEND;TZID=America/Chicago:20240713T160000
DTSTAMP:20260422T023431
CREATED:20240707T234244Z
LAST-MODIFIED:20240707T234245Z
UID:10363-1720879200-1720886400@visitrichfield.com
SUMMARY:Family Tennis Day Pop Up
DESCRIPTION:Do you love tennis and want to share that love with your family\, or have you always wanted to learn but did not know how to start? Round up your family and friends for this special pop-up and come play with us! USTA Northern Tennis instructors will be out to support families and participants alike on the fundamentals of tennis. Equipment\, refreshments\, and swag will be provided for your enjoyment\, as well as Spanish interpreters to assist with any instruction language barriers for families. Sign up with your family today\, and let’s explore tennis together!  Free for all.
URL:https://visitrichfield.com/event/family-tennis-day-pop-up/
LOCATION:Augsburg Park Tennis Courts\, 7200 Blaisdell Avenue South\, Richfield\, MN\, 55423
CATEGORIES:active,family,sports
ATTACH;FMTTYPE=image/jpeg:https://visitrichfield.com/wp-content/uploads/2024/07/Tennis.jpg
END:VEVENT
BEGIN:VEVENT
DTSTART;TZID=America/Chicago:20240713T100000
DTEND;TZID=America/Chicago:20240713T103000
DTSTAMP:20260422T023431
CREATED:20240501T171836Z
LAST-MODIFIED:20240501T171930Z
UID:10187-1720864800-1720866600@visitrichfield.com
SUMMARY:Friday (and some Saturdays!) Fun at Augsburg Adventure Park
DESCRIPTION:Spend the morning listening to stories shared through puppets\, Read-A-Story Theater\, storybook walks\, and staff-led storytime at Augsburg Adventure Park. Each week will include new adventures to share\, followed by playtime at the playground. Special dance parties are sprinkled in the mix to celebrate the summer season!
URL:https://visitrichfield.com/event/story/2024-07-13/
LOCATION:Augsburg Adventure Park\, 7000 Nicollet Avenue South\, Richfield\, MN\, 55423
CATEGORIES:family,kids
ATTACH;FMTTYPE=image/jpeg:https://visitrichfield.com/wp-content/uploads/2023/04/IMG-2198-scaled.jpg
END:VEVENT
BEGIN:VEVENT
DTSTART;TZID=America/Chicago:20240712T100000
DTEND;TZID=America/Chicago:20240712T103000
DTSTAMP:20260422T023431
CREATED:20240501T171836Z
LAST-MODIFIED:20240501T171929Z
UID:10186-1720778400-1720780200@visitrichfield.com
SUMMARY:Friday (and some Saturdays!) Fun at Augsburg Adventure Park
DESCRIPTION:Spend the morning listening to stories shared through puppets\, Read-A-Story Theater\, storybook walks\, and staff-led storytime at Augsburg Adventure Park. Each week will include new adventures to share\, followed by playtime at the playground. Special dance parties are sprinkled in the mix to celebrate the summer season!
URL:https://visitrichfield.com/event/story/2024-07-12/
LOCATION:Augsburg Adventure Park\, 7000 Nicollet Avenue South\, Richfield\, MN\, 55423
CATEGORIES:family,kids
ATTACH;FMTTYPE=image/jpeg:https://visitrichfield.com/wp-content/uploads/2023/04/IMG-2198-scaled.jpg
END:VEVENT
BEGIN:VEVENT
DTSTART;TZID=America/Chicago:20240628T100000
DTEND;TZID=America/Chicago:20240628T103000
DTSTAMP:20260422T023431
CREATED:20240501T171836Z
LAST-MODIFIED:20240501T171929Z
UID:10185-1719568800-1719570600@visitrichfield.com
SUMMARY:Friday (and some Saturdays!) Fun at Augsburg Adventure Park
DESCRIPTION:Spend the morning listening to stories shared through puppets\, Read-A-Story Theater\, storybook walks\, and staff-led storytime at Augsburg Adventure Park. Each week will include new adventures to share\, followed by playtime at the playground. Special dance parties are sprinkled in the mix to celebrate the summer season!
URL:https://visitrichfield.com/event/story/2024-06-28/
LOCATION:Augsburg Adventure Park\, 7000 Nicollet Avenue South\, Richfield\, MN\, 55423
CATEGORIES:family,kids
ATTACH;FMTTYPE=image/jpeg:https://visitrichfield.com/wp-content/uploads/2023/04/IMG-2198-scaled.jpg
END:VEVENT
BEGIN:VEVENT
DTSTART;TZID=America/Chicago:20240623T133000
DTEND;TZID=America/Chicago:20240623T160000
DTSTAMP:20260422T023431
CREATED:20240605T164208Z
LAST-MODIFIED:20240605T164209Z
UID:10311-1719149400-1719158400@visitrichfield.com
SUMMARY:Llamas at the Library
DESCRIPTION:Learn about and lounge with the curious\, sociable creatures when Carlson’s Lloveable Llamas visit the library! Stories and other activities will also be provided. Free.
URL:https://visitrichfield.com/event/llamas-at-the-library/
LOCATION:Augsburg Park Library\, 7100 Nicollet Avenue\, Richfield\, MN\, 55423
CATEGORIES:animals,family
ATTACH;FMTTYPE=image/jpeg:https://visitrichfield.com/wp-content/uploads/2024/06/Llamas.jpg
END:VEVENT
BEGIN:VEVENT
DTSTART;TZID=America/Chicago:20240619T110000
DTEND;TZID=America/Chicago:20240619T160000
DTSTAMP:20260422T023431
CREATED:20240605T160839Z
LAST-MODIFIED:20240605T161304Z
UID:10300-1718794800-1718812800@visitrichfield.com
SUMMARY:Richfield Juneteenth
DESCRIPTION:Freedom Walk starts at the Honoring All Veterans Memorial at 6501 Portland Avenue South at 11 a.m.\, and walks to the Richfield Band Shell at 636 E. 66th Street. Community celebration at the Band Shell\, featuring Joy Mobley Music; Intimate Perspectives Choreography; Kimberly Brown & Band; Poetry & Drama by CrossRoads/ JAJA Band African Drum Performance; and New Life Church Dancers! \n 
URL:https://visitrichfield.com/event/richfield-juneteenth/
LOCATION:Richfield Band Shell\, 636 East 66th Street\, Richfield\, MN\, 55423
CATEGORIES:culture,family,music
ATTACH;FMTTYPE=image/jpeg:https://visitrichfield.com/wp-content/uploads/2024/06/Juneteenth-2024-graphic.jpg
END:VEVENT
BEGIN:VEVENT
DTSTART;TZID=America/Chicago:20240615T100000
DTEND;TZID=America/Chicago:20240615T160000
DTSTAMP:20260422T023431
CREATED:20240606T155015Z
LAST-MODIFIED:20240606T155015Z
UID:10322-1718445600-1718467200@visitrichfield.com
SUMMARY:2024 Midwest Regional Yo-Yo Championship
DESCRIPTION:Each year\, the best players in the Midwest have the opportunity to throw at the Huntington Bank Rotunda at Mall of America for the Midwest Regional Yo-Yo Championship. This yo-yo contest is for everyone from beginners to professional-level players. The MWR contest features amazing yo-yo tricks that transform the traditional toy into a high-tech piece of sporting equipment sure to amaze everyone. Awesome entertainment for all ages!  Free
URL:https://visitrichfield.com/event/2024-midwest-regional-yo-yo-championship/
LOCATION:Mall of America
CATEGORIES:family,MOA
ATTACH;FMTTYPE=image/jpeg:https://visitrichfield.com/wp-content/uploads/2024/06/Yoyo.jpg
END:VEVENT
BEGIN:VEVENT
DTSTART;TZID=America/Chicago:20240615T100000
DTEND;TZID=America/Chicago:20240615T103000
DTSTAMP:20260422T023431
CREATED:20240501T171836Z
LAST-MODIFIED:20240501T171928Z
UID:10184-1718445600-1718447400@visitrichfield.com
SUMMARY:Friday (and some Saturdays!) Fun at Augsburg Adventure Park
DESCRIPTION:Spend the morning listening to stories shared through puppets\, Read-A-Story Theater\, storybook walks\, and staff-led storytime at Augsburg Adventure Park. Each week will include new adventures to share\, followed by playtime at the playground. Special dance parties are sprinkled in the mix to celebrate the summer season!
URL:https://visitrichfield.com/event/story/2024-06-15/
LOCATION:Augsburg Adventure Park\, 7000 Nicollet Avenue South\, Richfield\, MN\, 55423
CATEGORIES:family,kids
ATTACH;FMTTYPE=image/jpeg:https://visitrichfield.com/wp-content/uploads/2023/04/IMG-2198-scaled.jpg
END:VEVENT
BEGIN:VEVENT
DTSTART;TZID=America/Chicago:20240614T100000
DTEND;TZID=America/Chicago:20240614T103000
DTSTAMP:20260422T023431
CREATED:20240501T171836Z
LAST-MODIFIED:20240501T171927Z
UID:10183-1718359200-1718361000@visitrichfield.com
SUMMARY:Friday (and some Saturdays!) Fun at Augsburg Adventure Park
DESCRIPTION:Spend the morning listening to stories shared through puppets\, Read-A-Story Theater\, storybook walks\, and staff-led storytime at Augsburg Adventure Park. Each week will include new adventures to share\, followed by playtime at the playground. Special dance parties are sprinkled in the mix to celebrate the summer season!
URL:https://visitrichfield.com/event/story/2024-06-14/
LOCATION:Augsburg Adventure Park\, 7000 Nicollet Avenue South\, Richfield\, MN\, 55423
CATEGORIES:family,kids
ATTACH;FMTTYPE=image/jpeg:https://visitrichfield.com/wp-content/uploads/2023/04/IMG-2198-scaled.jpg
END:VEVENT
BEGIN:VEVENT
DTSTART;TZID=America/Chicago:20240531T100000
DTEND;TZID=America/Chicago:20240531T103000
DTSTAMP:20260422T023431
CREATED:20240501T171836Z
LAST-MODIFIED:20240501T171926Z
UID:10182-1717149600-1717151400@visitrichfield.com
SUMMARY:Friday (and some Saturdays!) Fun at Augsburg Adventure Park
DESCRIPTION:Spend the morning listening to stories shared through puppets\, Read-A-Story Theater\, storybook walks\, and staff-led storytime at Augsburg Adventure Park. Each week will include new adventures to share\, followed by playtime at the playground. Special dance parties are sprinkled in the mix to celebrate the summer season!
URL:https://visitrichfield.com/event/story/2024-05-31/
LOCATION:Augsburg Adventure Park\, 7000 Nicollet Avenue South\, Richfield\, MN\, 55423
CATEGORIES:family,kids
ATTACH;FMTTYPE=image/jpeg:https://visitrichfield.com/wp-content/uploads/2023/04/IMG-2198-scaled.jpg
END:VEVENT
END:VCALENDAR