
BEGIN:VCALENDAR
VERSION:2.0
PRODID:-//Visit Richfield - ECPv6.15.20//NONSGML v1.0//EN
CALSCALE:GREGORIAN
METHOD:PUBLISH
X-ORIGINAL-URL:https://visitrichfield.com
X-WR-CALDESC:Events for Visit Richfield
REFRESH-INTERVAL;VALUE=DURATION:PT1H
X-Robots-Tag:noindex
X-PUBLISHED-TTL:PT1H
BEGIN:VTIMEZONE
TZID:America/Chicago
BEGIN:DAYLIGHT
TZOFFSETFROM:-0600
TZOFFSETTO:-0500
TZNAME:CDT
DTSTART:20210314T080000
END:DAYLIGHT
BEGIN:STANDARD
TZOFFSETFROM:-0500
TZOFFSETTO:-0600
TZNAME:CST
DTSTART:20211107T070000
END:STANDARD
BEGIN:DAYLIGHT
TZOFFSETFROM:-0600
TZOFFSETTO:-0500
TZNAME:CDT
DTSTART:20220313T080000
END:DAYLIGHT
BEGIN:STANDARD
TZOFFSETFROM:-0500
TZOFFSETTO:-0600
TZNAME:CST
DTSTART:20221106T070000
END:STANDARD
BEGIN:DAYLIGHT
TZOFFSETFROM:-0600
TZOFFSETTO:-0500
TZNAME:CDT
DTSTART:20230312T080000
END:DAYLIGHT
BEGIN:STANDARD
TZOFFSETFROM:-0500
TZOFFSETTO:-0600
TZNAME:CST
DTSTART:20231105T070000
END:STANDARD
BEGIN:DAYLIGHT
TZOFFSETFROM:-0600
TZOFFSETTO:-0500
TZNAME:CDT
DTSTART:20240310T080000
END:DAYLIGHT
BEGIN:STANDARD
TZOFFSETFROM:-0500
TZOFFSETTO:-0600
TZNAME:CST
DTSTART:20241103T070000
END:STANDARD
BEGIN:DAYLIGHT
TZOFFSETFROM:-0600
TZOFFSETTO:-0500
TZNAME:CDT
DTSTART:20250309T080000
END:DAYLIGHT
BEGIN:STANDARD
TZOFFSETFROM:-0500
TZOFFSETTO:-0600
TZNAME:CST
DTSTART:20251102T070000
END:STANDARD
END:VTIMEZONE
BEGIN:VEVENT
DTSTART;TZID=America/Chicago:20241214T000000
DTEND;TZID=America/Chicago:20241214T000000
DTSTAMP:20260424T193848
CREATED:20241126T165848Z
LAST-MODIFIED:20241126T165848Z
UID:10853-1734134400-1734134400@visitrichfield.com
SUMMARY:Richfield Winter Market
DESCRIPTION:The Richfield Farmers Market is heading inside for the winter!  Find us inside the Veterans Park mini-golf building\, next to the park pavilion. Local foods\, holiday treats\, and handmade gifts from local vendors will be featured at this indoor Winter Market series.  Click here to see the list of vendors and a vendor map. Get all your holiday shopping done early!
URL:https://visitrichfield.com/event/richfield-winter-market-4/2024-12-14/
LOCATION:Veterans Park\, 6335 Portland Avenue South\, Richfield\, MN\, 55423
CATEGORIES:Christmas,shopping
ATTACH;FMTTYPE=image/jpeg:https://visitrichfield.com/wp-content/uploads/2023/11/Winter-Market-photo-credit-Philip-Nguyen-3-scaled.jpg
END:VEVENT
BEGIN:VEVENT
DTSTART;TZID=America/Chicago:20241212T183000
DTEND;TZID=America/Chicago:20241212T193000
DTSTAMP:20260424T193848
CREATED:20241126T171913Z
LAST-MODIFIED:20241126T171917Z
UID:10856-1734028200-1734031800@visitrichfield.com
SUMMARY:Holiday Lights Parade
DESCRIPTION:Join us for the 5th annual holiday lights parade!  Enjoy festive music\, beautifully lit fire trucks\, police cars\, and more\, and seeing our very special guest stars\, Santa and Mrs. Claus!  Parade begins at the City Garage (1901 East 66th Street)\, will travel south on Bloomington Avenue to 70th Street; west on 70th Street to Lyndale; north on Lyndale ending at 67th and Lyndale.  Can’t make it?  Check out the livestream on our Facebook event page!
URL:https://visitrichfield.com/event/holiday-lights-parade-4/
LOCATION:MN
CATEGORIES:Christmas
ATTACH;FMTTYPE=image/jpeg:https://visitrichfield.com/wp-content/uploads/2022/11/Holiday-Lights-Parade-5-edited.jpg
END:VEVENT
BEGIN:VEVENT
DTSTART;TZID=America/Chicago:20241207T000000
DTEND;TZID=America/Chicago:20241207T000000
DTSTAMP:20260424T193848
CREATED:20241126T165848Z
LAST-MODIFIED:20241126T165852Z
UID:10852-1733529600-1733529600@visitrichfield.com
SUMMARY:Richfield Winter Market
DESCRIPTION:The Richfield Farmers Market is heading inside for the winter!  Find us inside the Veterans Park mini-golf building\, next to the park pavilion. Local foods\, holiday treats\, and handmade gifts from local vendors will be featured at this indoor Winter Market series.  Click here to see the list of vendors and a vendor map. Get all your holiday shopping done early!
URL:https://visitrichfield.com/event/richfield-winter-market-4/2024-12-07/
LOCATION:Veterans Park\, 6335 Portland Avenue South\, Richfield\, MN\, 55423
CATEGORIES:Christmas,shopping
ATTACH;FMTTYPE=image/jpeg:https://visitrichfield.com/wp-content/uploads/2023/11/Winter-Market-photo-credit-Philip-Nguyen-3-scaled.jpg
END:VEVENT
BEGIN:VEVENT
DTSTART;TZID=America/Chicago:20240527T140000
DTEND;TZID=America/Chicago:20240527T150000
DTSTAMP:20260424T193848
CREATED:20240501T174848Z
LAST-MODIFIED:20240501T174849Z
UID:10209-1716818400-1716822000@visitrichfield.com
SUMMARY:Memorial Day Ceremony
DESCRIPTION:Join us for Richfield’s annual Memorial Day ceremony\, featuring guest speaker Bob Jasperson (Vietnam Veteran); music from the 34th Infantry Division Saxophone Ensemble; and a Flyover Performance by T-6 Thunder. Parking/wheelchair access at the American Legion Post 435 parking lot (6429 Portland). Free; held rain or shine. Please bring your own chair.
URL:https://visitrichfield.com/event/memorial-day-ceremony-2/
LOCATION:Honoring All Veterans Memorial\, 6401 Portland Avenue South\, Richfield\, MN\, 55423
CATEGORIES:holiday,outdoors
ATTACH;FMTTYPE=application/pdf:https://visitrichfield.com/wp-content/uploads/2024/05/Memorial-Day-Poster-2024.pdf
END:VEVENT
BEGIN:VEVENT
DTSTART;TZID=America/Chicago:20231210T170000
DTEND;TZID=America/Chicago:20231210T181500
DTSTAMP:20260424T193848
CREATED:20231207T212829Z
LAST-MODIFIED:20231207T212829Z
UID:9364-1702227600-1702232100@visitrichfield.com
SUMMARY:Skate with Santa
DESCRIPTION:Come skate with Santa at the Richfield Ice Arena!  He can’t wait to see you!
URL:https://visitrichfield.com/event/skate-with-santa-2/
LOCATION:Richfield Ice Arena
CATEGORIES:active,Christmas,kids
ATTACH;FMTTYPE=image/jpeg:https://visitrichfield.com/wp-content/uploads/2023/12/Skate-with-Santa.jpg
END:VEVENT
BEGIN:VEVENT
DTSTART;TZID=America/Chicago:20231209T123000
DTEND;TZID=America/Chicago:20231209T160000
DTSTAMP:20260424T193848
CREATED:20231130T215252Z
LAST-MODIFIED:20231130T215253Z
UID:9337-1702125000-1702137600@visitrichfield.com
SUMMARY:Make a Gingerbread House
DESCRIPTION:Make a sweet holiday memory! Build and decorate a gingerbread and candy house. Colorful houses make a great decoration during the holiday season! Online registration at www.woodlakenaturecenter.org is required. $3/person; free for members\, plus $15 per house.
URL:https://visitrichfield.com/event/make-a-gingerbread-house-4/
LOCATION:Wood Lake Nature Center\, 6710 Lake Shore Drive\, Richfield\, MN\, 55423\, United States
CATEGORIES:Christmas,crafts,family,holiday,kids
ATTACH;FMTTYPE=image/jpeg:https://visitrichfield.com/wp-content/uploads/2022/11/gingerbread-house-scaled.jpg
END:VEVENT
BEGIN:VEVENT
DTSTART;TZID=America/Chicago:20231203T130000
DTEND;TZID=America/Chicago:20231203T160000
DTSTAMP:20260424T193848
CREATED:20231130T214245Z
LAST-MODIFIED:20231130T214246Z
UID:9324-1701608400-1701619200@visitrichfield.com
SUMMARY:Rolled Beeswax Candles
DESCRIPTION:Enjoy making beautiful candles using sheets of pure beeswax that you roll by hand around a wick. Beeswax is a natural product that burns completely and doesn’t drip or smoke. They are fun and easy to make\, look and smell great\, and make fantastic homemade holiday gifts! Clear plastic gift bags and curly ribbon are included. This is a great adult-child activity. Online registration at www.woodlakenatureenter.org is preferred; walk-in registrations are allowed as space permits.  $3/person\, 50% off for members\, plus $2.50 per candle.
URL:https://visitrichfield.com/event/rolled-beeswax-candles-5/
LOCATION:Wood Lake Nature Center\, 6710 Lake Shore Drive\, Richfield\, MN\, 55423\, United States
CATEGORIES:Christmas,crafts,kids,nature
ATTACH;FMTTYPE=image/jpeg:https://visitrichfield.com/wp-content/uploads/2022/11/beeswax-candles.jpg
END:VEVENT
BEGIN:VEVENT
DTSTART;TZID=America/Chicago:20231202T110000
DTEND;TZID=America/Chicago:20231202T150000
DTSTAMP:20260424T193848
CREATED:20231130T212858Z
LAST-MODIFIED:20231130T213404Z
UID:9325-1701514800-1701529200@visitrichfield.com
SUMMARY:Richfield Winter Market
DESCRIPTION:The Richfield Farmers Market is heading inside for the winter!  Find us inside the Vets Park Mini-Golf Building next to the park pavilion. Local foods\, holiday treats\, and handmade gifts from local vendors will be featured at this December Winter Market series!  Click here for market map and vendor list. \nMarket tokens will be available with your credit\, debit\, or SNAP/EBT card. The first $10 of each SNAP transaction will be matched with both $10 in Winter Market Bucks and $10 in Winter Produce Market Bucks from Hunger Solutions MN.
URL:https://visitrichfield.com/event/richfield-winter-market-2/2023-12-02/
LOCATION:Veterans Park\, 6335 Portland Avenue South\, Richfield\, MN\, 55423
CATEGORIES:Christmas,holiday,shopping
ATTACH;FMTTYPE=image/jpeg:https://visitrichfield.com/wp-content/uploads/2023/11/Winter-Market-photo-credit-Philip-Nguyen-3-scaled.jpg
END:VEVENT
BEGIN:VEVENT
DTSTART;TZID=America/Chicago:20231118T090000
DTEND;TZID=America/Chicago:20231118T140000
DTSTAMP:20260424T193848
CREATED:20231112T204540Z
LAST-MODIFIED:20231112T210934Z
UID:9295-1700298000-1700316000@visitrichfield.com
SUMMARY:Fall Boutique
DESCRIPTION:Shop through two floors of local artists\, crafters\, and other creative artisans at the Annual Fall Boutique. Purchase raffle tickets for a chance to win a hand-stitched quilt\, lovingly made by the Quilters Club at the Richfield Community Center. Explore a variety of handmade goods\, enjoy some live music\, and your little ones can have their face painted!
URL:https://visitrichfield.com/event/fall-boutique/
LOCATION:Richfield Community Center\, 7000 Nicollet Ave\, Richfield\, Richfield\, MN\, 55423\, United States
CATEGORIES:Christmas,crafts,holiday,shopping
ATTACH;FMTTYPE=image/jpeg:https://visitrichfield.com/wp-content/uploads/2023/11/Fall-Boutique.jpg
END:VEVENT
BEGIN:VEVENT
DTSTART;TZID=America/Chicago:20231021T130000
DTEND;TZID=America/Chicago:20231021T170000
DTSTAMP:20260424T193848
CREATED:20231001T201129Z
LAST-MODIFIED:20231001T201129Z
UID:9131-1697893200-1697907600@visitrichfield.com
SUMMARY:Half-Haunted Halloween
DESCRIPTION:Celebrate the spirit of Halloween without the fright at Wood Lake’s Half-Haunted Halloween! This beloved annual event is perfect for families looking for a fun-filled experience. Embark on a delightful journey along the Trick or Treat Trail where you’ll encounter exciting activity stations and meet friendly costumed characters. Marvel at the mesmerizing tricks of a magician performing in our outdoor amphitheater while indulging in delicious hot cocoa and cookies. And to cap off the evenings\, join us for a marvelous barn dance in the scenic picnic area! \nTo ensure a smooth experience\, tickets are available for specific entry times\, with intervals of every 20 minutes between 1 p.m. and 5 p.m. ALL tickets must be purchased in advance at www.woodlakenaturecenter.org; no tickets will be sold at the door. $6/person; Wood Lake members free but do need to reserve tickets.
URL:https://visitrichfield.com/event/half-haunted-halloween-4/
LOCATION:Wood Lake Nature Center\, 6710 Lake Shore Drive\, Richfield\, MN\, 55423\, United States
CATEGORIES:family,Halloween,outdoors
ATTACH;FMTTYPE=image/jpeg:https://visitrichfield.com/wp-content/uploads/2023/09/Half-Haunted-Halloween.jpg
END:VEVENT
BEGIN:VEVENT
DTSTART;TZID=America/Chicago:20231014T100000
DTEND;TZID=America/Chicago:20231014T120000
DTSTAMP:20260424T193848
CREATED:20231001T201619Z
LAST-MODIFIED:20231001T202156Z
UID:9126-1697277600-1697284800@visitrichfield.com
SUMMARY:18th Annual Great Pumpkin Giveaway
DESCRIPTION:Join us at Fairwood Park! Select one free pumpkin per family\, plus there will be door prizes\, face painting\, a photo booth\, coloring contest\, and autumn refreshments. Sponsored by the Schneeberger Group\, Dave and Lisa Hintermeister with Luminate Home Loans\, Richfield Leadership Network\, Karl Herman State Farm\, and the City of Richfield.  Free.
URL:https://visitrichfield.com/event/18th-annual-great-pumpkin-giveaway/
LOCATION:Fairwood Park\, 6700 Logan Avenue South\, Richfield\, MN\, 55423
CATEGORIES:family,Halloween,outdoors
ATTACH;FMTTYPE=image/jpeg:https://visitrichfield.com/wp-content/uploads/2022/10/5W9A2911-scaled.jpg
END:VEVENT
BEGIN:VEVENT
DTSTART;TZID=America/Chicago:20230617T113000
DTEND;TZID=America/Chicago:20230617T160000
DTSTAMP:20260424T193848
CREATED:20230601T215214Z
LAST-MODIFIED:20230601T215214Z
UID:7430-1687001400-1687017600@visitrichfield.com
SUMMARY:Juneteenth Freedom Walk & Community Celebration
DESCRIPTION:First annual event! Come to Veterans Park for a Freedom Walk at 11:30 a.m. starting at the Honoring All Veterans Memorial; followed by a Community Celebration at noon at the Richfield Band Shell. Food trucks Flame Mobile Kitchen and Taste the Real Nawlins will be there\, along with live music and guest speakers. Come see what it’s all about!  Free.
URL:https://visitrichfield.com/event/juneteenth-freedom-walk-community-celebration/
LOCATION:Richfield Band Shell\, 636 East 66th Street\, Richfield\, MN\, 55423
CATEGORIES:family,holiday,outdoors
ATTACH;FMTTYPE=image/jpeg:https://visitrichfield.com/wp-content/uploads/2023/06/Juneteenth-2023-graphic.jpg
END:VEVENT
BEGIN:VEVENT
DTSTART;TZID=America/Chicago:20230529T140000
DTEND;TZID=America/Chicago:20230529T150000
DTSTAMP:20260424T193848
CREATED:20230430T231816Z
LAST-MODIFIED:20230430T231816Z
UID:7169-1685368800-1685372400@visitrichfield.com
SUMMARY:Memorial Day Ceremony
DESCRIPTION:Celebrate Memorial Day by paying tribute to our United States Military Veterans. Featuring Guest Speaker Scott Egger; president of the National POW/MIA Riders Association\, and a flyover performance by T-6 Thunder. 35 newly-engraved names on the Memorial will be unveiled. \nFree and open to the public; event will be held rain or shine.  Bring your own chair. For more information\, call 612-861-9395.
URL:https://visitrichfield.com/event/memorial-day-ceremony/
LOCATION:Honoring All Veterans Memorial\, 6401 Portland Avenue South\, Richfield\, MN\, 55423
CATEGORIES:holiday,outdoors
ATTACH;FMTTYPE=image/jpeg:https://visitrichfield.com/wp-content/uploads/2023/04/VetsMemorial.jpg
END:VEVENT
BEGIN:VEVENT
DTSTART;TZID=America/Chicago:20230214T180000
DTEND;TZID=America/Chicago:20230214T200000
DTSTAMP:20260424T193848
CREATED:20230128T193453Z
LAST-MODIFIED:20230128T193453Z
UID:6256-1676397600-1676404800@visitrichfield.com
SUMMARY:Valentine's Candle-Lit Stroll
DESCRIPTION:Stroll along a candle-lit trail with a loved one through the woods and cattails following hundreds of luminaries. Enjoy the winter evening warming up around a crackling fire\, sipping on hot cocoa\, and enjoying s’mores. \nLuminary trail is 20-30 minutes in length\, and closes at 7:30 p.m. $6.00 per person; pre-registration required at woodlakenaturecenter.org.
URL:https://visitrichfield.com/event/valentines-candle-lit-stroll/
LOCATION:Wood Lake Nature Center\, 6710 Lake Shore Drive\, Richfield\, MN\, 55423\, United States
CATEGORIES:active,holiday,Valentine's Day
ATTACH;FMTTYPE=image/jpeg:https://visitrichfield.com/wp-content/uploads/2022/11/IMG_1676.jpg
END:VEVENT
BEGIN:VEVENT
DTSTART;TZID=America/Chicago:20230213T180000
DTEND;TZID=America/Chicago:20230213T210000
DTSTAMP:20260424T193848
CREATED:20230204T001904Z
LAST-MODIFIED:20230204T001904Z
UID:6274-1676311200-1676322000@visitrichfield.com
SUMMARY:Valentine's Dinner Show
DESCRIPTION:Don’t miss the annual Valentine’s Dinner Show at the VFW!  Cocktail hour from 5-6 p.m.; Dinner and the live show start at 6. Great food and entertainment; you won’t want to miss this one!  Tickets $35 each or two for $60; call 651-308-2020 for reservations.
URL:https://visitrichfield.com/event/valentines-dinner-show/
LOCATION:Fred Babcock VFW Post 5555\, 6715 Lake Shore Drive South\, Richfield\, MN\, 55423
CATEGORIES:holiday,music,Valentine's Day
ATTACH;FMTTYPE=image/jpeg:https://visitrichfield.com/wp-content/uploads/2023/02/Valentines-Day-2023.jpg
END:VEVENT
BEGIN:VEVENT
DTSTART;TZID=America/Chicago:20221215T183000
DTEND;TZID=America/Chicago:20221215T193000
DTSTAMP:20260424T193848
CREATED:20221123T215641Z
LAST-MODIFIED:20221123T215815Z
UID:6024-1671129000-1671132600@visitrichfield.com
SUMMARY:Holiday Lights Parade
DESCRIPTION:Join us for the third annual holiday lights parade! Enjoy festive music\, beautifully-lit public works vehicles\, and seeing our very special guest stars\, Santa and Mrs. Claus. Parade begins at the City Garage (1901 East 66th Street) travels south on Bloomington\, west on 70th\, and north on Lyndale\, ending at 67th and Lyndale.
URL:https://visitrichfield.com/event/holiday-lights-parade-2/
LOCATION:MN
CATEGORIES:family,holiday,outdoors
ATTACH;FMTTYPE=image/jpeg:https://visitrichfield.com/wp-content/uploads/2022/11/2021-Holiday-Lights-Parade-Map-scaled.jpg
END:VEVENT
BEGIN:VEVENT
DTSTART;TZID=America/Chicago:20221211T153000
DTEND;TZID=America/Chicago:20221211T170000
DTSTAMP:20260424T193848
CREATED:20221123T214848Z
LAST-MODIFIED:20221123T214848Z
UID:6021-1670772600-1670778000@visitrichfield.com
SUMMARY:Skate with Santa
DESCRIPTION:Hey families\, lace up your skates and take to the ice with the man in the big red suit! Enjoy an afternoon of fun\, photo ops\, treats\, and refreshments. Discounted skate rental.
URL:https://visitrichfield.com/event/skate-with-santa/
LOCATION:Richfield Ice Arena
CATEGORIES:active,Christmas,family,holiday
ATTACH;FMTTYPE=image/jpeg:https://visitrichfield.com/wp-content/uploads/2022/11/Skating-with-Santa-2022.jpg
END:VEVENT
BEGIN:VEVENT
DTSTART;TZID=America/Chicago:20221211T150000
DTEND;TZID=America/Chicago:20221211T160000
DTSTAMP:20260424T193848
CREATED:20221123T214530Z
LAST-MODIFIED:20221123T214530Z
UID:6019-1670770800-1670774400@visitrichfield.com
SUMMARY:Rolled Beeswax Candles
DESCRIPTION:Make beautiful candles using sheets of pure beeswax that you roll by hand around a wick. Beeswax is a natural product that burns completely and doesn’t drip or smoke. They are fun and easy to make\, look and smell great\, and make fantastic homemade holiday gifts! Clear plastic gift bags and curly ribbon are included. This is a great adult-child activity. Online registration at woodlakenaturecenter.org is preferred; walk-in registrations are allowed as space allows.
URL:https://visitrichfield.com/event/rolled-beeswax-candles-4/
LOCATION:Wood Lake Nature Center\, 6710 Lake Shore Drive\, Richfield\, MN\, 55423\, United States
CATEGORIES:crafts,family,holiday,nature
ATTACH;FMTTYPE=image/jpeg:https://visitrichfield.com/wp-content/uploads/2022/11/beeswax-candles.jpg
END:VEVENT
BEGIN:VEVENT
DTSTART;TZID=America/Chicago:20221211T140000
DTEND;TZID=America/Chicago:20221211T150000
DTSTAMP:20260424T193848
CREATED:20221123T214331Z
LAST-MODIFIED:20221123T214331Z
UID:6017-1670767200-1670770800@visitrichfield.com
SUMMARY:Rolled Beeswax Candles
DESCRIPTION:Make beautiful candles using sheets of pure beeswax that you roll by hand around a wick. Beeswax is a natural product that burns completely and doesn’t drip or smoke. They are fun and easy to make\, look and smell great\, and make fantastic homemade holiday gifts! Clear plastic gift bags and curly ribbon are included. This is a great adult-child activity. Online registration at woodlakenaturecenter.org is preferred; walk-in registrations are allowed as space allows.
URL:https://visitrichfield.com/event/rolled-beeswax-candles-3/
LOCATION:Wood Lake Nature Center\, 6710 Lake Shore Drive\, Richfield\, MN\, 55423\, United States
CATEGORIES:family,holiday,nature
ATTACH;FMTTYPE=image/jpeg:https://visitrichfield.com/wp-content/uploads/2022/11/beeswax-candles.jpg
END:VEVENT
BEGIN:VEVENT
DTSTART;TZID=America/Chicago:20221211T130000
DTEND;TZID=America/Chicago:20221211T140000
DTSTAMP:20260424T193848
CREATED:20221123T214147Z
LAST-MODIFIED:20221123T214147Z
UID:6014-1670763600-1670767200@visitrichfield.com
SUMMARY:Rolled Beeswax Candles
DESCRIPTION:Make beautiful candles using sheets of pure beeswax that you roll by hand around a wick. Beeswax is a natural product that burns completely and doesn’t drip or smoke. They are fun and easy to make\, look and smell great\, and make fantastic homemade holiday gifts! Clear plastic gift bags and curly ribbon are included. This is a great adult-child activity. Online registration at woodlakenaturecenter.org is preferred; walk-in registrations are allowed as space allows.
URL:https://visitrichfield.com/event/rolled-beeswax-candles-2/
LOCATION:Wood Lake Nature Center\, 6710 Lake Shore Drive\, Richfield\, MN\, 55423\, United States
CATEGORIES:crafts,family,holiday,nature
ATTACH;FMTTYPE=image/jpeg:https://visitrichfield.com/wp-content/uploads/2022/11/beeswax-candles.jpg
END:VEVENT
BEGIN:VEVENT
DTSTART;TZID=America/Chicago:20221210T100000
DTEND;TZID=America/Chicago:20221210T130000
DTSTAMP:20260424T193848
CREATED:20221205T172323Z
LAST-MODIFIED:20221205T172431Z
UID:6083-1670666400-1670677200@visitrichfield.com
SUMMARY:Santa's Coming to Penn Nutrition!
DESCRIPTION:All ages welcome for Santa’s visit to Penn Nutrition!  Face painting\, hot cocoa\, double punches on loyalty cards\, and a great prize drawing!
URL:https://visitrichfield.com/event/santas-coming-to-penn-nutrition/
LOCATION:Penn Nutrition\, 6627 Penn Avenue South\, Richfield\, MN\, 55423
CATEGORIES:Christmas,family,food and beverage,holiday
ATTACH;FMTTYPE=image/jpeg:https://visitrichfield.com/wp-content/uploads/2022/12/Santa-visit.jpg
END:VEVENT
BEGIN:VEVENT
DTSTART;TZID=America/Chicago:20221204T150000
DTEND;TZID=America/Chicago:20221204T163000
DTSTAMP:20260424T193848
CREATED:20221123T212346Z
LAST-MODIFIED:20221123T212346Z
UID:6009-1670166000-1670171400@visitrichfield.com
SUMMARY:Make a Gingerbread House
DESCRIPTION:Make a sweet holiday memory!  Build and decorate a simple cracker and candy house. Colorful houses make a great centerpiece for holiday decorating and can be preserved…or eaten!  Online registration at woodlakenaturecenter.org is required.
URL:https://visitrichfield.com/event/make-a-gingerbread-house-3/
LOCATION:Wood Lake Nature Center\, 6710 Lake Shore Drive\, Richfield\, MN\, 55423\, United States
CATEGORIES:Christmas,crafts,family,holiday
ATTACH;FMTTYPE=image/jpeg:https://visitrichfield.com/wp-content/uploads/2022/11/gingerbread-house-scaled.jpg
END:VEVENT
BEGIN:VEVENT
DTSTART;TZID=America/Chicago:20221204T130000
DTEND;TZID=America/Chicago:20221204T143000
DTSTAMP:20260424T193848
CREATED:20221123T211801Z
LAST-MODIFIED:20221123T211801Z
UID:6006-1670158800-1670164200@visitrichfield.com
SUMMARY:Make a Gingerbread House
DESCRIPTION:Make a sweet holiday memory!  Build and decorate a simple cracker and candy house. Colorful houses make a great centerpiece for holiday decorating and can be preserved…or eaten!  Online registration at woodlakenaturecenter.org is required.
URL:https://visitrichfield.com/event/make-a-gingerbread-house-2/
LOCATION:Wood Lake Nature Center\, 6710 Lake Shore Drive\, Richfield\, MN\, 55423\, United States
CATEGORIES:Christmas,Christmas,crafts,family,Halloween,holiday
ATTACH;FMTTYPE=image/jpeg:https://visitrichfield.com/wp-content/uploads/2022/11/gingerbread-house-scaled.jpg
END:VEVENT
END:VCALENDAR