
BEGIN:VCALENDAR
VERSION:2.0
PRODID:-//Visit Richfield - ECPv6.15.20//NONSGML v1.0//EN
CALSCALE:GREGORIAN
METHOD:PUBLISH
X-ORIGINAL-URL:https://visitrichfield.com
X-WR-CALDESC:Events for Visit Richfield
REFRESH-INTERVAL;VALUE=DURATION:PT1H
X-Robots-Tag:noindex
X-PUBLISHED-TTL:PT1H
BEGIN:VTIMEZONE
TZID:America/Chicago
BEGIN:DAYLIGHT
TZOFFSETFROM:-0600
TZOFFSETTO:-0500
TZNAME:CDT
DTSTART:20240310T080000
END:DAYLIGHT
BEGIN:STANDARD
TZOFFSETFROM:-0500
TZOFFSETTO:-0600
TZNAME:CST
DTSTART:20241103T070000
END:STANDARD
BEGIN:DAYLIGHT
TZOFFSETFROM:-0600
TZOFFSETTO:-0500
TZNAME:CDT
DTSTART:20250309T080000
END:DAYLIGHT
BEGIN:STANDARD
TZOFFSETFROM:-0500
TZOFFSETTO:-0600
TZNAME:CST
DTSTART:20251102T070000
END:STANDARD
BEGIN:DAYLIGHT
TZOFFSETFROM:-0600
TZOFFSETTO:-0500
TZNAME:CDT
DTSTART:20260308T080000
END:DAYLIGHT
BEGIN:STANDARD
TZOFFSETFROM:-0500
TZOFFSETTO:-0600
TZNAME:CST
DTSTART:20261101T070000
END:STANDARD
END:VTIMEZONE
BEGIN:VEVENT
DTSTART;TZID=America/Chicago:20250301T120000
DTEND;TZID=America/Chicago:20250301T150000
DTSTAMP:20260424T152316
CREATED:20250225T174609Z
LAST-MODIFIED:20250225T174810Z
UID:10995-1740830400-1740841200@visitrichfield.com
SUMMARY:Everything Prom Style Event
DESCRIPTION:Prom season is here\, and Mall of America® has everything you need to create your perfect look! Join us for an exclusive preview of stunning dresses\, elegant accessories\, and expert beauty tips. \nAt this event\, Macy’s will showcase the latest prom styles and offer expert makeup demos featuring MAC Beauty\, Lancome\, and Puig. Ulta Beauty will have quick hair styling demos\, fun hair tinsel applications\, and Benefit Cosmetics’ Arch Experts will be there to provide brow mapping and styling. Ulta’s top beauty boutiques will also offer makeup demos to perfect your prom look. \nKiehl’s will offer hydration tests and depuffing treatments to get your skin glowing\, and Maggie’s Boutique will feature the hottest prom dresses of the season; perfect for finding your dream gown. Little Words Project will help you create custom\, one-of-a-kind prom jewelry to complete your look. Don’t forget to check out the complimentary color analysis offering to find the shades that will make you shine on your big night! \nBe among the first high school students to check in with a valid student ID and receive an exclusive MOA® prom beauty kit! Plus\, give back while you glam up. We’re thrilled to announce our partnership with Project Fairy Godmothers for a prom dress drive. Donate a new or gently used dress and receive a complimentary Nickelodeon Universe 6-point pass as our token of gratitude! \nDon’t miss this exciting event full of beauty\, fashion\, and fun! Click here to learn more about all things prom and how you can win a $500 MOA gift card!
URL:https://visitrichfield.com/event/everything-prom-style-event/
LOCATION:Mall of America
CATEGORIES:MOA
ATTACH;FMTTYPE=image/jpeg:https://visitrichfield.com/wp-content/uploads/2025/02/Prom-1.jpg
END:VEVENT
BEGIN:VEVENT
DTSTART;TZID=America/Chicago:20250306T123000
DTEND;TZID=America/Chicago:20250306T160000
DTSTAMP:20260424T152316
CREATED:20250225T175257Z
LAST-MODIFIED:20250225T175340Z
UID:10998-1741264200-1741276800@visitrichfield.com
SUMMARY:2025 MATTERbox Madness
DESCRIPTION:The MATTERbox Madness campaign was created because we believe no Minnesota kids should go hungry over the summer\, and the need for healthy meals has never been greater. In partnership with amazing Minnesota companies and individuals\, we want to pack 10\,000 healthy meals at MATTERbox Madness for kids and families this summer\, and show each one that they matter. \nMATTERbox Madness is back for the 10th annual packing competition! Top companies in the Twin Cities will compete against each other in a meal-packing challenge at the Mall of America in the Huntington Bank Rotunda! Join us in providing healthy food for kids this summer!
URL:https://visitrichfield.com/event/2025-matterbox-madness/
LOCATION:Mall of America
CATEGORIES:MOA
ATTACH;FMTTYPE=image/jpeg:https://visitrichfield.com/wp-content/uploads/2025/02/Matterbox.jpg
END:VEVENT
BEGIN:VEVENT
DTSTART;TZID=America/Chicago:20250309T120000
DTEND;TZID=America/Chicago:20250309T140000
DTSTAMP:20260424T152316
CREATED:20250226T160555Z
LAST-MODIFIED:20250226T160558Z
UID:11004-1741521600-1741528800@visitrichfield.com
SUMMARY:Build a LEGO Steering Wheel
DESCRIPTION:Visit the LEGO Store at Mall of America on Level 1 South to build this LEGO Steering Wheel and take it home!
URL:https://visitrichfield.com/event/build-a-lego-steering-wheel/
LOCATION:Mall of America
CATEGORIES:kids,MOA
ATTACH;FMTTYPE=image/jpeg:https://visitrichfield.com/wp-content/uploads/2025/02/Lego.jpg
END:VEVENT
END:VCALENDAR