
BEGIN:VCALENDAR
VERSION:2.0
PRODID:-//Visit Richfield - ECPv6.15.20//NONSGML v1.0//EN
CALSCALE:GREGORIAN
METHOD:PUBLISH
X-ORIGINAL-URL:https://visitrichfield.com
X-WR-CALDESC:Events for Visit Richfield
REFRESH-INTERVAL;VALUE=DURATION:PT1H
X-Robots-Tag:noindex
X-PUBLISHED-TTL:PT1H
BEGIN:VTIMEZONE
TZID:America/Chicago
BEGIN:DAYLIGHT
TZOFFSETFROM:-0600
TZOFFSETTO:-0500
TZNAME:CDT
DTSTART:20250309T080000
END:DAYLIGHT
BEGIN:STANDARD
TZOFFSETFROM:-0500
TZOFFSETTO:-0600
TZNAME:CST
DTSTART:20251102T070000
END:STANDARD
BEGIN:DAYLIGHT
TZOFFSETFROM:-0600
TZOFFSETTO:-0500
TZNAME:CDT
DTSTART:20260308T080000
END:DAYLIGHT
BEGIN:STANDARD
TZOFFSETFROM:-0500
TZOFFSETTO:-0600
TZNAME:CST
DTSTART:20261101T070000
END:STANDARD
BEGIN:DAYLIGHT
TZOFFSETFROM:-0600
TZOFFSETTO:-0500
TZNAME:CDT
DTSTART:20270314T080000
END:DAYLIGHT
BEGIN:STANDARD
TZOFFSETFROM:-0500
TZOFFSETTO:-0600
TZNAME:CST
DTSTART:20271107T070000
END:STANDARD
END:VTIMEZONE
BEGIN:VEVENT
DTSTART;TZID=America/Chicago:20260516T180000
DTEND;TZID=America/Chicago:20260516T210000
DTSTAMP:20260425T052238
CREATED:20260422T164252Z
LAST-MODIFIED:20260422T164253Z
UID:12007-1778954400-1778965200@visitrichfield.com
SUMMARY:2026 AMPERS&ONE Live Tour "Born to Define"
DESCRIPTION:MINNEAPOLIS! K-pop boy group AMPERS&ONE are returning to the United States on their 2026 live tour ‘Born To Define’ with a FREE SHOW at Mall of America! This special performance is open to the public and will take place in the Huntington Bank Rotunda at Mall of America. No ticket is required to attend the general show\, just show up and enjoy! \nALL AGES EVENT \nA limited number of VIP upgrades and fan experiences will be available for purchase. \nAMPERS&ONE (앰퍼샌드원) is a 7-member boy group consisting of Kamden\, Brian\, Jiho\, Siyun\, Mackiah\, Kyrell\, and Seungmo. \nVIP tickets go on sale Friday\, March 27 at 10 a.m. \nVIP Ticket Link: https://www.ticketweb.com/event/2026-ampersone-live-tour-born-mall-of-america-tickets/14795173
URL:https://visitrichfield.com/event/2026-ampersone-live-tour-born-to-define/
LOCATION:Mall of America
CATEGORIES:music
ATTACH;FMTTYPE=image/jpeg:https://visitrichfield.com/wp-content/uploads/2026/04/656913999_1263491225926175_5223932049115308627_n.jpg
END:VEVENT
END:VCALENDAR