
BEGIN:VCALENDAR
VERSION:2.0
PRODID:-//Visit Richfield - ECPv6.15.20//NONSGML v1.0//EN
CALSCALE:GREGORIAN
METHOD:PUBLISH
X-ORIGINAL-URL:https://visitrichfield.com
X-WR-CALDESC:Events for Visit Richfield
REFRESH-INTERVAL;VALUE=DURATION:PT1H
X-Robots-Tag:noindex
X-PUBLISHED-TTL:PT1H
BEGIN:VTIMEZONE
TZID:America/Chicago
BEGIN:DAYLIGHT
TZOFFSETFROM:-0600
TZOFFSETTO:-0500
TZNAME:CDT
DTSTART:20250309T080000
END:DAYLIGHT
BEGIN:STANDARD
TZOFFSETFROM:-0500
TZOFFSETTO:-0600
TZNAME:CST
DTSTART:20251102T070000
END:STANDARD
BEGIN:DAYLIGHT
TZOFFSETFROM:-0600
TZOFFSETTO:-0500
TZNAME:CDT
DTSTART:20260308T080000
END:DAYLIGHT
BEGIN:STANDARD
TZOFFSETFROM:-0500
TZOFFSETTO:-0600
TZNAME:CST
DTSTART:20261101T070000
END:STANDARD
BEGIN:DAYLIGHT
TZOFFSETFROM:-0600
TZOFFSETTO:-0500
TZNAME:CDT
DTSTART:20270314T080000
END:DAYLIGHT
BEGIN:STANDARD
TZOFFSETFROM:-0500
TZOFFSETTO:-0600
TZNAME:CST
DTSTART:20271107T070000
END:STANDARD
END:VTIMEZONE
BEGIN:VEVENT
DTSTART;TZID=America/Chicago:20260110T103000
DTEND;TZID=America/Chicago:20260110T120000
DTSTAMP:20260421T225511
CREATED:20251230T195811Z
LAST-MODIFIED:20251230T195812Z
UID:11772-1768041000-1768046400@visitrichfield.com
SUMMARY:Animal Tracks and Scat
DESCRIPTION:Join us for an exciting winter adventure as we explore the tracks and scat left behind by local wildlife. Learn how to identify animal prints and signs in the snow. Perfect for families and nature-lovers eager to uncover the hidden stories of animals in winter!  $5/person; half-off for members; meet at the Lyndale Avenue gate.  Register here.
URL:https://visitrichfield.com/event/animal-tracks-and-scat-2/2026-01-10/
LOCATION:Wood Lake Nature Center\, 6710 Lake Shore Drive\, Richfield\, MN\, 55423\, United States
CATEGORIES:nature
ATTACH;FMTTYPE=image/jpeg:https://visitrichfield.com/wp-content/uploads/2024/12/animal-tracks.jpg
END:VEVENT
BEGIN:VEVENT
DTSTART;TZID=America/Chicago:20260113T140000
DTEND;TZID=America/Chicago:20260113T150000
DTSTAMP:20260421T225511
CREATED:20260104T203134Z
LAST-MODIFIED:20260318T221535Z
UID:11797-1768312800-1768316400@visitrichfield.com
SUMMARY:Wood Lake Nature Center Building Site Tour
DESCRIPTION:Join Richfield Recreation and Mortenson Construction staff on a site tour of the new Wood Lake building!  Walk the site and hear all about the brand-new facility.  Tours are free\, but pre-registration is required; register here. \nAges 18 and up only; 10 participants per tour. Full pants\, boots\, or closed shoes required (no sandals). Helmet\, vest\, and gloves provided. Meet at the construction site gate (limited parking is available in the lot).
URL:https://visitrichfield.com/event/wood-lake-nature-center-building-site-tour/2026-01-13/
LOCATION:Wood Lake Nature Center\, 6710 Lake Shore Drive\, Richfield\, MN\, 55423\, United States
CATEGORIES:nature
ATTACH;FMTTYPE=image/jpeg:https://visitrichfield.com/wp-content/uploads/2026/01/wood-lk-Construction-scaled.jpg
END:VEVENT
BEGIN:VEVENT
DTSTART;TZID=America/Chicago:20260126T140000
DTEND;TZID=America/Chicago:20260126T150000
DTSTAMP:20260421T225511
CREATED:20251230T203603Z
LAST-MODIFIED:20251230T203610Z
UID:11785-1769436000-1769439600@visitrichfield.com
SUMMARY:Nature in Your Neighborhood
DESCRIPTION:You don’t have to leave your neighborhood to explore nature! Join a Refuge Ranger to investigate what our animal neighbors do to survive the winter. Activities will be both indoors and outside and are geared toward elementary-aged students\, but all are welcome. We will finish the program with a take-home project. Materials provided; children must be accompanied by an adult. Free.
URL:https://visitrichfield.com/event/nature-in-your-neighborhood/
LOCATION:Augsburg Park Library\, 7100 Nicollet Avenue\, Richfield\, MN\, 55423
CATEGORIES:nature
ATTACH;FMTTYPE=image/jpeg:https://visitrichfield.com/wp-content/uploads/2018/10/NaturePlay.jpg
END:VEVENT
BEGIN:VEVENT
DTSTART;TZID=America/Chicago:20260127T140000
DTEND;TZID=America/Chicago:20260127T150000
DTSTAMP:20260421T225511
CREATED:20260104T203134Z
LAST-MODIFIED:20260318T222511Z
UID:11799-1769522400-1769526000@visitrichfield.com
SUMMARY:Wood Lake Nature Center Building Site Tour
DESCRIPTION:Join Richfield Recreation and Mortenson Construction staff on a site tour of the new Wood Lake building!  Walk the site and hear all about the brand-new facility.  Tours are free\, but pre-registration is required; register here. \nAges 18 and up only; 10 participants per tour. Full pants\, boots\, or closed shoes required (no sandals). Helmet\, vest\, and gloves provided. Meet at the construction site gate (limited parking is available in the lot).
URL:https://visitrichfield.com/event/wood-lake-nature-center-building-site-tour/2026-01-27/
LOCATION:Wood Lake Nature Center\, 6710 Lake Shore Drive\, Richfield\, MN\, 55423\, United States
CATEGORIES:nature
ATTACH;FMTTYPE=image/jpeg:https://visitrichfield.com/wp-content/uploads/2026/01/wood-lk-Construction-scaled.jpg
END:VEVENT
END:VCALENDAR