
BEGIN:VCALENDAR
VERSION:2.0
PRODID:-//Visit Richfield - ECPv6.15.20//NONSGML v1.0//EN
CALSCALE:GREGORIAN
METHOD:PUBLISH
X-ORIGINAL-URL:https://visitrichfield.com
X-WR-CALDESC:Events for Visit Richfield
REFRESH-INTERVAL;VALUE=DURATION:PT1H
X-Robots-Tag:noindex
X-PUBLISHED-TTL:PT1H
BEGIN:VTIMEZONE
TZID:America/Chicago
BEGIN:DAYLIGHT
TZOFFSETFROM:-0600
TZOFFSETTO:-0500
TZNAME:CDT
DTSTART:20250309T080000
END:DAYLIGHT
BEGIN:STANDARD
TZOFFSETFROM:-0500
TZOFFSETTO:-0600
TZNAME:CST
DTSTART:20251102T070000
END:STANDARD
BEGIN:DAYLIGHT
TZOFFSETFROM:-0600
TZOFFSETTO:-0500
TZNAME:CDT
DTSTART:20260308T080000
END:DAYLIGHT
BEGIN:STANDARD
TZOFFSETFROM:-0500
TZOFFSETTO:-0600
TZNAME:CST
DTSTART:20261101T070000
END:STANDARD
BEGIN:DAYLIGHT
TZOFFSETFROM:-0600
TZOFFSETTO:-0500
TZNAME:CDT
DTSTART:20270314T080000
END:DAYLIGHT
BEGIN:STANDARD
TZOFFSETFROM:-0500
TZOFFSETTO:-0600
TZNAME:CST
DTSTART:20271107T070000
END:STANDARD
END:VTIMEZONE
BEGIN:VEVENT
DTSTART;TZID=America/Chicago:20260416T180000
DTEND;TZID=America/Chicago:20260416T190000
DTSTAMP:20260424T105312
CREATED:20260104T203134Z
LAST-MODIFIED:20260104T203134Z
UID:11909-1776362400-1776366000@visitrichfield.com
SUMMARY:Wood Lake Nature Center Building Site Tour
DESCRIPTION:Join Richfield Recreation and Mortenson Construction staff on a site tour of the new Wood Lake building!  Walk the site and hear all about the brand-new facility.  Tours are free\, but pre-registration is required; register here. \nAges 18 and up only; 10 participants per tour. Full pants\, boots\, or closed shoes required (no sandals). Helmet\, vest\, and gloves provided. Meet at the construction site gate (limited parking is available in the lot).
URL:https://visitrichfield.com/event/wood-lake-nature-center-building-site-tour/2026-04-16/
LOCATION:Wood Lake Nature Center\, 6710 Lake Shore Drive\, Richfield\, MN\, 55423\, United States
CATEGORIES:nature
ATTACH;FMTTYPE=image/jpeg:https://visitrichfield.com/wp-content/uploads/2026/01/wood-lk-Construction-scaled.jpg
END:VEVENT
BEGIN:VEVENT
DTSTART;TZID=America/Chicago:20260422T100000
DTEND;TZID=America/Chicago:20260422T140000
DTSTAMP:20260424T105312
CREATED:20260406T174535Z
LAST-MODIFIED:20260406T174535Z
UID:11944-1776852000-1776866400@visitrichfield.com
SUMMARY:Earth Day Plant Tours
DESCRIPTION:Join us for an inside look at the living\, breathing ecosystem that helps bring Mall of America’s green commitment to life every day. Led by our expert landscapers\, these guided tours will explore the vital role plants play in creating a healthier\, more vibrant environment for millions of guests each year. \nTour Times:\n10 a.m. | 11 a.m. | 1 p.m. \nReserve your spot here. Space is limited.
URL:https://visitrichfield.com/event/earth-day-plant-tours/
LOCATION:Mall of America
CATEGORIES:nature
ATTACH;FMTTYPE=image/jpeg:https://visitrichfield.com/wp-content/uploads/2026/04/Plant-Tours.jpg
END:VEVENT
BEGIN:VEVENT
DTSTART;TZID=America/Chicago:20260425T130000
DTEND;TZID=America/Chicago:20260425T160000
DTSTAMP:20260424T105312
CREATED:20260318T224042Z
LAST-MODIFIED:20260318T224042Z
UID:11917-1777122000-1777132800@visitrichfield.com
SUMMARY:Earth Day Celebration
DESCRIPTION:Come together at the Richfield Community Center to celebrate Earth Day!  This event will include hands-on activities for kids\, a seed swap\, and a resource fair with local organizations sharing information on nature and sustainability. And afterwards\, stop by Wood Lake Nature Center and experience fun activity stations! Free; open to all ages.
URL:https://visitrichfield.com/event/earth-day-celebration-3/
LOCATION:Richfield Community Center\, 7000 Nicollet Ave\, Richfield\, Richfield\, MN\, 55423\, United States
CATEGORIES:nature
ATTACH;FMTTYPE=image/jpeg:https://visitrichfield.com/wp-content/uploads/2023/04/Earth-Day.jpg
END:VEVENT
BEGIN:VEVENT
DTSTART;TZID=America/Chicago:20260428T140000
DTEND;TZID=America/Chicago:20260428T150000
DTSTAMP:20260424T105312
CREATED:20260104T203134Z
LAST-MODIFIED:20260104T203134Z
UID:11910-1777384800-1777388400@visitrichfield.com
SUMMARY:Wood Lake Nature Center Building Site Tour
DESCRIPTION:Join Richfield Recreation and Mortenson Construction staff on a site tour of the new Wood Lake building!  Walk the site and hear all about the brand-new facility.  Tours are free\, but pre-registration is required; register here. \nAges 18 and up only; 10 participants per tour. Full pants\, boots\, or closed shoes required (no sandals). Helmet\, vest\, and gloves provided. Meet at the construction site gate (limited parking is available in the lot).
URL:https://visitrichfield.com/event/wood-lake-nature-center-building-site-tour/2026-04-28/
LOCATION:Wood Lake Nature Center\, 6710 Lake Shore Drive\, Richfield\, MN\, 55423\, United States
CATEGORIES:nature
ATTACH;FMTTYPE=image/jpeg:https://visitrichfield.com/wp-content/uploads/2026/01/wood-lk-Construction-scaled.jpg
END:VEVENT
BEGIN:VEVENT
DTSTART;TZID=America/Chicago:20260512T140000
DTEND;TZID=America/Chicago:20260512T150000
DTSTAMP:20260424T105312
CREATED:20260104T203134Z
LAST-MODIFIED:20260104T203134Z
UID:11991-1778594400-1778598000@visitrichfield.com
SUMMARY:Wood Lake Nature Center Building Site Tour
DESCRIPTION:Join Richfield Recreation and Mortenson Construction staff on a site tour of the new Wood Lake building!  Walk the site and hear all about the brand-new facility.  Tours are free\, but pre-registration is required; register here. \nAges 18 and up only; 10 participants per tour. Full pants\, boots\, or closed shoes required (no sandals). Helmet\, vest\, and gloves provided. Meet at the construction site gate (limited parking is available in the lot).
URL:https://visitrichfield.com/event/wood-lake-nature-center-building-site-tour/2026-05-12/
LOCATION:Wood Lake Nature Center\, 6710 Lake Shore Drive\, Richfield\, MN\, 55423\, United States
CATEGORIES:nature
ATTACH;FMTTYPE=image/jpeg:https://visitrichfield.com/wp-content/uploads/2026/01/wood-lk-Construction-scaled.jpg
END:VEVENT
BEGIN:VEVENT
DTSTART;TZID=America/Chicago:20260513T180000
DTEND;TZID=America/Chicago:20260513T193000
DTSTAMP:20260424T105312
CREATED:20260422T155746Z
LAST-MODIFIED:20260422T155747Z
UID:11995-1778695200-1778700600@visitrichfield.com
SUMMARY:Intergenerational Fishing Night
DESCRIPTION:Enjoy an evening outdoors as you learn the basics of fishing with Richfield Recreation and the Minnesota DNR\, held at the Taft Park fishing pier.  All fishing gear will be provided\, and while registration is free\, pairs must pre-register to participate.
URL:https://visitrichfield.com/event/intergenerational-fishing-night-2/2026-05-13/
LOCATION:Taft Park\, 6105 Bloomington Avenue South\, Richfield\, MN\, 55423\, United States
CATEGORIES:nature
ATTACH;FMTTYPE=image/jpeg:https://visitrichfield.com/wp-content/uploads/2023/07/kid-boy-hold-fish-fishing-rod-169866680.jpg
END:VEVENT
BEGIN:VEVENT
DTSTART;TZID=America/Chicago:20260521T180000
DTEND;TZID=America/Chicago:20260521T190000
DTSTAMP:20260424T105312
CREATED:20260104T203134Z
LAST-MODIFIED:20260104T203134Z
UID:11989-1779386400-1779390000@visitrichfield.com
SUMMARY:Wood Lake Nature Center Building Site Tour
DESCRIPTION:Join Richfield Recreation and Mortenson Construction staff on a site tour of the new Wood Lake building!  Walk the site and hear all about the brand-new facility.  Tours are free\, but pre-registration is required; register here. \nAges 18 and up only; 10 participants per tour. Full pants\, boots\, or closed shoes required (no sandals). Helmet\, vest\, and gloves provided. Meet at the construction site gate (limited parking is available in the lot).
URL:https://visitrichfield.com/event/wood-lake-nature-center-building-site-tour/2026-05-21/
LOCATION:Wood Lake Nature Center\, 6710 Lake Shore Drive\, Richfield\, MN\, 55423\, United States
CATEGORIES:nature
ATTACH;FMTTYPE=image/jpeg:https://visitrichfield.com/wp-content/uploads/2026/01/wood-lk-Construction-scaled.jpg
END:VEVENT
BEGIN:VEVENT
DTSTART;TZID=America/Chicago:20260526T140000
DTEND;TZID=America/Chicago:20260526T150000
DTSTAMP:20260424T105312
CREATED:20260104T203134Z
LAST-MODIFIED:20260104T203134Z
UID:11990-1779804000-1779807600@visitrichfield.com
SUMMARY:Wood Lake Nature Center Building Site Tour
DESCRIPTION:Join Richfield Recreation and Mortenson Construction staff on a site tour of the new Wood Lake building!  Walk the site and hear all about the brand-new facility.  Tours are free\, but pre-registration is required; register here. \nAges 18 and up only; 10 participants per tour. Full pants\, boots\, or closed shoes required (no sandals). Helmet\, vest\, and gloves provided. Meet at the construction site gate (limited parking is available in the lot).
URL:https://visitrichfield.com/event/wood-lake-nature-center-building-site-tour/2026-05-26/
LOCATION:Wood Lake Nature Center\, 6710 Lake Shore Drive\, Richfield\, MN\, 55423\, United States
CATEGORIES:nature
ATTACH;FMTTYPE=image/jpeg:https://visitrichfield.com/wp-content/uploads/2026/01/wood-lk-Construction-scaled.jpg
END:VEVENT
BEGIN:VEVENT
DTSTART;TZID=America/Chicago:20260722T180000
DTEND;TZID=America/Chicago:20260722T193000
DTSTAMP:20260424T105312
CREATED:20260422T155746Z
LAST-MODIFIED:20260422T155746Z
UID:11996-1784743200-1784748600@visitrichfield.com
SUMMARY:Intergenerational Fishing Night
DESCRIPTION:Enjoy an evening outdoors as you learn the basics of fishing with Richfield Recreation and the Minnesota DNR\, held at the Taft Park fishing pier.  All fishing gear will be provided\, and while registration is free\, pairs must pre-register to participate.
URL:https://visitrichfield.com/event/intergenerational-fishing-night-2/2026-07-22/
LOCATION:Taft Park\, 6105 Bloomington Avenue South\, Richfield\, MN\, 55423\, United States
CATEGORIES:nature
ATTACH;FMTTYPE=image/jpeg:https://visitrichfield.com/wp-content/uploads/2023/07/kid-boy-hold-fish-fishing-rod-169866680.jpg
END:VEVENT
BEGIN:VEVENT
DTSTART;TZID=America/Chicago:20260819T180000
DTEND;TZID=America/Chicago:20260819T193000
DTSTAMP:20260424T105312
CREATED:20260422T155746Z
LAST-MODIFIED:20260422T155746Z
UID:11997-1787162400-1787167800@visitrichfield.com
SUMMARY:Intergenerational Fishing Night
DESCRIPTION:Enjoy an evening outdoors as you learn the basics of fishing with Richfield Recreation and the Minnesota DNR\, held at the Taft Park fishing pier.  All fishing gear will be provided\, and while registration is free\, pairs must pre-register to participate.
URL:https://visitrichfield.com/event/intergenerational-fishing-night-2/2026-08-19/
LOCATION:Taft Park\, 6105 Bloomington Avenue South\, Richfield\, MN\, 55423\, United States
CATEGORIES:nature
ATTACH;FMTTYPE=image/jpeg:https://visitrichfield.com/wp-content/uploads/2023/07/kid-boy-hold-fish-fishing-rod-169866680.jpg
END:VEVENT
END:VCALENDAR