
BEGIN:VCALENDAR
VERSION:2.0
PRODID:-//Visit Richfield - ECPv6.15.20//NONSGML v1.0//EN
CALSCALE:GREGORIAN
METHOD:PUBLISH
X-WR-CALNAME:Visit Richfield
X-ORIGINAL-URL:https://visitrichfield.com
X-WR-CALDESC:Events for Visit Richfield
REFRESH-INTERVAL;VALUE=DURATION:PT1H
X-Robots-Tag:noindex
X-PUBLISHED-TTL:PT1H
BEGIN:VTIMEZONE
TZID:America/Chicago
BEGIN:DAYLIGHT
TZOFFSETFROM:-0600
TZOFFSETTO:-0500
TZNAME:CDT
DTSTART:20240310T080000
END:DAYLIGHT
BEGIN:STANDARD
TZOFFSETFROM:-0500
TZOFFSETTO:-0600
TZNAME:CST
DTSTART:20241103T070000
END:STANDARD
BEGIN:DAYLIGHT
TZOFFSETFROM:-0600
TZOFFSETTO:-0500
TZNAME:CDT
DTSTART:20250309T080000
END:DAYLIGHT
BEGIN:STANDARD
TZOFFSETFROM:-0500
TZOFFSETTO:-0600
TZNAME:CST
DTSTART:20251102T070000
END:STANDARD
BEGIN:DAYLIGHT
TZOFFSETFROM:-0600
TZOFFSETTO:-0500
TZNAME:CDT
DTSTART:20260308T080000
END:DAYLIGHT
BEGIN:STANDARD
TZOFFSETFROM:-0500
TZOFFSETTO:-0600
TZNAME:CST
DTSTART:20261101T070000
END:STANDARD
END:VTIMEZONE
BEGIN:VEVENT
DTSTART;TZID=America/Chicago:20250921T130000
DTEND;TZID=America/Chicago:20250921T170000
DTSTAMP:20260421T224600
CREATED:20250904T155152Z
LAST-MODIFIED:20250904T155156Z
UID:11570-1758459600-1758474000@visitrichfield.com
SUMMARY:Penn Fest
DESCRIPTION:It’s Richfield’s answer to the State Fair!  Come to Richfield’s Open Streets event up and down Penn Avenue\, with food trucks\, live music\, art zone\, mountain bike demos\, and so much more.   Penn Avenue in Richfield will be closed to cars from 62nd to 76th Streets\, so you can explore the avenue filled with music\, dance\, sports\, games\, crafters\, artisans\, the Pet Zone\, and delicious food.  See you there!
URL:https://visitrichfield.com/event/penn-fest-4/
LOCATION:MN
CATEGORIES:Richfield Events
ATTACH;FMTTYPE=image/jpeg:https://visitrichfield.com/wp-content/uploads/2022/09/Penn-Fest-768x576-1.jpg
END:VEVENT
END:VCALENDAR