
BEGIN:VCALENDAR
VERSION:2.0
PRODID:-//Visit Richfield - ECPv6.15.20//NONSGML v1.0//EN
CALSCALE:GREGORIAN
METHOD:PUBLISH
X-ORIGINAL-URL:https://visitrichfield.com
X-WR-CALDESC:Events for Visit Richfield
REFRESH-INTERVAL;VALUE=DURATION:PT1H
X-Robots-Tag:noindex
X-PUBLISHED-TTL:PT1H
BEGIN:VTIMEZONE
TZID:America/Chicago
BEGIN:DAYLIGHT
TZOFFSETFROM:-0600
TZOFFSETTO:-0500
TZNAME:CDT
DTSTART:20240310T080000
END:DAYLIGHT
BEGIN:STANDARD
TZOFFSETFROM:-0500
TZOFFSETTO:-0600
TZNAME:CST
DTSTART:20241103T070000
END:STANDARD
BEGIN:DAYLIGHT
TZOFFSETFROM:-0600
TZOFFSETTO:-0500
TZNAME:CDT
DTSTART:20250309T080000
END:DAYLIGHT
BEGIN:STANDARD
TZOFFSETFROM:-0500
TZOFFSETTO:-0600
TZNAME:CST
DTSTART:20251102T070000
END:STANDARD
BEGIN:DAYLIGHT
TZOFFSETFROM:-0600
TZOFFSETTO:-0500
TZNAME:CDT
DTSTART:20260308T080000
END:DAYLIGHT
BEGIN:STANDARD
TZOFFSETFROM:-0500
TZOFFSETTO:-0600
TZNAME:CST
DTSTART:20261101T070000
END:STANDARD
END:VTIMEZONE
BEGIN:VEVENT
DTSTART;VALUE=DATE:20250515
DTEND;VALUE=DATE:20250518
DTSTAMP:20260424T190618
CREATED:20250428T163706Z
LAST-MODIFIED:20250428T163708Z
UID:11094-1747267200-1747526399@visitrichfield.com
SUMMARY:Richfield City-Wide Garage Sale
DESCRIPTION:Register your Richfield sale with the City-Wide Garage Sale\, held Thursday through Saturday\, May 15-17\, and Richfield Recreation will list your sale\, along with your open days/times\, featured items for sale\, and a pin on the garage sale map. View the interactive and downloadable map/list at richfieldmn.gov/garagesale.  Please observe each sale’s open days and times.  List will be posted by May 12.
URL:https://visitrichfield.com/event/richfield-city-wide-garage-sale-4/
CATEGORIES:shopping
ATTACH;FMTTYPE=image/jpeg:https://visitrichfield.com/wp-content/uploads/2025/04/Garage-sale.jpg
END:VEVENT
END:VCALENDAR