
BEGIN:VCALENDAR
VERSION:2.0
PRODID:-//Visit Richfield - ECPv6.15.20//NONSGML v1.0//EN
CALSCALE:GREGORIAN
METHOD:PUBLISH
X-WR-CALNAME:Visit Richfield
X-ORIGINAL-URL:https://visitrichfield.com
X-WR-CALDESC:Events for Visit Richfield
REFRESH-INTERVAL;VALUE=DURATION:PT1H
X-Robots-Tag:noindex
X-PUBLISHED-TTL:PT1H
BEGIN:VTIMEZONE
TZID:America/Chicago
BEGIN:DAYLIGHT
TZOFFSETFROM:-0600
TZOFFSETTO:-0500
TZNAME:CDT
DTSTART:20250309T080000
END:DAYLIGHT
BEGIN:STANDARD
TZOFFSETFROM:-0500
TZOFFSETTO:-0600
TZNAME:CST
DTSTART:20251102T070000
END:STANDARD
BEGIN:DAYLIGHT
TZOFFSETFROM:-0600
TZOFFSETTO:-0500
TZNAME:CDT
DTSTART:20260308T080000
END:DAYLIGHT
BEGIN:STANDARD
TZOFFSETFROM:-0500
TZOFFSETTO:-0600
TZNAME:CST
DTSTART:20261101T070000
END:STANDARD
BEGIN:DAYLIGHT
TZOFFSETFROM:-0600
TZOFFSETTO:-0500
TZNAME:CDT
DTSTART:20270314T080000
END:DAYLIGHT
BEGIN:STANDARD
TZOFFSETFROM:-0500
TZOFFSETTO:-0600
TZNAME:CST
DTSTART:20271107T070000
END:STANDARD
BEGIN:DAYLIGHT
TZOFFSETFROM:-0600
TZOFFSETTO:-0500
TZNAME:CDT
DTSTART:20280312T080000
END:DAYLIGHT
BEGIN:STANDARD
TZOFFSETFROM:-0500
TZOFFSETTO:-0600
TZNAME:CST
DTSTART:20281105T070000
END:STANDARD
END:VTIMEZONE
BEGIN:VEVENT
DTSTART;TZID=America/Chicago:20260502T110000
DTEND;TZID=America/Chicago:20260502T190000
DTSTAMP:20260422T002509
CREATED:20260421T161105Z
LAST-MODIFIED:20260421T161106Z
UID:11973-1777719600-1777748400@visitrichfield.com
SUMMARY:Wheel Fun Rentals and mini-golf opens for the season
DESCRIPTION:Here we go! Wheel Fun mini-golf and surrey rentals kick off for the season today!  11 a.m. to 7 p.m. on weekends and holidays through May; click here to see hours for the summer.
URL:https://visitrichfield.com/event/wheel-fun-rentals-and-mini-golf-opens-for-the-season/
LOCATION:Veterans Park\, 6335 Portland Avenue South\, Richfield\, MN\, 55423
CATEGORIES:mini-golf
ATTACH;FMTTYPE=image/jpeg:https://visitrichfield.com/wp-content/uploads/2023/04/MN-veterans-park-mini-golf-welcome-1024x683-1.jpg
END:VEVENT
BEGIN:VEVENT
DTSTART;TZID=America/Chicago:20260502T143000
DTEND;TZID=America/Chicago:20260502T160000
DTSTAMP:20260422T002509
CREATED:20260421T161832Z
LAST-MODIFIED:20260421T161833Z
UID:11974-1777732200-1777737600@visitrichfield.com
SUMMARY:Eco Printing
DESCRIPTION:Combine seasonal and preserved botanicals with steam to create beautiful eco-printed fabrics. Learn to prepare your fabric for dye\, select botanicals with high natural dye content\, and create a variety of effects. Materials provided. Collaborator: Textile Center. Free; appropriate for adults. Register here.
URL:https://visitrichfield.com/event/eco-printing/
LOCATION:Augsburg Park Library\, 7100 Nicollet Avenue\, Richfield\, MN\, 55423
CATEGORIES:crafts
ATTACH;FMTTYPE=image/jpeg:https://visitrichfield.com/wp-content/uploads/2025/08/Program_CraftyMN_760x230.jpg
END:VEVENT
BEGIN:VEVENT
DTSTART;TZID=America/Chicago:20260502T160000
DTEND;TZID=America/Chicago:20260502T210000
DTSTAMP:20260422T002509
CREATED:20250525T133422Z
LAST-MODIFIED:20250525T133422Z
UID:11965-1777737600-1777755600@visitrichfield.com
SUMMARY:Richfield Boardgame Night with Games by James
DESCRIPTION:Join a fun-filled night of board games at the community center! Games by James and Air Traffic will be providing newly-released games and modern classics to play. Recreation staff will be on hand to help learn the rules\, and help with any questions that may come up. This is a great way to connect with other community members looking for a fun night of board games!  No registration required.  Ages 10 and up; youth under 16 must be accompanied by an adult. Free.
URL:https://visitrichfield.com/event/richfield-boardgame-night-with-games-by-james/2026-05-02/
LOCATION:Richfield Community Center\, 7000 Nicollet Ave\, Richfield\, Richfield\, MN\, 55423\, United States
CATEGORIES:games
ATTACH;FMTTYPE=image/jpeg:https://visitrichfield.com/wp-content/uploads/2023/09/board-games.jpg
END:VEVENT
BEGIN:VEVENT
DTSTART;TZID=America/Chicago:20260503T100000
DTEND;TZID=America/Chicago:20260503T140000
DTSTAMP:20260422T002509
CREATED:20260421T163124Z
LAST-MODIFIED:20260421T163125Z
UID:11976-1777802400-1777816800@visitrichfield.com
SUMMARY:Twin Cities Bike Swap
DESCRIPTION:The 2026 Twin Cities Bike Swap returns to our popular central outdoor location on May 3. We’re excited to host this institution of the Twin Cities cycling scene once again. You’ll find everything from BMX and mountain bikes to vintage road and track-racing equipment. The venue has easy access and free parking.  Purchase tickets or reserve a table here; all proceeds benefit the Minnesota Cycling Center and their efforts to build a new velodrome in Minnesota.
URL:https://visitrichfield.com/event/twin-cities-bike-swap/
LOCATION:Veterans Park\, 6335 Portland Avenue South\, Richfield\, MN\, 55423
CATEGORIES:biking
ATTACH;FMTTYPE=image/jpeg:https://visitrichfield.com/wp-content/uploads/2026/04/650823856_1234957352130565_7737394986229844145_n.jpg
END:VEVENT
BEGIN:VEVENT
DTSTART;TZID=America/Chicago:20260503T120000
DTEND;TZID=America/Chicago:20260503T133000
DTSTAMP:20260422T002509
CREATED:20260421T162249Z
LAST-MODIFIED:20260421T162251Z
UID:11975-1777809600-1777815000@visitrichfield.com
SUMMARY:Migration Bird Hike
DESCRIPTION:Enjoy a hike through Wood Lake’s forest and marsh as we look for some early migrating birds. Binoculars and ID guides will be available for loan.  $5/person; half-off for Wood Lake members.  Repeats same day at 2 p.m.; register for either session here.
URL:https://visitrichfield.com/event/migration-bird-hike/
LOCATION:Wood Lake Nature Center\, 6710 Lake Shore Drive\, Richfield\, MN\, 55423\, United States
CATEGORIES:birds
ATTACH;FMTTYPE=image/jpeg:https://visitrichfield.com/wp-content/uploads/2023/09/Bird-migration.jpg
END:VEVENT
BEGIN:VEVENT
DTSTART;TZID=America/Chicago:20260506T133000
DTEND;TZID=America/Chicago:20260506T160000
DTSTAMP:20260422T002509
CREATED:20240103T191133Z
LAST-MODIFIED:20240103T191133Z
UID:10213-1778074200-1778083200@visitrichfield.com
SUMMARY:Gaming Drop-In
DESCRIPTION:Bring your favorite card or board games to play\, or learn a new one! There will be old favorites\, as well as new games to try out. For your best experience\, come for an hour or more. This is planned to be a monthly event at Frenchman’s Pub; game play will start at 1:30 p.m. and be cleaned up and out by 4. Hosted by AnriasGames.com
URL:https://visitrichfield.com/event/gaming-drop-in/2026-05-06/
LOCATION:Frenchman’s Pub\, 1400 East 66th Street\, Richfield\, MN\, 55423
CATEGORIES:games
ATTACH;FMTTYPE=image/webp:https://visitrichfield.com/wp-content/uploads/2024/01/board-games.webp
END:VEVENT
BEGIN:VEVENT
DTSTART;TZID=America/Chicago:20260507T101500
DTEND;TZID=America/Chicago:20260507T104500
DTSTAMP:20260422T002509
CREATED:20260226T172357Z
LAST-MODIFIED:20260226T172357Z
UID:11978-1778148900-1778150700@visitrichfield.com
SUMMARY:Family Storytime
DESCRIPTION:For children ages birth to 5 and their caregivers. Talk\, sing\, read\, write\, and play together. Share books\, stories\, rhymes\, music\, and movement. Free; siblings welcome.
URL:https://visitrichfield.com/event/family-storytime-2/2026-05-07/
LOCATION:Augsburg Park Library\, 7100 Nicollet Avenue\, Richfield\, MN\, 55423
CATEGORIES:library
ATTACH;FMTTYPE=image/jpeg:https://visitrichfield.com/wp-content/uploads/2025/09/EarlyLearning-Storytimes_banner.jpg
END:VEVENT
BEGIN:VEVENT
DTSTART;TZID=America/Chicago:20260508T190000
DTEND;TZID=America/Chicago:20260508T210000
DTSTAMP:20260422T002509
CREATED:20260421T172802Z
LAST-MODIFIED:20260421T172803Z
UID:11981-1778266800-1778274000@visitrichfield.com
SUMMARY:Cosmic Mini-Golf
DESCRIPTION:Get ready for an unforgettable night of fun and excitement! Experience vibrant neon colors and the magic of blacklight as you play a round of Cosmic Mini-Golf. Plus enjoy inflatables\, music\, and concessions for the whole family. Registration encouraged at www.richfieldmn.gov/register\, but walk-up registration with credit cards will also be allowed as space permits. Players will start in groups every 15 minutes.$8/person.
URL:https://visitrichfield.com/event/cosmic-mini-golf-2/2026-05-08/
LOCATION:Veterans Park\, 6335 Portland Avenue South\, Richfield\, MN\, 55423
CATEGORIES:mini-golf
ATTACH;FMTTYPE=image/png:https://visitrichfield.com/wp-content/uploads/2026/04/Cosmic-mini-golf.png
END:VEVENT
BEGIN:VEVENT
DTSTART;TZID=America/Chicago:20260509T190000
DTEND;TZID=America/Chicago:20260509T210000
DTSTAMP:20260422T002509
CREATED:20260421T172802Z
LAST-MODIFIED:20260421T172802Z
UID:11983-1778353200-1778360400@visitrichfield.com
SUMMARY:Cosmic Mini-Golf
DESCRIPTION:Get ready for an unforgettable night of fun and excitement! Experience vibrant neon colors and the magic of blacklight as you play a round of Cosmic Mini-Golf. Plus enjoy inflatables\, music\, and concessions for the whole family. Registration encouraged at www.richfieldmn.gov/register\, but walk-up registration with credit cards will also be allowed as space permits. Players will start in groups every 15 minutes.$8/person.
URL:https://visitrichfield.com/event/cosmic-mini-golf-2/2026-05-09/
LOCATION:Veterans Park\, 6335 Portland Avenue South\, Richfield\, MN\, 55423
CATEGORIES:mini-golf
ATTACH;FMTTYPE=image/png:https://visitrichfield.com/wp-content/uploads/2026/04/Cosmic-mini-golf.png
END:VEVENT
BEGIN:VEVENT
DTSTART;TZID=America/Chicago:20260511T180000
DTEND;TZID=America/Chicago:20260511T193000
DTSTAMP:20260422T002509
CREATED:20260421T173313Z
LAST-MODIFIED:20260421T173314Z
UID:11984-1778522400-1778527800@visitrichfield.com
SUMMARY:Spring Bird Hike
DESCRIPTION:Enjoy a spring hike through Wood Lake as we look for both migrating and resident birds. Discover how to identify species from sight and sound. Binoculars and field guides will be available for loan. $5/hike; free for Wood Lake members.  May 11 and May 28 events are at Wood Lake; May 20 event is at Veterans Park; sign up here.
URL:https://visitrichfield.com/event/spring-bird-hike-8/2026-05-11/
LOCATION:Wood Lake Nature Center\, 6710 Lake Shore Drive\, Richfield\, MN\, 55423\, United States
CATEGORIES:birds
ATTACH;FMTTYPE=image/jpeg:https://visitrichfield.com/wp-content/uploads/2023/04/Spring-Bird-Hike-May-2023.jpg
END:VEVENT
BEGIN:VEVENT
DTSTART;TZID=America/Chicago:20260514T101500
DTEND;TZID=America/Chicago:20260514T104500
DTSTAMP:20260422T002509
CREATED:20260226T172357Z
LAST-MODIFIED:20260226T172357Z
UID:11980-1778753700-1778755500@visitrichfield.com
SUMMARY:Family Storytime
DESCRIPTION:For children ages birth to 5 and their caregivers. Talk\, sing\, read\, write\, and play together. Share books\, stories\, rhymes\, music\, and movement. Free; siblings welcome.
URL:https://visitrichfield.com/event/family-storytime-2/2026-05-14/
LOCATION:Augsburg Park Library\, 7100 Nicollet Avenue\, Richfield\, MN\, 55423
CATEGORIES:library
ATTACH;FMTTYPE=image/jpeg:https://visitrichfield.com/wp-content/uploads/2025/09/EarlyLearning-Storytimes_banner.jpg
END:VEVENT
BEGIN:VEVENT
DTSTART;TZID=America/Chicago:20260517T123000
DTEND;TZID=America/Chicago:20260517T153000
DTSTAMP:20260422T002509
CREATED:20260318T223710Z
LAST-MODIFIED:20260318T223710Z
UID:11916-1779021000-1779031800@visitrichfield.com
SUMMARY:Printing in Spring: Intro to Block Printing
DESCRIPTION:Learn the basics of block printing by creating your own block with a personalized design\, inspired by nature!  Get a hands-on lesson in the process of designing\, carving\, and printing your very own block that can be used for years to come. Ages 13 and up; minors must be accompanied by an adult.  $10 per person; half-off for Wood Lake members (plus a $30 material fee).   Click here to sign up.
URL:https://visitrichfield.com/event/printing-in-spring-intro-to-block-printing/2026-05-17/
LOCATION:Richfield Community Center\, 7000 Nicollet Ave\, Richfield\, Richfield\, MN\, 55423\, United States
CATEGORIES:crafts
ATTACH;FMTTYPE=image/jpeg:https://visitrichfield.com/wp-content/uploads/2026/03/v1022-29-scaled.jpg
END:VEVENT
BEGIN:VEVENT
DTSTART;TZID=America/Chicago:20260520T080000
DTEND;TZID=America/Chicago:20260520T100000
DTSTAMP:20260422T002509
CREATED:20260421T173313Z
LAST-MODIFIED:20260421T173313Z
UID:11985-1779264000-1779271200@visitrichfield.com
SUMMARY:Spring Bird Hike
DESCRIPTION:Enjoy a spring hike through Wood Lake as we look for both migrating and resident birds. Discover how to identify species from sight and sound. Binoculars and field guides will be available for loan. $5/hike; free for Wood Lake members.  May 11 and May 28 events are at Wood Lake; May 20 event is at Veterans Park; sign up here.
URL:https://visitrichfield.com/event/spring-bird-hike-8/2026-05-20/
LOCATION:Wood Lake Nature Center\, 6710 Lake Shore Drive\, Richfield\, MN\, 55423\, United States
CATEGORIES:birds
ATTACH;FMTTYPE=image/jpeg:https://visitrichfield.com/wp-content/uploads/2023/04/Spring-Bird-Hike-May-2023.jpg
END:VEVENT
BEGIN:VEVENT
DTSTART;TZID=America/Chicago:20260528T180000
DTEND;TZID=America/Chicago:20260528T193000
DTSTAMP:20260422T002509
CREATED:20260421T173313Z
LAST-MODIFIED:20260421T173313Z
UID:11986-1779991200-1779996600@visitrichfield.com
SUMMARY:Spring Bird Hike
DESCRIPTION:Enjoy a spring hike through Wood Lake as we look for both migrating and resident birds. Discover how to identify species from sight and sound. Binoculars and field guides will be available for loan. $5/hike; free for Wood Lake members.  May 11 and May 28 events are at Wood Lake; May 20 event is at Veterans Park; sign up here.
URL:https://visitrichfield.com/event/spring-bird-hike-8/2026-05-28/
LOCATION:Wood Lake Nature Center\, 6710 Lake Shore Drive\, Richfield\, MN\, 55423\, United States
CATEGORIES:birds
ATTACH;FMTTYPE=image/jpeg:https://visitrichfield.com/wp-content/uploads/2023/04/Spring-Bird-Hike-May-2023.jpg
END:VEVENT
BEGIN:VEVENT
DTSTART;TZID=America/Chicago:20260603T133000
DTEND;TZID=America/Chicago:20260603T160000
DTSTAMP:20260422T002509
CREATED:20240103T191133Z
LAST-MODIFIED:20240103T191133Z
UID:10294-1780493400-1780502400@visitrichfield.com
SUMMARY:Gaming Drop-In
DESCRIPTION:Bring your favorite card or board games to play\, or learn a new one! There will be old favorites\, as well as new games to try out. For your best experience\, come for an hour or more. This is planned to be a monthly event at Frenchman’s Pub; game play will start at 1:30 p.m. and be cleaned up and out by 4. Hosted by AnriasGames.com
URL:https://visitrichfield.com/event/gaming-drop-in/2026-06-03/
LOCATION:Frenchman’s Pub\, 1400 East 66th Street\, Richfield\, MN\, 55423
CATEGORIES:games
ATTACH;FMTTYPE=image/webp:https://visitrichfield.com/wp-content/uploads/2024/01/board-games.webp
END:VEVENT
BEGIN:VEVENT
DTSTART;TZID=America/Chicago:20260606T160000
DTEND;TZID=America/Chicago:20260606T210000
DTSTAMP:20260422T002509
CREATED:20250525T133422Z
LAST-MODIFIED:20250525T133422Z
UID:11966-1780761600-1780779600@visitrichfield.com
SUMMARY:Richfield Boardgame Night with Games by James
DESCRIPTION:Join a fun-filled night of board games at the community center! Games by James and Air Traffic will be providing newly-released games and modern classics to play. Recreation staff will be on hand to help learn the rules\, and help with any questions that may come up. This is a great way to connect with other community members looking for a fun night of board games!  No registration required.  Ages 10 and up; youth under 16 must be accompanied by an adult. Free.
URL:https://visitrichfield.com/event/richfield-boardgame-night-with-games-by-james/2026-06-06/
LOCATION:Richfield Community Center\, 7000 Nicollet Ave\, Richfield\, Richfield\, MN\, 55423\, United States
CATEGORIES:games
ATTACH;FMTTYPE=image/jpeg:https://visitrichfield.com/wp-content/uploads/2023/09/board-games.jpg
END:VEVENT
BEGIN:VEVENT
DTSTART;TZID=America/Chicago:20260701T133000
DTEND;TZID=America/Chicago:20260701T160000
DTSTAMP:20260422T002509
CREATED:20240103T191133Z
LAST-MODIFIED:20240103T191133Z
UID:10350-1782912600-1782921600@visitrichfield.com
SUMMARY:Gaming Drop-In
DESCRIPTION:Bring your favorite card or board games to play\, or learn a new one! There will be old favorites\, as well as new games to try out. For your best experience\, come for an hour or more. This is planned to be a monthly event at Frenchman’s Pub; game play will start at 1:30 p.m. and be cleaned up and out by 4. Hosted by AnriasGames.com
URL:https://visitrichfield.com/event/gaming-drop-in/2026-07-01/
LOCATION:Frenchman’s Pub\, 1400 East 66th Street\, Richfield\, MN\, 55423
CATEGORIES:games
ATTACH;FMTTYPE=image/webp:https://visitrichfield.com/wp-content/uploads/2024/01/board-games.webp
END:VEVENT
BEGIN:VEVENT
DTSTART;TZID=America/Chicago:20260805T133000
DTEND;TZID=America/Chicago:20260805T160000
DTSTAMP:20260422T002509
CREATED:20240103T191133Z
LAST-MODIFIED:20240103T191133Z
UID:10486-1785936600-1785945600@visitrichfield.com
SUMMARY:Gaming Drop-In
DESCRIPTION:Bring your favorite card or board games to play\, or learn a new one! There will be old favorites\, as well as new games to try out. For your best experience\, come for an hour or more. This is planned to be a monthly event at Frenchman’s Pub; game play will start at 1:30 p.m. and be cleaned up and out by 4. Hosted by AnriasGames.com
URL:https://visitrichfield.com/event/gaming-drop-in/2026-08-05/
LOCATION:Frenchman’s Pub\, 1400 East 66th Street\, Richfield\, MN\, 55423
CATEGORIES:games
ATTACH;FMTTYPE=image/webp:https://visitrichfield.com/wp-content/uploads/2024/01/board-games.webp
END:VEVENT
BEGIN:VEVENT
DTSTART;TZID=America/Chicago:20260902T133000
DTEND;TZID=America/Chicago:20260902T160000
DTSTAMP:20260422T002509
CREATED:20240103T191133Z
LAST-MODIFIED:20240103T191133Z
UID:10587-1788355800-1788364800@visitrichfield.com
SUMMARY:Gaming Drop-In
DESCRIPTION:Bring your favorite card or board games to play\, or learn a new one! There will be old favorites\, as well as new games to try out. For your best experience\, come for an hour or more. This is planned to be a monthly event at Frenchman’s Pub; game play will start at 1:30 p.m. and be cleaned up and out by 4. Hosted by AnriasGames.com
URL:https://visitrichfield.com/event/gaming-drop-in/2026-09-02/
LOCATION:Frenchman’s Pub\, 1400 East 66th Street\, Richfield\, MN\, 55423
CATEGORIES:games
ATTACH;FMTTYPE=image/webp:https://visitrichfield.com/wp-content/uploads/2024/01/board-games.webp
END:VEVENT
BEGIN:VEVENT
DTSTART;TZID=America/Chicago:20261007T133000
DTEND;TZID=America/Chicago:20261007T160000
DTSTAMP:20260422T002509
CREATED:20240103T191133Z
LAST-MODIFIED:20240103T191133Z
UID:10785-1791379800-1791388800@visitrichfield.com
SUMMARY:Gaming Drop-In
DESCRIPTION:Bring your favorite card or board games to play\, or learn a new one! There will be old favorites\, as well as new games to try out. For your best experience\, come for an hour or more. This is planned to be a monthly event at Frenchman’s Pub; game play will start at 1:30 p.m. and be cleaned up and out by 4. Hosted by AnriasGames.com
URL:https://visitrichfield.com/event/gaming-drop-in/2026-10-07/
LOCATION:Frenchman’s Pub\, 1400 East 66th Street\, Richfield\, MN\, 55423
CATEGORIES:games
ATTACH;FMTTYPE=image/webp:https://visitrichfield.com/wp-content/uploads/2024/01/board-games.webp
END:VEVENT
BEGIN:VEVENT
DTSTART;TZID=America/Chicago:20261104T133000
DTEND;TZID=America/Chicago:20261104T160000
DTSTAMP:20260422T002509
CREATED:20240103T191133Z
LAST-MODIFIED:20240103T191133Z
UID:10836-1793799000-1793808000@visitrichfield.com
SUMMARY:Gaming Drop-In
DESCRIPTION:Bring your favorite card or board games to play\, or learn a new one! There will be old favorites\, as well as new games to try out. For your best experience\, come for an hour or more. This is planned to be a monthly event at Frenchman’s Pub; game play will start at 1:30 p.m. and be cleaned up and out by 4. Hosted by AnriasGames.com
URL:https://visitrichfield.com/event/gaming-drop-in/2026-11-04/
LOCATION:Frenchman’s Pub\, 1400 East 66th Street\, Richfield\, MN\, 55423
CATEGORIES:games
ATTACH;FMTTYPE=image/webp:https://visitrichfield.com/wp-content/uploads/2024/01/board-games.webp
END:VEVENT
BEGIN:VEVENT
DTSTART;TZID=America/Chicago:20261202T133000
DTEND;TZID=America/Chicago:20261202T160000
DTSTAMP:20260422T002509
CREATED:20240103T191133Z
LAST-MODIFIED:20240103T191133Z
UID:10875-1796218200-1796227200@visitrichfield.com
SUMMARY:Gaming Drop-In
DESCRIPTION:Bring your favorite card or board games to play\, or learn a new one! There will be old favorites\, as well as new games to try out. For your best experience\, come for an hour or more. This is planned to be a monthly event at Frenchman’s Pub; game play will start at 1:30 p.m. and be cleaned up and out by 4. Hosted by AnriasGames.com
URL:https://visitrichfield.com/event/gaming-drop-in/2026-12-02/
LOCATION:Frenchman’s Pub\, 1400 East 66th Street\, Richfield\, MN\, 55423
CATEGORIES:games
ATTACH;FMTTYPE=image/webp:https://visitrichfield.com/wp-content/uploads/2024/01/board-games.webp
END:VEVENT
BEGIN:VEVENT
DTSTART;TZID=America/Chicago:20270106T133000
DTEND;TZID=America/Chicago:20270106T160000
DTSTAMP:20260422T002509
CREATED:20240103T191133Z
LAST-MODIFIED:20240103T191133Z
UID:10940-1799242200-1799251200@visitrichfield.com
SUMMARY:Gaming Drop-In
DESCRIPTION:Bring your favorite card or board games to play\, or learn a new one! There will be old favorites\, as well as new games to try out. For your best experience\, come for an hour or more. This is planned to be a monthly event at Frenchman’s Pub; game play will start at 1:30 p.m. and be cleaned up and out by 4. Hosted by AnriasGames.com
URL:https://visitrichfield.com/event/gaming-drop-in/2027-01-06/
LOCATION:Frenchman’s Pub\, 1400 East 66th Street\, Richfield\, MN\, 55423
CATEGORIES:games
ATTACH;FMTTYPE=image/webp:https://visitrichfield.com/wp-content/uploads/2024/01/board-games.webp
END:VEVENT
BEGIN:VEVENT
DTSTART;TZID=America/Chicago:20270203T133000
DTEND;TZID=America/Chicago:20270203T160000
DTSTAMP:20260422T002509
CREATED:20240103T191133Z
LAST-MODIFIED:20240103T191133Z
UID:10975-1801661400-1801670400@visitrichfield.com
SUMMARY:Gaming Drop-In
DESCRIPTION:Bring your favorite card or board games to play\, or learn a new one! There will be old favorites\, as well as new games to try out. For your best experience\, come for an hour or more. This is planned to be a monthly event at Frenchman’s Pub; game play will start at 1:30 p.m. and be cleaned up and out by 4. Hosted by AnriasGames.com
URL:https://visitrichfield.com/event/gaming-drop-in/2027-02-03/
LOCATION:Frenchman’s Pub\, 1400 East 66th Street\, Richfield\, MN\, 55423
CATEGORIES:games
ATTACH;FMTTYPE=image/webp:https://visitrichfield.com/wp-content/uploads/2024/01/board-games.webp
END:VEVENT
BEGIN:VEVENT
DTSTART;TZID=America/Chicago:20270303T133000
DTEND;TZID=America/Chicago:20270303T160000
DTSTAMP:20260422T002509
CREATED:20240103T191133Z
LAST-MODIFIED:20240103T191133Z
UID:11012-1804080600-1804089600@visitrichfield.com
SUMMARY:Gaming Drop-In
DESCRIPTION:Bring your favorite card or board games to play\, or learn a new one! There will be old favorites\, as well as new games to try out. For your best experience\, come for an hour or more. This is planned to be a monthly event at Frenchman’s Pub; game play will start at 1:30 p.m. and be cleaned up and out by 4. Hosted by AnriasGames.com
URL:https://visitrichfield.com/event/gaming-drop-in/2027-03-03/
LOCATION:Frenchman’s Pub\, 1400 East 66th Street\, Richfield\, MN\, 55423
CATEGORIES:games
ATTACH;FMTTYPE=image/webp:https://visitrichfield.com/wp-content/uploads/2024/01/board-games.webp
END:VEVENT
BEGIN:VEVENT
DTSTART;TZID=America/Chicago:20270407T133000
DTEND;TZID=America/Chicago:20270407T160000
DTSTAMP:20260422T002509
CREATED:20240103T191133Z
LAST-MODIFIED:20240103T191133Z
UID:11062-1807104600-1807113600@visitrichfield.com
SUMMARY:Gaming Drop-In
DESCRIPTION:Bring your favorite card or board games to play\, or learn a new one! There will be old favorites\, as well as new games to try out. For your best experience\, come for an hour or more. This is planned to be a monthly event at Frenchman’s Pub; game play will start at 1:30 p.m. and be cleaned up and out by 4. Hosted by AnriasGames.com
URL:https://visitrichfield.com/event/gaming-drop-in/2027-04-07/
LOCATION:Frenchman’s Pub\, 1400 East 66th Street\, Richfield\, MN\, 55423
CATEGORIES:games
ATTACH;FMTTYPE=image/webp:https://visitrichfield.com/wp-content/uploads/2024/01/board-games.webp
END:VEVENT
BEGIN:VEVENT
DTSTART;TZID=America/Chicago:20270505T133000
DTEND;TZID=America/Chicago:20270505T160000
DTSTAMP:20260422T002509
CREATED:20240103T191133Z
LAST-MODIFIED:20240103T191133Z
UID:11123-1809523800-1809532800@visitrichfield.com
SUMMARY:Gaming Drop-In
DESCRIPTION:Bring your favorite card or board games to play\, or learn a new one! There will be old favorites\, as well as new games to try out. For your best experience\, come for an hour or more. This is planned to be a monthly event at Frenchman’s Pub; game play will start at 1:30 p.m. and be cleaned up and out by 4. Hosted by AnriasGames.com
URL:https://visitrichfield.com/event/gaming-drop-in/2027-05-05/
LOCATION:Frenchman’s Pub\, 1400 East 66th Street\, Richfield\, MN\, 55423
CATEGORIES:games
ATTACH;FMTTYPE=image/webp:https://visitrichfield.com/wp-content/uploads/2024/01/board-games.webp
END:VEVENT
BEGIN:VEVENT
DTSTART;TZID=America/Chicago:20270602T133000
DTEND;TZID=America/Chicago:20270602T160000
DTSTAMP:20260422T002509
CREATED:20240103T191133Z
LAST-MODIFIED:20240103T191133Z
UID:11174-1811943000-1811952000@visitrichfield.com
SUMMARY:Gaming Drop-In
DESCRIPTION:Bring your favorite card or board games to play\, or learn a new one! There will be old favorites\, as well as new games to try out. For your best experience\, come for an hour or more. This is planned to be a monthly event at Frenchman’s Pub; game play will start at 1:30 p.m. and be cleaned up and out by 4. Hosted by AnriasGames.com
URL:https://visitrichfield.com/event/gaming-drop-in/2027-06-02/
LOCATION:Frenchman’s Pub\, 1400 East 66th Street\, Richfield\, MN\, 55423
CATEGORIES:games
ATTACH;FMTTYPE=image/webp:https://visitrichfield.com/wp-content/uploads/2024/01/board-games.webp
END:VEVENT
BEGIN:VEVENT
DTSTART;TZID=America/Chicago:20270707T133000
DTEND;TZID=America/Chicago:20270707T160000
DTSTAMP:20260422T002509
CREATED:20240103T191133Z
LAST-MODIFIED:20240103T191133Z
UID:11243-1814967000-1814976000@visitrichfield.com
SUMMARY:Gaming Drop-In
DESCRIPTION:Bring your favorite card or board games to play\, or learn a new one! There will be old favorites\, as well as new games to try out. For your best experience\, come for an hour or more. This is planned to be a monthly event at Frenchman’s Pub; game play will start at 1:30 p.m. and be cleaned up and out by 4. Hosted by AnriasGames.com
URL:https://visitrichfield.com/event/gaming-drop-in/2027-07-07/
LOCATION:Frenchman’s Pub\, 1400 East 66th Street\, Richfield\, MN\, 55423
CATEGORIES:games
ATTACH;FMTTYPE=image/webp:https://visitrichfield.com/wp-content/uploads/2024/01/board-games.webp
END:VEVENT
BEGIN:VEVENT
DTSTART;TZID=America/Chicago:20270804T133000
DTEND;TZID=America/Chicago:20270804T160000
DTSTAMP:20260422T002509
CREATED:20240103T191133Z
LAST-MODIFIED:20240103T191133Z
UID:11285-1817386200-1817395200@visitrichfield.com
SUMMARY:Gaming Drop-In
DESCRIPTION:Bring your favorite card or board games to play\, or learn a new one! There will be old favorites\, as well as new games to try out. For your best experience\, come for an hour or more. This is planned to be a monthly event at Frenchman’s Pub; game play will start at 1:30 p.m. and be cleaned up and out by 4. Hosted by AnriasGames.com
URL:https://visitrichfield.com/event/gaming-drop-in/2027-08-04/
LOCATION:Frenchman’s Pub\, 1400 East 66th Street\, Richfield\, MN\, 55423
CATEGORIES:games
ATTACH;FMTTYPE=image/webp:https://visitrichfield.com/wp-content/uploads/2024/01/board-games.webp
END:VEVENT
END:VCALENDAR