
BEGIN:VCALENDAR
VERSION:2.0
PRODID:-//Visit Richfield - ECPv6.15.20//NONSGML v1.0//EN
CALSCALE:GREGORIAN
METHOD:PUBLISH
X-WR-CALNAME:Visit Richfield
X-ORIGINAL-URL:https://visitrichfield.com
X-WR-CALDESC:Events for Visit Richfield
REFRESH-INTERVAL;VALUE=DURATION:PT1H
X-Robots-Tag:noindex
X-PUBLISHED-TTL:PT1H
BEGIN:VTIMEZONE
TZID:UTC
BEGIN:STANDARD
TZOFFSETFROM:+0000
TZOFFSETTO:+0000
TZNAME:UTC
DTSTART:20160101T000000
END:STANDARD
END:VTIMEZONE
BEGIN:VEVENT
DTSTART;TZID=UTC:20170719T190000
DTEND;TZID=UTC:20170719T210000
DTSTAMP:20260424T064352
CREATED:20170713T013802Z
LAST-MODIFIED:20170713T013802Z
UID:485-1500490800-1500498000@visitrichfield.com
SUMMARY:Back Porch concert featuring Katy Vernon Trio
DESCRIPTION:Richfield History Center\, 6901 Lyndale Ave
URL:https://visitrichfield.com/event/back-porch-concert-featuring-katy-vernon-trio/
LOCATION:MN
CATEGORIES:Community Events
END:VEVENT
END:VCALENDAR