
BEGIN:VCALENDAR
VERSION:2.0
PRODID:-//Visit Richfield - ECPv6.15.20//NONSGML v1.0//EN
CALSCALE:GREGORIAN
METHOD:PUBLISH
X-WR-CALNAME:Visit Richfield
X-ORIGINAL-URL:https://visitrichfield.com
X-WR-CALDESC:Events for Visit Richfield
REFRESH-INTERVAL;VALUE=DURATION:PT1H
X-Robots-Tag:noindex
X-PUBLISHED-TTL:PT1H
BEGIN:VTIMEZONE
TZID:America/Chicago
BEGIN:DAYLIGHT
TZOFFSETFROM:-0600
TZOFFSETTO:-0500
TZNAME:CDT
DTSTART:20240310T080000
END:DAYLIGHT
BEGIN:STANDARD
TZOFFSETFROM:-0500
TZOFFSETTO:-0600
TZNAME:CST
DTSTART:20241103T070000
END:STANDARD
BEGIN:DAYLIGHT
TZOFFSETFROM:-0600
TZOFFSETTO:-0500
TZNAME:CDT
DTSTART:20250309T080000
END:DAYLIGHT
BEGIN:STANDARD
TZOFFSETFROM:-0500
TZOFFSETTO:-0600
TZNAME:CST
DTSTART:20251102T070000
END:STANDARD
BEGIN:DAYLIGHT
TZOFFSETFROM:-0600
TZOFFSETTO:-0500
TZNAME:CDT
DTSTART:20260308T080000
END:DAYLIGHT
BEGIN:STANDARD
TZOFFSETFROM:-0500
TZOFFSETTO:-0600
TZNAME:CST
DTSTART:20261101T070000
END:STANDARD
END:VTIMEZONE
BEGIN:VEVENT
DTSTART;TZID=America/Chicago:20250309T120000
DTEND;TZID=America/Chicago:20250309T180000
DTSTAMP:20260422T043338
CREATED:20250225T175627Z
LAST-MODIFIED:20250225T175627Z
UID:11002-1741521600-1741543200@visitrichfield.com
SUMMARY:Corda Mor Irish Dance
DESCRIPTION:Get in the St. Patrick’s Day spirit with performances from Corda Mor Irish Dance! Corda Mor (meaning “Great Heart”) teaches Irish Dance to more than 100 students in a dance studio in Edina\, MN. Corda Mor Irish dancers\, ranging in age from 4 to 21\, provide stellar entertainment in a variety of venues throughout the Midwest and participate in competitions all over the world. We hope you can join us for these wonderful performances!\n\nPerformances will be held at Noon\, 2 p.m.\, 3 p.m. + 6 p.m.
URL:https://visitrichfield.com/event/corda-mor-irish-dance/2025-03-09/
LOCATION:Mall of America
CATEGORIES:culture,dance
ATTACH;FMTTYPE=image/jpeg:https://visitrichfield.com/wp-content/uploads/2025/02/Irish-dance.jpg
END:VEVENT
END:VCALENDAR