
BEGIN:VCALENDAR
VERSION:2.0
PRODID:-//Visit Richfield - ECPv6.15.20//NONSGML v1.0//EN
CALSCALE:GREGORIAN
METHOD:PUBLISH
X-WR-CALNAME:Visit Richfield
X-ORIGINAL-URL:https://visitrichfield.com
X-WR-CALDESC:Events for Visit Richfield
REFRESH-INTERVAL;VALUE=DURATION:PT1H
X-Robots-Tag:noindex
X-PUBLISHED-TTL:PT1H
BEGIN:VTIMEZONE
TZID:America/Chicago
BEGIN:DAYLIGHT
TZOFFSETFROM:-0600
TZOFFSETTO:-0500
TZNAME:CDT
DTSTART:20210314T080000
END:DAYLIGHT
BEGIN:STANDARD
TZOFFSETFROM:-0500
TZOFFSETTO:-0600
TZNAME:CST
DTSTART:20211107T070000
END:STANDARD
BEGIN:DAYLIGHT
TZOFFSETFROM:-0600
TZOFFSETTO:-0500
TZNAME:CDT
DTSTART:20220313T080000
END:DAYLIGHT
BEGIN:STANDARD
TZOFFSETFROM:-0500
TZOFFSETTO:-0600
TZNAME:CST
DTSTART:20221106T070000
END:STANDARD
BEGIN:DAYLIGHT
TZOFFSETFROM:-0600
TZOFFSETTO:-0500
TZNAME:CDT
DTSTART:20230312T080000
END:DAYLIGHT
BEGIN:STANDARD
TZOFFSETFROM:-0500
TZOFFSETTO:-0600
TZNAME:CST
DTSTART:20231105T070000
END:STANDARD
END:VTIMEZONE
BEGIN:VEVENT
DTSTART;TZID=America/Chicago:20221203T113000
DTEND;TZID=America/Chicago:20221203T153000
DTSTAMP:20260424T082748
CREATED:20221123T210237Z
LAST-MODIFIED:20221123T210238Z
UID:5998-1670067000-1670081400@visitrichfield.com
SUMMARY:Holiday Tree and Wreath Sales with Santa!
DESCRIPTION:Buy a fresh tree from a local grower for the holidays: A Richfield tradition continues as Clear Lake\, Minnesota-based B&J Evergreen will sell holiday trees and stands\, garlands\, wreaths\, spruce tips\, and swags from Thanksgiving until all of the trees are sold. Premium Fraser\, Balsam\, Scotch Pine\, Canaan Fir\, and White Pine available. Open Friday-Saturday 9am-9pm\, and Sunday-Thursday 9am-8:30pm.  Santa will be here the first three weekends of sales\, 11:30 am-3:30pm!
URL:https://visitrichfield.com/event/holiday-tree-and-wreath-sales-with-santa/
LOCATION:Veterans Park\, 6335 Portland Avenue South\, Richfield\, MN\, 55423
CATEGORIES:Christmas,family,outdoors
ATTACH;FMTTYPE=image/jpeg:https://visitrichfield.com/wp-content/uploads/2022/10/Trees-close-up.jpg
END:VEVENT
BEGIN:VEVENT
DTSTART;TZID=America/Chicago:20221204T113000
DTEND;TZID=America/Chicago:20221204T153000
DTSTAMP:20260424T082748
CREATED:20221123T210647Z
LAST-MODIFIED:20221123T210647Z
UID:6000-1670153400-1670167800@visitrichfield.com
SUMMARY:Holiday Tree and Wreath Sales with Santa!
DESCRIPTION:Buy a fresh tree from a local grower for the holidays: A Richfield tradition continues as Clear Lake\, Minnesota-based B&J Evergreen will sell holiday trees and stands\, garlands\, wreaths\, spruce tips\, and swags from Thanksgiving until all of the trees are sold. Premium Fraser\, Balsam\, Scotch Pine\, Canaan Fir\, and White Pine available. Open Friday-Saturday 9am-9pm\, and Sunday-Thursday 9am-8:30pm.  Santa will be here the first three weekends of sales\, 11:30 am-3:30pm!
URL:https://visitrichfield.com/event/holiday-tree-and-wreath-sales-with-santa-2/
LOCATION:Veterans Park\, 6335 Portland Avenue South\, Richfield\, MN\, 55423
CATEGORIES:Christmas,outdoors,Richfield Events
ATTACH;FMTTYPE=image/jpeg:https://visitrichfield.com/wp-content/uploads/2022/10/Trees-close-up.jpg
END:VEVENT
BEGIN:VEVENT
DTSTART;TZID=America/Chicago:20221204T130000
DTEND;TZID=America/Chicago:20221204T143000
DTSTAMP:20260424T082748
CREATED:20221123T211801Z
LAST-MODIFIED:20221123T211801Z
UID:6006-1670158800-1670164200@visitrichfield.com
SUMMARY:Make a Gingerbread House
DESCRIPTION:Make a sweet holiday memory!  Build and decorate a simple cracker and candy house. Colorful houses make a great centerpiece for holiday decorating and can be preserved…or eaten!  Online registration at woodlakenaturecenter.org is required.
URL:https://visitrichfield.com/event/make-a-gingerbread-house-2/
LOCATION:Wood Lake Nature Center\, 6710 Lake Shore Drive\, Richfield\, MN\, 55423\, United States
CATEGORIES:Christmas,Christmas,crafts,family,Halloween,holiday
ATTACH;FMTTYPE=image/jpeg:https://visitrichfield.com/wp-content/uploads/2022/11/gingerbread-house-scaled.jpg
END:VEVENT
BEGIN:VEVENT
DTSTART;TZID=America/Chicago:20221204T150000
DTEND;TZID=America/Chicago:20221204T163000
DTSTAMP:20260424T082748
CREATED:20221123T212346Z
LAST-MODIFIED:20221123T212346Z
UID:6009-1670166000-1670171400@visitrichfield.com
SUMMARY:Make a Gingerbread House
DESCRIPTION:Make a sweet holiday memory!  Build and decorate a simple cracker and candy house. Colorful houses make a great centerpiece for holiday decorating and can be preserved…or eaten!  Online registration at woodlakenaturecenter.org is required.
URL:https://visitrichfield.com/event/make-a-gingerbread-house-3/
LOCATION:Wood Lake Nature Center\, 6710 Lake Shore Drive\, Richfield\, MN\, 55423\, United States
CATEGORIES:Christmas,crafts,family,holiday
ATTACH;FMTTYPE=image/jpeg:https://visitrichfield.com/wp-content/uploads/2022/11/gingerbread-house-scaled.jpg
END:VEVENT
BEGIN:VEVENT
DTSTART;TZID=America/Chicago:20221210T100000
DTEND;TZID=America/Chicago:20221210T130000
DTSTAMP:20260424T082748
CREATED:20221205T172323Z
LAST-MODIFIED:20221205T172431Z
UID:6083-1670666400-1670677200@visitrichfield.com
SUMMARY:Santa's Coming to Penn Nutrition!
DESCRIPTION:All ages welcome for Santa’s visit to Penn Nutrition!  Face painting\, hot cocoa\, double punches on loyalty cards\, and a great prize drawing!
URL:https://visitrichfield.com/event/santas-coming-to-penn-nutrition/
LOCATION:Penn Nutrition\, 6627 Penn Avenue South\, Richfield\, MN\, 55423
CATEGORIES:Christmas,family,food and beverage,holiday
ATTACH;FMTTYPE=image/jpeg:https://visitrichfield.com/wp-content/uploads/2022/12/Santa-visit.jpg
END:VEVENT
BEGIN:VEVENT
DTSTART;TZID=America/Chicago:20221210T113000
DTEND;TZID=America/Chicago:20221210T153000
DTSTAMP:20260424T082749
CREATED:20221123T211026Z
LAST-MODIFIED:20221123T211026Z
UID:6002-1670671800-1670686200@visitrichfield.com
SUMMARY:Holiday Tree and Wreath Sales with Santa!
DESCRIPTION:Buy a fresh tree from a local grower for the holidays: A Richfield tradition continues as Clear Lake\, Minnesota-based B&J Evergreen will sell holiday trees and stands\, garlands\, wreaths\, spruce tips\, and swags from Thanksgiving until all of the trees are sold. Premium Fraser\, Balsam\, Scotch Pine\, Canaan Fir\, and White Pine available. Open Friday-Saturday 9am-9pm\, and Sunday-Thursday 9am-8:30pm.  Santa will be here the first three weekends of sales\, 11:30 am-3:30pm!
URL:https://visitrichfield.com/event/holiday-tree-and-wreath-sales-with-santa-3/
LOCATION:Veterans Park\, 6335 Portland Avenue South\, Richfield\, MN\, 55423
CATEGORIES:Christmas,family,outdoors
ATTACH;FMTTYPE=image/jpeg:https://visitrichfield.com/wp-content/uploads/2022/10/Trees-close-up.jpg
END:VEVENT
BEGIN:VEVENT
DTSTART;TZID=America/Chicago:20221211T113000
DTEND;TZID=America/Chicago:20221211T153000
DTSTAMP:20260424T082749
CREATED:20221123T211208Z
LAST-MODIFIED:20221123T211208Z
UID:6004-1670758200-1670772600@visitrichfield.com
SUMMARY:Holiday Tree and Wreath Sales with Santa!
DESCRIPTION:Buy a fresh tree from a local grower for the holidays: A Richfield tradition continues as Clear Lake\, Minnesota-based B&J Evergreen will sell holiday trees and stands\, garlands\, wreaths\, spruce tips\, and swags from Thanksgiving until all of the trees are sold. Premium Fraser\, Balsam\, Scotch Pine\, Canaan Fir\, and White Pine available. Open Friday-Saturday 9am-9pm\, and Sunday-Thursday 9am-8:30pm.  Santa will be here the first three weekends of sales\, 11:30 am-3:30pm!
URL:https://visitrichfield.com/event/holiday-tree-and-wreath-sales-with-santa-4/
LOCATION:Veterans Park\, 6335 Portland Avenue South\, Richfield\, MN\, 55423
CATEGORIES:Christmas,family,outdoors
ATTACH;FMTTYPE=image/jpeg:https://visitrichfield.com/wp-content/uploads/2022/10/Trees-close-up.jpg
END:VEVENT
BEGIN:VEVENT
DTSTART;TZID=America/Chicago:20221211T130000
DTEND;TZID=America/Chicago:20221211T140000
DTSTAMP:20260424T082749
CREATED:20221123T214147Z
LAST-MODIFIED:20221123T214147Z
UID:6014-1670763600-1670767200@visitrichfield.com
SUMMARY:Rolled Beeswax Candles
DESCRIPTION:Make beautiful candles using sheets of pure beeswax that you roll by hand around a wick. Beeswax is a natural product that burns completely and doesn’t drip or smoke. They are fun and easy to make\, look and smell great\, and make fantastic homemade holiday gifts! Clear plastic gift bags and curly ribbon are included. This is a great adult-child activity. Online registration at woodlakenaturecenter.org is preferred; walk-in registrations are allowed as space allows.
URL:https://visitrichfield.com/event/rolled-beeswax-candles-2/
LOCATION:Wood Lake Nature Center\, 6710 Lake Shore Drive\, Richfield\, MN\, 55423\, United States
CATEGORIES:crafts,family,holiday,nature
ATTACH;FMTTYPE=image/jpeg:https://visitrichfield.com/wp-content/uploads/2022/11/beeswax-candles.jpg
END:VEVENT
BEGIN:VEVENT
DTSTART;TZID=America/Chicago:20221211T140000
DTEND;TZID=America/Chicago:20221211T150000
DTSTAMP:20260424T082749
CREATED:20221123T214331Z
LAST-MODIFIED:20221123T214331Z
UID:6017-1670767200-1670770800@visitrichfield.com
SUMMARY:Rolled Beeswax Candles
DESCRIPTION:Make beautiful candles using sheets of pure beeswax that you roll by hand around a wick. Beeswax is a natural product that burns completely and doesn’t drip or smoke. They are fun and easy to make\, look and smell great\, and make fantastic homemade holiday gifts! Clear plastic gift bags and curly ribbon are included. This is a great adult-child activity. Online registration at woodlakenaturecenter.org is preferred; walk-in registrations are allowed as space allows.
URL:https://visitrichfield.com/event/rolled-beeswax-candles-3/
LOCATION:Wood Lake Nature Center\, 6710 Lake Shore Drive\, Richfield\, MN\, 55423\, United States
CATEGORIES:family,holiday,nature
ATTACH;FMTTYPE=image/jpeg:https://visitrichfield.com/wp-content/uploads/2022/11/beeswax-candles.jpg
END:VEVENT
BEGIN:VEVENT
DTSTART;TZID=America/Chicago:20221211T150000
DTEND;TZID=America/Chicago:20221211T160000
DTSTAMP:20260424T082749
CREATED:20221123T214530Z
LAST-MODIFIED:20221123T214530Z
UID:6019-1670770800-1670774400@visitrichfield.com
SUMMARY:Rolled Beeswax Candles
DESCRIPTION:Make beautiful candles using sheets of pure beeswax that you roll by hand around a wick. Beeswax is a natural product that burns completely and doesn’t drip or smoke. They are fun and easy to make\, look and smell great\, and make fantastic homemade holiday gifts! Clear plastic gift bags and curly ribbon are included. This is a great adult-child activity. Online registration at woodlakenaturecenter.org is preferred; walk-in registrations are allowed as space allows.
URL:https://visitrichfield.com/event/rolled-beeswax-candles-4/
LOCATION:Wood Lake Nature Center\, 6710 Lake Shore Drive\, Richfield\, MN\, 55423\, United States
CATEGORIES:crafts,family,holiday,nature
ATTACH;FMTTYPE=image/jpeg:https://visitrichfield.com/wp-content/uploads/2022/11/beeswax-candles.jpg
END:VEVENT
BEGIN:VEVENT
DTSTART;TZID=America/Chicago:20221211T153000
DTEND;TZID=America/Chicago:20221211T170000
DTSTAMP:20260424T082749
CREATED:20221123T214848Z
LAST-MODIFIED:20221123T214848Z
UID:6021-1670772600-1670778000@visitrichfield.com
SUMMARY:Skate with Santa
DESCRIPTION:Hey families\, lace up your skates and take to the ice with the man in the big red suit! Enjoy an afternoon of fun\, photo ops\, treats\, and refreshments. Discounted skate rental.
URL:https://visitrichfield.com/event/skate-with-santa/
LOCATION:Richfield Ice Arena
CATEGORIES:active,Christmas,family,holiday
ATTACH;FMTTYPE=image/jpeg:https://visitrichfield.com/wp-content/uploads/2022/11/Skating-with-Santa-2022.jpg
END:VEVENT
BEGIN:VEVENT
DTSTART;TZID=America/Chicago:20221215T183000
DTEND;TZID=America/Chicago:20221215T193000
DTSTAMP:20260424T082749
CREATED:20221123T215641Z
LAST-MODIFIED:20221123T215815Z
UID:6024-1671129000-1671132600@visitrichfield.com
SUMMARY:Holiday Lights Parade
DESCRIPTION:Join us for the third annual holiday lights parade! Enjoy festive music\, beautifully-lit public works vehicles\, and seeing our very special guest stars\, Santa and Mrs. Claus. Parade begins at the City Garage (1901 East 66th Street) travels south on Bloomington\, west on 70th\, and north on Lyndale\, ending at 67th and Lyndale.
URL:https://visitrichfield.com/event/holiday-lights-parade-2/
CATEGORIES:family,holiday,outdoors
ATTACH;FMTTYPE=image/jpeg:https://visitrichfield.com/wp-content/uploads/2022/11/2021-Holiday-Lights-Parade-Map-scaled.jpg
END:VEVENT
BEGIN:VEVENT
DTSTART;TZID=America/Chicago:20221231T170000
DTEND;TZID=America/Chicago:20221231T210000
DTSTAMP:20260424T082749
CREATED:20221128T222548Z
LAST-MODIFIED:20221128T222548Z
UID:6038-1672506000-1672520400@visitrichfield.com
SUMMARY:Candlelight and Ice
DESCRIPTION:Follow hundreds of candle-lit luminaries on a walking trail through cattails and trees while on the lookout for deer\, coyotes\, and owls. Enjoy the brisk winter evening and return to the amphitheater to roast marshmallows over a crackling fire and warm up with hot cocoa. Tickets should be purchased online at woodlakenaturecenter.org or on the night of the event\, as space allows. Doors open at 5:00 pm; arrive by 8:15 pm to allow for adequate time to enjoy the activities.
URL:https://visitrichfield.com/event/candlelight-and-ice/
LOCATION:Wood Lake Nature Center\, 6710 Lake Shore Drive\, Richfield\, MN\, 55423\, United States
CATEGORIES:active,family,outdoors
ATTACH;FMTTYPE=image/jpeg:https://visitrichfield.com/wp-content/uploads/2022/11/IMG_1676.jpg
END:VEVENT
END:VCALENDAR