
BEGIN:VCALENDAR
VERSION:2.0
PRODID:-//Visit Richfield - ECPv6.15.20//NONSGML v1.0//EN
CALSCALE:GREGORIAN
METHOD:PUBLISH
X-ORIGINAL-URL:https://visitrichfield.com
X-WR-CALDESC:Events for Visit Richfield
REFRESH-INTERVAL;VALUE=DURATION:PT1H
X-Robots-Tag:noindex
X-PUBLISHED-TTL:PT1H
BEGIN:VTIMEZONE
TZID:America/Chicago
BEGIN:DAYLIGHT
TZOFFSETFROM:-0600
TZOFFSETTO:-0500
TZNAME:CDT
DTSTART:20240310T080000
END:DAYLIGHT
BEGIN:STANDARD
TZOFFSETFROM:-0500
TZOFFSETTO:-0600
TZNAME:CST
DTSTART:20241103T070000
END:STANDARD
BEGIN:DAYLIGHT
TZOFFSETFROM:-0600
TZOFFSETTO:-0500
TZNAME:CDT
DTSTART:20250309T080000
END:DAYLIGHT
BEGIN:STANDARD
TZOFFSETFROM:-0500
TZOFFSETTO:-0600
TZNAME:CST
DTSTART:20251102T070000
END:STANDARD
BEGIN:DAYLIGHT
TZOFFSETFROM:-0600
TZOFFSETTO:-0500
TZNAME:CDT
DTSTART:20260308T080000
END:DAYLIGHT
BEGIN:STANDARD
TZOFFSETFROM:-0500
TZOFFSETTO:-0600
TZNAME:CST
DTSTART:20261101T070000
END:STANDARD
END:VTIMEZONE
BEGIN:VEVENT
DTSTART;TZID=America/Chicago:20250328T093000
DTEND;TZID=America/Chicago:20250328T113000
DTSTAMP:20260419T125555
CREATED:20250225T174133Z
LAST-MODIFIED:20251214T180413Z
UID:10994-1743154200-1743161400@visitrichfield.com
SUMMARY:Family Dome Day
DESCRIPTION:Enjoy open play time at the indoor\, heated Stardome at the Academy of Holy Angels in the heart of Richfield! Recreation equipment and supplies will be on site for families to use\, but you can also bring your own sports-related items. \nOpen dome time is for all ages. Registration is for each participant and available for preregistration online or walk-ups with cash. $5/person; register here.
URL:https://visitrichfield.com/event/family-dome-day-4/2025-03-28/
LOCATION:Academy of Holy Angels\, 6600 Nicollet Avenue South\, Richfield\, MN\, 55423
CATEGORIES:active,family
ATTACH;FMTTYPE=image/jpeg:https://visitrichfield.com/wp-content/uploads/2023/01/Family-Dome-Day-January-2023.jpg
END:VEVENT
END:VCALENDAR