
BEGIN:VCALENDAR
VERSION:2.0
PRODID:-//Visit Richfield - ECPv6.15.20//NONSGML v1.0//EN
CALSCALE:GREGORIAN
METHOD:PUBLISH
X-WR-CALNAME:Visit Richfield
X-ORIGINAL-URL:https://visitrichfield.com
X-WR-CALDESC:Events for Visit Richfield
REFRESH-INTERVAL;VALUE=DURATION:PT1H
X-Robots-Tag:noindex
X-PUBLISHED-TTL:PT1H
BEGIN:VTIMEZONE
TZID:America/Chicago
BEGIN:DAYLIGHT
TZOFFSETFROM:-0600
TZOFFSETTO:-0500
TZNAME:CDT
DTSTART:20230312T080000
END:DAYLIGHT
BEGIN:STANDARD
TZOFFSETFROM:-0500
TZOFFSETTO:-0600
TZNAME:CST
DTSTART:20231105T070000
END:STANDARD
BEGIN:DAYLIGHT
TZOFFSETFROM:-0600
TZOFFSETTO:-0500
TZNAME:CDT
DTSTART:20240310T080000
END:DAYLIGHT
BEGIN:STANDARD
TZOFFSETFROM:-0500
TZOFFSETTO:-0600
TZNAME:CST
DTSTART:20241103T070000
END:STANDARD
BEGIN:DAYLIGHT
TZOFFSETFROM:-0600
TZOFFSETTO:-0500
TZNAME:CDT
DTSTART:20250309T080000
END:DAYLIGHT
BEGIN:STANDARD
TZOFFSETFROM:-0500
TZOFFSETTO:-0600
TZNAME:CST
DTSTART:20251102T070000
END:STANDARD
END:VTIMEZONE
BEGIN:VEVENT
DTSTART;TZID=America/Chicago:20240509T170000
DTEND;TZID=America/Chicago:20240509T180000
DTSTAMP:20260425T170356
CREATED:20240507T224117Z
LAST-MODIFIED:20240507T224118Z
UID:10219-1715274000-1715277600@visitrichfield.com
SUMMARY:Live Music:  Amanda Grace
DESCRIPTION:Amanda is a Minnesota native singer-songwriter and multi-instrumentalist\, releasing music drifting between folk\, alt-pop/rock & Americana.  With roots as a pianist\, her writing is thematically varied with an emphasis on melody; with ballads wrapped in warm vocals. In 2016 she received a Front of the Line Pass from The Voice\, and her seventh album “Please Dear Sun” was nominated for Blues & Roots Radio Album of the Year. Amanda just released her eighth album\, “Give Me Away.”
URL:https://visitrichfield.com/event/live-music-amanda-grace/
LOCATION:Mall of America
CATEGORIES:MOA,music
ATTACH;FMTTYPE=image/jpeg:https://visitrichfield.com/wp-content/uploads/2024/05/Amanda-Grace.jpg
END:VEVENT
BEGIN:VEVENT
DTSTART;TZID=America/Chicago:20240516T170000
DTEND;TZID=America/Chicago:20240516T180000
DTSTAMP:20260425T170356
CREATED:20240507T224548Z
LAST-MODIFIED:20240507T224548Z
UID:10222-1715878800-1715882400@visitrichfield.com
SUMMARY:Live Music:  The Aftergreens
DESCRIPTION:Fusing punchy rhythms\, heartfelt harmonies\, and sincere songwriting\, the Aftergreens have carved a place for themselves within the Minneapolis music community.  Born from a childhood friendship and a love for indie rock\, they emerged from the booming Midwest house show scene in the late 2010s drawing influence from The Beach Boys\, Death Cab for Cutie\, and The Vaccines.
URL:https://visitrichfield.com/event/live-music-the-aftergreens/
LOCATION:Mall of America
CATEGORIES:MOA,music
ATTACH;FMTTYPE=image/jpeg:https://visitrichfield.com/wp-content/uploads/2024/05/The-Aftergreens.jpg
END:VEVENT
BEGIN:VEVENT
DTSTART;TZID=America/Chicago:20240517T183000
DTEND;TZID=America/Chicago:20240517T203000
DTSTAMP:20260425T170356
CREATED:20240507T225110Z
LAST-MODIFIED:20240507T225111Z
UID:10230-1715970600-1715977800@visitrichfield.com
SUMMARY:Swing Dance Night:  Mississippi Hot Club
DESCRIPTION:Grab your boogie shoes and get ready to swing the night away! Swing Dance Night\, featuring the Mississippi Hot Club\, returns to the Huntington Bank Rotunda. The night’s festivities will kick off at 6:30 p.m.\, with a dance class led by Terry and Cindy of TC Swing.  Following the lesson\, live music hits from 7 to 8:30 p.m.\, the perfect opportunity to test out your brand-new skills!  With plenty of space on the dance floor and some of the best musical talent in town\, this is a night out at the Mall you won’t want to miss!
URL:https://visitrichfield.com/event/swing-dance-night-mississippi-hot-club/
LOCATION:Mall of America
CATEGORIES:MOA,music
ATTACH;FMTTYPE=image/jpeg:https://visitrichfield.com/wp-content/uploads/2024/05/Mississippi-Hot-Club.jpg
END:VEVENT
BEGIN:VEVENT
DTSTART;TZID=America/Chicago:20240523T170000
DTEND;TZID=America/Chicago:20240523T180000
DTSTAMP:20260425T170356
CREATED:20240507T225959Z
LAST-MODIFIED:20240507T230000Z
UID:10233-1716483600-1716487200@visitrichfield.com
SUMMARY:Live Music:  Samantha Grimes
DESCRIPTION:Samantha Grimes\, bless with a mesmerizing voice and a remarkable songwriting ability\, was born and raised in Minnesota. Her natural inclination towards melodies and storytelling set her apart from her peers early on…that and the happy accident that became her signature style: Left-handed and upside-down guitar playing!  Her exceptional vocal range and poignant songwriting have earned the following accolades:  She is a 2022 and 2023 Josie Music Award Nominee in the category of “Rising Star.” She is also a multiple-time nominee for Entertainer of the Year and Songwriter of the Year from ISSA organization\, winning Entertainer of the Year in 2023! Currently\, you can catch her single “Wendy Darling” on 97.1fm Cities97\, and also her single “Cherry” on 93.7fm 93X Loud and Local.
URL:https://visitrichfield.com/event/live-music-samantha-grimes/
LOCATION:Mall of America
CATEGORIES:MOA,music
ATTACH;FMTTYPE=image/png:https://visitrichfield.com/wp-content/uploads/2024/05/Samantha-Grimes.png
END:VEVENT
BEGIN:VEVENT
DTSTART;TZID=America/Chicago:20240530T170000
DTEND;TZID=America/Chicago:20240530T180000
DTSTAMP:20260425T170356
CREATED:20240507T230414Z
LAST-MODIFIED:20240507T230415Z
UID:10236-1717088400-1717092000@visitrichfield.com
SUMMARY:Live Music: Pullstring
DESCRIPTION:Pullstring is the modern\, everyman rock band\, putting to words what it’s like to be a young adult. Hailing from the Twin Cities\, their brand of alternative rock is influenced by many artists throughout the decades\, and brings what fans call “nostalgic vibes” to listeners. Pullstring’s palette of sounds ranges from bittersweet melancholy to upbeat anthems. Pullstring has played to packed venues and festival lineups all around the Midwest.
URL:https://visitrichfield.com/event/live-music-pullstring/
LOCATION:Mall of America
CATEGORIES:MOA,music
END:VEVENT
END:VCALENDAR