
BEGIN:VCALENDAR
VERSION:2.0
PRODID:-//Visit Richfield - ECPv6.15.20//NONSGML v1.0//EN
CALSCALE:GREGORIAN
METHOD:PUBLISH
X-ORIGINAL-URL:https://visitrichfield.com
X-WR-CALDESC:Events for Visit Richfield
REFRESH-INTERVAL;VALUE=DURATION:PT1H
X-Robots-Tag:noindex
X-PUBLISHED-TTL:PT1H
BEGIN:VTIMEZONE
TZID:America/Chicago
BEGIN:DAYLIGHT
TZOFFSETFROM:-0600
TZOFFSETTO:-0500
TZNAME:CDT
DTSTART:20230312T080000
END:DAYLIGHT
BEGIN:STANDARD
TZOFFSETFROM:-0500
TZOFFSETTO:-0600
TZNAME:CST
DTSTART:20231105T070000
END:STANDARD
BEGIN:DAYLIGHT
TZOFFSETFROM:-0600
TZOFFSETTO:-0500
TZNAME:CDT
DTSTART:20240310T080000
END:DAYLIGHT
BEGIN:STANDARD
TZOFFSETFROM:-0500
TZOFFSETTO:-0600
TZNAME:CST
DTSTART:20241103T070000
END:STANDARD
BEGIN:DAYLIGHT
TZOFFSETFROM:-0600
TZOFFSETTO:-0500
TZNAME:CDT
DTSTART:20250309T080000
END:DAYLIGHT
BEGIN:STANDARD
TZOFFSETFROM:-0500
TZOFFSETTO:-0600
TZNAME:CST
DTSTART:20251102T070000
END:STANDARD
END:VTIMEZONE
BEGIN:VEVENT
DTSTART;TZID=America/Chicago:20240411T170000
DTEND;TZID=America/Chicago:20240411T180000
DTSTAMP:20260424T222802
CREATED:20240402T203646Z
LAST-MODIFIED:20240402T203646Z
UID:10020-1712854800-1712858400@visitrichfield.com
SUMMARY:Minnesota Musician Spotlight at MOA:  Clayton Ryan
DESCRIPTION:Raised in Iowa and South Dakota\, Clayton Ryan’s homegrown country soul music reverberates with a nostalgic sound + powerful songwriting. His songs have been featured in American Songwriter\, GemsOnVHS\, B-Sides & Badlands\, and Americana Road Show\, and appeared in TV + film. An accomplished multi-instrumentalist\, Clayton has performed + recorded with artists like Cristina Vane\, Liam St. John\, Humbletown\, Jalan Crossland\, Drew Peterson\, and Chad Elliott. Clayton is set to release his forthcoming record\, “Ghost Town” Summer 2024\, which is being recorded + produced by Isaac Levy (Ed Sheeran\, Shawn Mendez\, Anderson Daniels\, Yam Haus\, Ryan Lewis.)
URL:https://visitrichfield.com/event/minnesota-musician-spotlight-at-moa-clayton-ryan/
LOCATION:Mall of America
CATEGORIES:MOA,music
ATTACH;FMTTYPE=image/jpeg:https://visitrichfield.com/wp-content/uploads/2024/04/Clayton-Ryan.jpg
END:VEVENT
END:VCALENDAR