
BEGIN:VCALENDAR
VERSION:2.0
PRODID:-//Visit Richfield - ECPv6.15.20//NONSGML v1.0//EN
CALSCALE:GREGORIAN
METHOD:PUBLISH
X-WR-CALNAME:Visit Richfield
X-ORIGINAL-URL:https://visitrichfield.com
X-WR-CALDESC:Events for Visit Richfield
REFRESH-INTERVAL;VALUE=DURATION:PT1H
X-Robots-Tag:noindex
X-PUBLISHED-TTL:PT1H
BEGIN:VTIMEZONE
TZID:America/Chicago
BEGIN:DAYLIGHT
TZOFFSETFROM:-0600
TZOFFSETTO:-0500
TZNAME:CDT
DTSTART:20230312T080000
END:DAYLIGHT
BEGIN:STANDARD
TZOFFSETFROM:-0500
TZOFFSETTO:-0600
TZNAME:CST
DTSTART:20231105T070000
END:STANDARD
BEGIN:DAYLIGHT
TZOFFSETFROM:-0600
TZOFFSETTO:-0500
TZNAME:CDT
DTSTART:20240310T080000
END:DAYLIGHT
BEGIN:STANDARD
TZOFFSETFROM:-0500
TZOFFSETTO:-0600
TZNAME:CST
DTSTART:20241103T070000
END:STANDARD
BEGIN:DAYLIGHT
TZOFFSETFROM:-0600
TZOFFSETTO:-0500
TZNAME:CDT
DTSTART:20250309T080000
END:DAYLIGHT
BEGIN:STANDARD
TZOFFSETFROM:-0500
TZOFFSETTO:-0600
TZNAME:CST
DTSTART:20251102T070000
END:STANDARD
END:VTIMEZONE
BEGIN:VEVENT
DTSTART;TZID=America/Chicago:20240709T183000
DTEND;TZID=America/Chicago:20240709T193000
DTSTAMP:20260424T171723
CREATED:20240707T232516Z
LAST-MODIFIED:20240707T232516Z
UID:10357-1720549800-1720553400@visitrichfield.com
SUMMARY:Entertainment in the Park:  Ecuador Manta
DESCRIPTION:Don’t miss Richfield’s weekly music series at the Veterans Park Band Shell! This week:  Ecuador Manta! \nThis Andean band originates from a small village called Atahualpa in Ecuador\, South America. Ecuador Manta\, based in St. Paul Minnesota\, started in 1992. The group has a unique style compared to other traditional Andean bands. They have created their music style over the years by using the traditional rhythms from Ecuador\, Peru\, Bolivia and Colombia and combining them with more contemporary Latin and Caribbean rhythms. \nEcuador Manta creates music by using the traditional instruments of the Andes which include\, the zampona\, a wind flute made from bamboo\, the quena which is similar to The Recorder but made from wood\, the charango\, a small 10 string guitar made from armadillo shell and the bombo\, a goat skinned drum.  The musicians preserve the beauty of the traditional music and combine other rhythms using the guitar\, bass guitar\, violin and latin percussion. \nIf weather looks uncertain\, call the weather line at 612-861-9189\, option #3.
URL:https://visitrichfield.com/event/entertainment-in-the-park-ecuador-manta/
LOCATION:Richfield Band Shell\, 636 East 66th Street\, Richfield\, MN\, 55423
CATEGORIES:culture,music
ATTACH;FMTTYPE=image/jpeg:https://visitrichfield.com/wp-content/uploads/2024/07/Ecuador-Manta.jpg
END:VEVENT
END:VCALENDAR