
BEGIN:VCALENDAR
VERSION:2.0
PRODID:-//Visit Richfield - ECPv6.15.20//NONSGML v1.0//EN
CALSCALE:GREGORIAN
METHOD:PUBLISH
X-WR-CALNAME:Visit Richfield
X-ORIGINAL-URL:https://visitrichfield.com
X-WR-CALDESC:Events for Visit Richfield
REFRESH-INTERVAL;VALUE=DURATION:PT1H
X-Robots-Tag:noindex
X-PUBLISHED-TTL:PT1H
BEGIN:VTIMEZONE
TZID:America/Chicago
BEGIN:DAYLIGHT
TZOFFSETFROM:-0600
TZOFFSETTO:-0500
TZNAME:CDT
DTSTART:20230312T080000
END:DAYLIGHT
BEGIN:STANDARD
TZOFFSETFROM:-0500
TZOFFSETTO:-0600
TZNAME:CST
DTSTART:20231105T070000
END:STANDARD
BEGIN:DAYLIGHT
TZOFFSETFROM:-0600
TZOFFSETTO:-0500
TZNAME:CDT
DTSTART:20240310T080000
END:DAYLIGHT
BEGIN:STANDARD
TZOFFSETFROM:-0500
TZOFFSETTO:-0600
TZNAME:CST
DTSTART:20241103T070000
END:STANDARD
BEGIN:DAYLIGHT
TZOFFSETFROM:-0600
TZOFFSETTO:-0500
TZNAME:CDT
DTSTART:20250309T080000
END:DAYLIGHT
BEGIN:STANDARD
TZOFFSETFROM:-0500
TZOFFSETTO:-0600
TZNAME:CST
DTSTART:20251102T070000
END:STANDARD
END:VTIMEZONE
BEGIN:VEVENT
DTSTART;TZID=America/Chicago:20240711T170000
DTEND;TZID=America/Chicago:20240711T180000
DTSTAMP:20260425T085828
CREATED:20240708T165158Z
LAST-MODIFIED:20240708T165158Z
UID:10396-1720717200-1720720800@visitrichfield.com
SUMMARY:Minnesota Musician Spotlight:  Brother Jon
DESCRIPTION:Featured at the Mall of America:  Brother Jon is a staple of the Twin Cities music scene. Either fronting Brother Jon Band or doing solo gigs\, Brother Jon shares his music wherever the wind takes him. You can hear his stories in his songs.  Free for all in the Huntington Bank Rotunda at the Mall of America.
URL:https://visitrichfield.com/event/minnesota-musician-spotlight-brother-jon/
LOCATION:Mall of America
CATEGORIES:music
ATTACH;FMTTYPE=image/jpeg:https://visitrichfield.com/wp-content/uploads/2024/07/Brother-Jon.jpg
END:VEVENT
END:VCALENDAR