
BEGIN:VCALENDAR
VERSION:2.0
PRODID:-//Visit Richfield - ECPv6.15.20//NONSGML v1.0//EN
CALSCALE:GREGORIAN
METHOD:PUBLISH
X-WR-CALNAME:Visit Richfield
X-ORIGINAL-URL:https://visitrichfield.com
X-WR-CALDESC:Events for Visit Richfield
REFRESH-INTERVAL;VALUE=DURATION:PT1H
X-Robots-Tag:noindex
X-PUBLISHED-TTL:PT1H
BEGIN:VTIMEZONE
TZID:America/Chicago
BEGIN:DAYLIGHT
TZOFFSETFROM:-0600
TZOFFSETTO:-0500
TZNAME:CDT
DTSTART:20230312T080000
END:DAYLIGHT
BEGIN:STANDARD
TZOFFSETFROM:-0500
TZOFFSETTO:-0600
TZNAME:CST
DTSTART:20231105T070000
END:STANDARD
BEGIN:DAYLIGHT
TZOFFSETFROM:-0600
TZOFFSETTO:-0500
TZNAME:CDT
DTSTART:20240310T080000
END:DAYLIGHT
BEGIN:STANDARD
TZOFFSETFROM:-0500
TZOFFSETTO:-0600
TZNAME:CST
DTSTART:20241103T070000
END:STANDARD
BEGIN:DAYLIGHT
TZOFFSETFROM:-0600
TZOFFSETTO:-0500
TZNAME:CDT
DTSTART:20250309T080000
END:DAYLIGHT
BEGIN:STANDARD
TZOFFSETFROM:-0500
TZOFFSETTO:-0600
TZNAME:CST
DTSTART:20251102T070000
END:STANDARD
END:VTIMEZONE
BEGIN:VEVENT
DTSTART;TZID=America/Chicago:20240820T190000
DTEND;TZID=America/Chicago:20240820T203000
DTSTAMP:20260424T062917
CREATED:20240729T171439Z
LAST-MODIFIED:20240729T171440Z
UID:10439-1724180400-1724185800@visitrichfield.com
SUMMARY:Live at Lyndale Gardens:  History-on-a-Shtick and Honeywine
DESCRIPTION:A show usually only seen at the State Fair comes to Richfield!  With appearances by Betty Crocker\, Paul Bunyan\, and The Dough Boy.  The Minnesota History Center and the State Fair Foundation commissioned this musicale in 2015\, and it’s been entertaining fairgoers ever since.  Hear the “Ten Thousand Lake Polka\,” watch Betty Crocker host a quiz show with Minnesota icons\, and listen to Paul Bunyan’s sweetheart Lucette sing “It’s All About Paul.” \nPlus\, all-original trio Honeywine step onto the stage to share their pure\, sweet\, Americana sound.  Free to all.
URL:https://visitrichfield.com/event/live-at-lyndale-gardens-history-on-a-shtick-and-honeywine-2/
LOCATION:Amphitheater at Lyndale Gardens\, 6400 Lyndale Avenue South\, Richfield\, MN\, 55423
CATEGORIES:music
ATTACH;FMTTYPE=image/jpeg:https://visitrichfield.com/wp-content/uploads/2024/07/Honeywine.jpg
END:VEVENT
END:VCALENDAR