
BEGIN:VCALENDAR
VERSION:2.0
PRODID:-//Visit Richfield - ECPv6.15.20//NONSGML v1.0//EN
CALSCALE:GREGORIAN
METHOD:PUBLISH
X-ORIGINAL-URL:https://visitrichfield.com
X-WR-CALDESC:Events for Visit Richfield
REFRESH-INTERVAL;VALUE=DURATION:PT1H
X-Robots-Tag:noindex
X-PUBLISHED-TTL:PT1H
BEGIN:VTIMEZONE
TZID:America/Chicago
BEGIN:DAYLIGHT
TZOFFSETFROM:-0600
TZOFFSETTO:-0500
TZNAME:CDT
DTSTART:20240310T080000
END:DAYLIGHT
BEGIN:STANDARD
TZOFFSETFROM:-0500
TZOFFSETTO:-0600
TZNAME:CST
DTSTART:20241103T070000
END:STANDARD
BEGIN:DAYLIGHT
TZOFFSETFROM:-0600
TZOFFSETTO:-0500
TZNAME:CDT
DTSTART:20250309T080000
END:DAYLIGHT
BEGIN:STANDARD
TZOFFSETFROM:-0500
TZOFFSETTO:-0600
TZNAME:CST
DTSTART:20251102T070000
END:STANDARD
BEGIN:DAYLIGHT
TZOFFSETFROM:-0600
TZOFFSETTO:-0500
TZNAME:CDT
DTSTART:20260308T080000
END:DAYLIGHT
BEGIN:STANDARD
TZOFFSETFROM:-0500
TZOFFSETTO:-0600
TZNAME:CST
DTSTART:20261101T070000
END:STANDARD
END:VTIMEZONE
BEGIN:VEVENT
DTSTART;TZID=America/Chicago:20251209T100000
DTEND;TZID=America/Chicago:20251209T120000
DTSTAMP:20260425T171417
CREATED:20251201T173536Z
LAST-MODIFIED:20251201T173537Z
UID:11735-1765274400-1765281600@visitrichfield.com
SUMMARY:Toddler Tuesdays LIVE: Winter Wonderland at MOA
DESCRIPTION:Get into the holiday spirit with MOA! The Huntington Bank Rotunda will transform into a winter wonderland for toddlers and families.  Join us for festive crafts\, photo opportunities\, and seasonal surprises. Who knows\, it might even snow!  Free.
URL:https://visitrichfield.com/event/toddler-tuesdays-live-winter-wonderland-at-moa/
LOCATION:Mall of America
CATEGORIES:kids
ATTACH;FMTTYPE=image/jpeg:https://visitrichfield.com/wp-content/uploads/2025/12/585320352_1166087722333193_7945851370792125576_n.jpg
END:VEVENT
BEGIN:VEVENT
DTSTART;TZID=America/Chicago:20251214T150000
DTEND;TZID=America/Chicago:20251214T163000
DTSTAMP:20260425T171417
CREATED:20251201T180140Z
LAST-MODIFIED:20251201T180141Z
UID:11740-1765724400-1765729800@visitrichfield.com
SUMMARY:Adam Bohanan Presents: A Very Funky Hanukkah Show
DESCRIPTION:December is a joyous season to celebrate holidays together. Though the best music so far has been Christmas music…NOT ANYMORE! This show will celebrate Hanukkah music!  Inspired by the best Hanukkah song of all time\, “8 Days Of Hanukkah” by Sharon Jones and the Dap Kings\, we set out to combine Soul\, Funk\, and R’n’B with the rich history of Judaism and childhood memories. \nJoin us at the Mall of America for a one-of-a-kind performance from Adam Bohanan\, accompanied by a powerhouse band\, to enjoy the magic of the season together!
URL:https://visitrichfield.com/event/adam-bohanan-presents-a-very-funky-hanukkah-show/
LOCATION:Mall of America
CATEGORIES:music
ATTACH;FMTTYPE=image/jpeg:https://visitrichfield.com/wp-content/uploads/2025/12/Funky-Hannukkah-MOA.jpg
END:VEVENT
BEGIN:VEVENT
DTSTART;TZID=America/Chicago:20251214T191500
DTEND;TZID=America/Chicago:20251214T210000
DTSTAMP:20260425T171417
CREATED:20251201T180523Z
LAST-MODIFIED:20251201T180524Z
UID:11742-1765739700-1765746000@visitrichfield.com
SUMMARY:Pet Night with Santa at MOA
DESCRIPTION:Bring your pet to Mall of America to have their photo taken with Santa! Appointment required. Pets of all kinds and their families are welcome to take part in this photo opportunity with Santa. See official event guidelines here and be sure to fill out the waiver before you arrive. To book your experience\, visit www.TheSantaExperienceMN.com.
URL:https://visitrichfield.com/event/pet-night-with-santa-at-moa/
LOCATION:Mall of America
CATEGORIES:pets
ATTACH;FMTTYPE=image/jpeg:https://visitrichfield.com/wp-content/uploads/2025/12/Santa-Pet-night.jpg
END:VEVENT
BEGIN:VEVENT
DTSTART;TZID=America/Chicago:20251219T183000
DTEND;TZID=America/Chicago:20251219T203000
DTSTAMP:20260425T171417
CREATED:20251201T181028Z
LAST-MODIFIED:20251201T181029Z
UID:11745-1766169000-1766176200@visitrichfield.com
SUMMARY:Holiday Swing Dance at MOA
DESCRIPTION:Grab your boogie shoes and get ready to swing Together! Swing Dance Night (featuring The Holy Rocka Rollaz) returns to the MOA. The night’s festivities will kick off at 6:30 p.m.\, with a dance class led by TC Swing. Following the lesson\, live music hits from 7 – 8:30 p.m.\, the perfect opportunity to test out your brand-new skills! With plenty of space on the dance floor + some of the best musical talent in town\, this is a holiday celebration you won’t want to miss!
URL:https://visitrichfield.com/event/holiday-swing-dance-at-moa/
LOCATION:Mall of America
CATEGORIES:dance
ATTACH;FMTTYPE=image/jpeg:https://visitrichfield.com/wp-content/uploads/2025/12/Holy-Rocka-Rollaz.jpg
END:VEVENT
END:VCALENDAR