
BEGIN:VCALENDAR
VERSION:2.0
PRODID:-//Visit Richfield - ECPv6.15.20//NONSGML v1.0//EN
CALSCALE:GREGORIAN
METHOD:PUBLISH
X-ORIGINAL-URL:https://visitrichfield.com
X-WR-CALDESC:Events for Visit Richfield
REFRESH-INTERVAL;VALUE=DURATION:PT1H
X-Robots-Tag:noindex
X-PUBLISHED-TTL:PT1H
BEGIN:VTIMEZONE
TZID:America/Chicago
BEGIN:DAYLIGHT
TZOFFSETFROM:-0600
TZOFFSETTO:-0500
TZNAME:CDT
DTSTART:20230312T080000
END:DAYLIGHT
BEGIN:STANDARD
TZOFFSETFROM:-0500
TZOFFSETTO:-0600
TZNAME:CST
DTSTART:20231105T070000
END:STANDARD
BEGIN:DAYLIGHT
TZOFFSETFROM:-0600
TZOFFSETTO:-0500
TZNAME:CDT
DTSTART:20240310T080000
END:DAYLIGHT
BEGIN:STANDARD
TZOFFSETFROM:-0500
TZOFFSETTO:-0600
TZNAME:CST
DTSTART:20241103T070000
END:STANDARD
BEGIN:DAYLIGHT
TZOFFSETFROM:-0600
TZOFFSETTO:-0500
TZNAME:CDT
DTSTART:20250309T080000
END:DAYLIGHT
BEGIN:STANDARD
TZOFFSETFROM:-0500
TZOFFSETTO:-0600
TZNAME:CST
DTSTART:20251102T070000
END:STANDARD
END:VTIMEZONE
BEGIN:VEVENT
DTSTART;TZID=America/Chicago:20240304T183000
DTEND;TZID=America/Chicago:20240304T200000
DTSTAMP:20260421T173851
CREATED:20230401T213437Z
LAST-MODIFIED:20240224T213841Z
UID:6456-1709577000-1709582400@visitrichfield.com
SUMMARY:Wood Lake Book Club
DESCRIPTION:Join other adults to discuss Half-Earth: Our Planet’s Fight for Life by Edward O. Wilson.  The author urges swift movement to preserve the biodiversity of our planet. \nRefreshments provided; books are available at local libraries or may be available for loan through the nature center. $5/person; free for members. Online registration is preferred at woodlakenaturecenter.org. \n 
URL:https://visitrichfield.com/event/wood-lake-book-club-2024-03-04/
LOCATION:Wood Lake Nature Center\, 6710 Lake Shore Drive\, Richfield\, MN\, 55423\, United States
CATEGORIES:books,nature,Wood Lake
ATTACH;FMTTYPE=image/jpeg:https://visitrichfield.com/wp-content/uploads/2024/02/Half-Earth.jpg
END:VEVENT
BEGIN:VEVENT
DTSTART;TZID=America/Chicago:20240309T150000
DTEND;TZID=America/Chicago:20240309T163000
DTSTAMP:20260421T173851
CREATED:20240224T215701Z
LAST-MODIFIED:20240224T220433Z
UID:9945-1709996400-1710001800@visitrichfield.com
SUMMARY:Magical Maple Syrup
DESCRIPTION:Hike into Wood Lake’s sugar bush to help tap trees. Learn how syrup is made while watching sap boil in the evaporator. Discover the cultural significance and natural history of this amazing tree as we taste delicious maple treats!  $5 per person; 50% off for members.  Register here.
URL:https://visitrichfield.com/event/magical-maple-syrup-2/2024-03-09/
LOCATION:Wood Lake Nature Center\, 6710 Lake Shore Drive\, Richfield\, MN\, 55423\, United States
CATEGORIES:family,nature,outdoors
ATTACH;FMTTYPE=image/jpeg:https://visitrichfield.com/wp-content/uploads/2024/02/Tapped-maple.jpg
END:VEVENT
BEGIN:VEVENT
DTSTART;TZID=America/Chicago:20240316T100000
DTEND;TZID=America/Chicago:20240316T110000
DTSTAMP:20260421T173851
CREATED:20240224T221339Z
LAST-MODIFIED:20240224T221340Z
UID:9963-1710583200-1710586800@visitrichfield.com
SUMMARY:Live Animal Hour
DESCRIPTION:Meet Wood Lake Nature Center’s animal ambassadors up close! Come learn about some of the reptiles and amphibians native to Minnesota and make an animal craft to take home. $5/person; 50% off for members; register here.
URL:https://visitrichfield.com/event/live-animal-hour-7/
LOCATION:Wood Lake Nature Center\, 6710 Lake Shore Drive\, Richfield\, MN\, 55423\, United States
CATEGORIES:animals,nature
ATTACH;FMTTYPE=image/jpeg:https://visitrichfield.com/wp-content/uploads/2023/12/Live-Animal-Hour.jpg
END:VEVENT
END:VCALENDAR